| Back to Multiple platform build/check report for BioC 3.18: simplified long |
|
This page was generated on 2023-11-02 11:41:21 -0400 (Thu, 02 Nov 2023).
| Hostname | OS | Arch (*) | R version | Installed pkgs |
|---|---|---|---|---|
| nebbiolo2 | Linux (Ubuntu 22.04.2 LTS) | x86_64 | 4.3.1 (2023-06-16) -- "Beagle Scouts" | 4729 |
| palomino4 | Windows Server 2022 Datacenter | x64 | 4.3.1 (2023-06-16 ucrt) -- "Beagle Scouts" | 4463 |
| lconway | macOS 12.6.5 Monterey | x86_64 | 4.3.1 Patched (2023-06-17 r84564) -- "Beagle Scouts" | 4478 |
| kunpeng2 | Linux (openEuler 22.03 LTS-SP1) | aarch64 | 4.3.1 (2023-06-16) -- "Beagle Scouts" | 4464 |
| Click on any hostname to see more info about the system (e.g. compilers) (*) as reported by 'uname -p', except on Windows and Mac OS X | ||||
| Package 2095/2266 | Hostname | OS / Arch | INSTALL | BUILD | CHECK | BUILD BIN | ||||||||
| SynExtend 1.14.0 (landing page) Nicholas Cooley
| nebbiolo2 | Linux (Ubuntu 22.04.2 LTS) / x86_64 | OK | OK | OK | |||||||||
| palomino4 | Windows Server 2022 Datacenter / x64 | OK | OK | OK | OK | |||||||||
| lconway | macOS 12.6.5 Monterey / x86_64 | OK | OK | OK | OK | |||||||||
| kjohnson1 | macOS 13.6.1 Ventura / arm64 | see weekly results here | ||||||||||||
| kunpeng2 | Linux (openEuler 22.03 LTS-SP1) / aarch64 | OK | OK | OK | ||||||||||
|
To the developers/maintainers of the SynExtend package: - Allow up to 24 hours (and sometimes 48 hours) for your latest push to git@git.bioconductor.org:packages/SynExtend.git to reflect on this report. See Troubleshooting Build Report for more information. - Use the following Renviron settings to reproduce errors and warnings. - If 'R CMD check' started to fail recently on the Linux builder(s) over a missing dependency, add the missing dependency to 'Suggests:' in your DESCRIPTION file. See Renviron.bioc for more information. - See Martin Grigorov's blog post for how to debug Linux ARM64 related issues on a x86_64 host. |
| Package: SynExtend |
| Version: 1.14.0 |
| Command: /home/biocbuild/R/R-4.3.1/bin/R CMD check --install=check:SynExtend.install-out.txt --library=/home/biocbuild/R/R-4.3.1/site-library --no-vignettes --timings SynExtend_1.14.0.tar.gz |
| StartedAt: 2023-11-02 14:46:51 -0000 (Thu, 02 Nov 2023) |
| EndedAt: 2023-11-02 14:50:15 -0000 (Thu, 02 Nov 2023) |
| EllapsedTime: 204.4 seconds |
| RetCode: 0 |
| Status: OK |
| CheckDir: SynExtend.Rcheck |
| Warnings: 0 |
##############################################################################
##############################################################################
###
### Running command:
###
### /home/biocbuild/R/R-4.3.1/bin/R CMD check --install=check:SynExtend.install-out.txt --library=/home/biocbuild/R/R-4.3.1/site-library --no-vignettes --timings SynExtend_1.14.0.tar.gz
###
##############################################################################
##############################################################################
* using log directory ‘/home/biocbuild/bbs-3.18-bioc/meat/SynExtend.Rcheck’
* using R version 4.3.1 (2023-06-16)
* using platform: aarch64-unknown-linux-gnu (64-bit)
* R was compiled by
gcc (GCC) 10.3.1
GNU Fortran (GCC) 10.3.1
* running under: openEuler 22.03 (LTS-SP1)
* using session charset: UTF-8
* using option ‘--no-vignettes’
* checking for file ‘SynExtend/DESCRIPTION’ ... OK
* checking extension type ... Package
* this is package ‘SynExtend’ version ‘1.14.0’
* package encoding: UTF-8
* checking package namespace information ... OK
* checking package dependencies ... OK
* checking if this is a source package ... OK
* checking if there is a namespace ... OK
* checking for hidden files and directories ... OK
* checking for portable file names ... OK
* checking for sufficient/correct file permissions ... OK
* checking whether package ‘SynExtend’ can be installed ... OK
* used C compiler: ‘gcc (GCC) 10.3.1’
* checking installed package size ... OK
* checking package directory ... OK
* checking ‘build’ directory ... OK
* checking DESCRIPTION meta-information ... OK
* checking top-level files ... OK
* checking for left-over files ... OK
* checking index information ... OK
* checking package subdirectories ... OK
* checking R files for non-ASCII characters ... OK
* checking R files for syntax errors ... OK
* checking whether the package can be loaded ... OK
* checking whether the package can be loaded with stated dependencies ... OK
* checking whether the package can be unloaded cleanly ... OK
* checking whether the namespace can be loaded with stated dependencies ... OK
* checking whether the namespace can be unloaded cleanly ... OK
* checking loading without being on the library search path ... OK
* checking dependencies in R code ... OK
* checking S3 generic/method consistency ... OK
* checking replacement functions ... OK
* checking foreign function calls ... OK
* checking R code for possible problems ... OK
* checking Rd files ... OK
* checking Rd metadata ... OK
* checking Rd cross-references ... OK
* checking for missing documentation entries ... OK
* checking for code/documentation mismatches ... OK
* checking Rd \usage sections ... OK
* checking Rd contents ... OK
* checking for unstated dependencies in examples ... OK
* checking contents of ‘data’ directory ... OK
* checking data for non-ASCII characters ... OK
* checking data for ASCII and uncompressed saves ... OK
* checking line endings in C/C++/Fortran sources/headers ... OK
* checking line endings in Makefiles ... OK
* checking compilation flags in Makevars ... OK
* checking for GNU extensions in Makefiles ... OK
* checking for portable use of $(BLAS_LIBS) and $(LAPACK_LIBS) ... OK
* checking use of PKG_*FLAGS in Makefiles ... OK
* checking compiled code ... NOTE
Note: information on .o files is not available
* checking files in ‘vignettes’ ... OK
* checking examples ... OK
Examples with CPU (user + system) or elapsed time > 5s
user system elapsed
predict.EvoWeaver 20.323 0.210 20.569
BuiltInEnsembles 17.493 0.281 17.834
BlockExpansion 11.988 0.175 12.221
gffToDataFrame 9.644 0.044 9.704
* checking for unstated dependencies in vignettes ... OK
* checking package vignettes in ‘inst/doc’ ... OK
* checking running R code from vignettes ... SKIPPED
* checking re-building of vignette outputs ... SKIPPED
* checking PDF version of manual ... OK
* DONE
Status: 1 NOTE
See
‘/home/biocbuild/bbs-3.18-bioc/meat/SynExtend.Rcheck/00check.log’
for details.
SynExtend.Rcheck/00install.out
############################################################################## ############################################################################## ### ### Running command: ### ### /home/biocbuild/R/R-4.3.1/bin/R CMD INSTALL SynExtend ### ############################################################################## ############################################################################## * installing to library ‘/home/biocbuild/R/R-4.3.1/site-library’ * installing *source* package ‘SynExtend’ ... ** using staged installation ** libs using C compiler: ‘gcc (GCC) 10.3.1’ gcc -I"/home/biocbuild/R/R-4.3.1/include" -DNDEBUG -I/usr/local/include -fopenmp -fPIC -g -O2 -Wall -c CDend.c -o CDend.o gcc -I"/home/biocbuild/R/R-4.3.1/include" -DNDEBUG -I/usr/local/include -fopenmp -fPIC -g -O2 -Wall -c CShuffle.c -o CShuffle.o gcc -I"/home/biocbuild/R/R-4.3.1/include" -DNDEBUG -I/usr/local/include -fopenmp -fPIC -g -O2 -Wall -c HungarianAlgo.c -o HungarianAlgo.o gcc -I"/home/biocbuild/R/R-4.3.1/include" -DNDEBUG -I/usr/local/include -fopenmp -fPIC -g -O2 -Wall -c MoranI.c -o MoranI.o gcc -I"/home/biocbuild/R/R-4.3.1/include" -DNDEBUG -I/usr/local/include -fopenmp -fPIC -g -O2 -Wall -c NucleotideCounts.c -o NucleotideCounts.o gcc -I"/home/biocbuild/R/R-4.3.1/include" -DNDEBUG -I/usr/local/include -fopenmp -fPIC -g -O2 -Wall -c R_init_synextend.c -o R_init_synextend.o gcc -I"/home/biocbuild/R/R-4.3.1/include" -DNDEBUG -I/usr/local/include -fopenmp -fPIC -g -O2 -Wall -c SEutils.c -o SEutils.o gcc -I"/home/biocbuild/R/R-4.3.1/include" -DNDEBUG -I/usr/local/include -fopenmp -fPIC -g -O2 -Wall -c XORRand.c -o XORRand.o gcc -I"/home/biocbuild/R/R-4.3.1/include" -DNDEBUG -I/usr/local/include -fopenmp -fPIC -g -O2 -Wall -c calcMIR2C.c -o calcMIR2C.o gcc -I"/home/biocbuild/R/R-4.3.1/include" -DNDEBUG -I/usr/local/include -fopenmp -fPIC -g -O2 -Wall -c dendrapply.c -o dendrapply.o gcc -shared -L/home/biocbuild/R/R-4.3.1/lib -L/usr/local/lib -o SynExtend.so CDend.o CShuffle.o HungarianAlgo.o MoranI.o NucleotideCounts.o R_init_synextend.o SEutils.o XORRand.o calcMIR2C.o dendrapply.o -fopenmp -L/home/biocbuild/R/R-4.3.1/lib -lR installing to /home/biocbuild/R/R-4.3.1/site-library/00LOCK-SynExtend/00new/SynExtend/libs ** R ** data ** inst ** byte-compile and prepare package for lazy loading ** help *** installing help indices ** building package indices ** installing vignettes ** testing if installed package can be loaded from temporary location ** checking absolute paths in shared objects and dynamic libraries ** testing if installed package can be loaded from final location ** testing if installed package keeps a record of temporary installation path * DONE (SynExtend)
SynExtend.Rcheck/SynExtend-Ex.timings
| name | user | system | elapsed | |
| BlastSeqs | 0.001 | 0.000 | 0.000 | |
| BlockExpansion | 11.988 | 0.175 | 12.221 | |
| BlockReconciliation | 0.219 | 0.000 | 0.220 | |
| BuiltInEnsembles | 17.493 | 0.281 | 17.834 | |
| CIDist_NullDist | 0.001 | 0.000 | 0.002 | |
| DPhyloStatistic | 0.047 | 0.000 | 0.048 | |
| DisjointSet | 0.022 | 0.008 | 0.030 | |
| Endosymbionts_GeneCalls | 0.013 | 0.000 | 0.013 | |
| Endosymbionts_LinkedFeatures | 0.014 | 0.000 | 0.014 | |
| Endosymbionts_Pairs01 | 0.015 | 0.000 | 0.015 | |
| Endosymbionts_Pairs02 | 0.014 | 0.000 | 0.014 | |
| Endosymbionts_Pairs03 | 0.014 | 0.000 | 0.014 | |
| Endosymbionts_Sets | 0.001 | 0.000 | 0.002 | |
| Endosymbionts_Synteny | 0.002 | 0.000 | 0.002 | |
| EstimRearrScen | 1.902 | 0.076 | 1.984 | |
| EvoWeaver | 0.000 | 0.004 | 0.005 | |
| EvoWeb | 0.119 | 0.048 | 0.166 | |
| ExampleStreptomycesData | 1.894 | 0.046 | 1.942 | |
| ExtractBy | 0.273 | 0.000 | 0.273 | |
| FastQFromSRR | 0 | 0 | 0 | |
| FindSets | 0.001 | 0.000 | 0.001 | |
| FitchParsimony | 0.11 | 0.00 | 0.11 | |
| Generic | 0.003 | 0.000 | 0.003 | |
| MakeBlastDb | 0 | 0 | 0 | |
| MoransI | 0.001 | 0.000 | 0.001 | |
| NucleotideOverlap | 0.355 | 0.008 | 0.365 | |
| PairSummaries | 2.724 | 0.056 | 2.784 | |
| PhyloDistance-CI | 0.005 | 0.000 | 0.005 | |
| PhyloDistance-JRF | 0.004 | 0.000 | 0.004 | |
| PhyloDistance-KF | 0.002 | 0.000 | 0.002 | |
| PhyloDistance-RF | 0.003 | 0.000 | 0.003 | |
| PhyloDistance | 0.006 | 0.000 | 0.005 | |
| SelectByK | 0.127 | 0.004 | 0.131 | |
| SequenceSimilarity | 0.082 | 0.000 | 0.087 | |
| SubSetPairs | 0.06 | 0.00 | 0.06 | |
| SuperTree | 1.418 | 0.028 | 1.447 | |
| SuperTreeEx | 0.070 | 0.004 | 0.073 | |
| dendrapply | 0.15 | 0.00 | 0.15 | |
| gffToDataFrame | 9.644 | 0.044 | 9.704 | |
| plot.EvoWeb | 0.820 | 0.008 | 0.830 | |
| predict.EvoWeaver | 20.323 | 0.210 | 20.569 | |
| simMat | 0.025 | 0.000 | 0.025 | |
| subset-dendrogram | 0.063 | 0.000 | 0.064 | |