| Back to Multiple platform build/check report for BioC 3.18: simplified long |
|
This page was generated on 2024-03-04 11:37:54 -0500 (Mon, 04 Mar 2024).
| Hostname | OS | Arch (*) | R version | Installed pkgs |
|---|---|---|---|---|
| nebbiolo2 | Linux (Ubuntu 22.04.3 LTS) | x86_64 | 4.3.2 Patched (2023-11-13 r85521) -- "Eye Holes" | 4692 |
| palomino4 | Windows Server 2022 Datacenter | x64 | 4.3.2 (2023-10-31 ucrt) -- "Eye Holes" | 4445 |
| lconway | macOS 12.7.1 Monterey | x86_64 | 4.3.2 Patched (2023-11-01 r85457) -- "Eye Holes" | 4466 |
| Click on any hostname to see more info about the system (e.g. compilers) (*) as reported by 'uname -p', except on Windows and Mac OS X | ||||
| Package 2030/2266 | Hostname | OS / Arch | INSTALL | BUILD | CHECK | BUILD BIN | ||||||||
| SpliceWiz 1.4.1 (landing page) Alex Chit Hei Wong
| nebbiolo2 | Linux (Ubuntu 22.04.3 LTS) / x86_64 | OK | OK | OK | |||||||||
| palomino4 | Windows Server 2022 Datacenter / x64 | OK | OK | OK | OK | |||||||||
| lconway | macOS 12.7.1 Monterey / x86_64 | OK | OK | OK | OK | |||||||||
| kjohnson1 | macOS 13.6.1 Ventura / arm64 | see weekly results here | ||||||||||||
|
To the developers/maintainers of the SpliceWiz package: - Allow up to 24 hours (and sometimes 48 hours) for your latest push to git@git.bioconductor.org:packages/SpliceWiz.git to reflect on this report. See Troubleshooting Build Report for more information. - Use the following Renviron settings to reproduce errors and warnings. - If 'R CMD check' started to fail recently on the Linux builder(s) over a missing dependency, add the missing dependency to 'Suggests:' in your DESCRIPTION file. See Renviron.bioc for more information. |
| Package: SpliceWiz |
| Version: 1.4.1 |
| Command: /Library/Frameworks/R.framework/Resources/bin/R CMD check --install=check:SpliceWiz.install-out.txt --library=/Library/Frameworks/R.framework/Resources/library --no-vignettes --timings SpliceWiz_1.4.1.tar.gz |
| StartedAt: 2024-03-03 23:41:15 -0500 (Sun, 03 Mar 2024) |
| EndedAt: 2024-03-04 00:01:36 -0500 (Mon, 04 Mar 2024) |
| EllapsedTime: 1221.0 seconds |
| RetCode: 0 |
| Status: OK |
| CheckDir: SpliceWiz.Rcheck |
| Warnings: 0 |
##############################################################################
##############################################################################
###
### Running command:
###
### /Library/Frameworks/R.framework/Resources/bin/R CMD check --install=check:SpliceWiz.install-out.txt --library=/Library/Frameworks/R.framework/Resources/library --no-vignettes --timings SpliceWiz_1.4.1.tar.gz
###
##############################################################################
##############################################################################
* using log directory ‘/Users/biocbuild/bbs-3.18-bioc/meat/SpliceWiz.Rcheck’
* using R version 4.3.2 Patched (2023-11-01 r85457)
* using platform: x86_64-apple-darwin20 (64-bit)
* R was compiled by
Apple clang version 14.0.3 (clang-1403.0.22.14.1)
GNU Fortran (GCC) 12.2.0
* running under: macOS Monterey 12.7.1
* using session charset: UTF-8
* using option ‘--no-vignettes’
* checking for file ‘SpliceWiz/DESCRIPTION’ ... OK
* this is package ‘SpliceWiz’ version ‘1.4.1’
* package encoding: UTF-8
* checking package namespace information ... OK
* checking package dependencies ... OK
* checking if this is a source package ... OK
* checking if there is a namespace ... OK
* checking for hidden files and directories ... OK
* checking for portable file names ... OK
* checking for sufficient/correct file permissions ... OK
* checking whether package ‘SpliceWiz’ can be installed ... OK
* used C++ compiler: ‘Apple clang version 14.0.0 (clang-1400.0.29.202)’
* used SDK: ‘MacOSX11.3.sdk’
* checking C++ specification ... NOTE
Specified C++11: please drop specification unless essential
* checking installed package size ... OK
* checking package directory ... OK
* checking ‘build’ directory ... OK
* checking DESCRIPTION meta-information ... OK
* checking top-level files ... OK
* checking for left-over files ... OK
* checking index information ... OK
* checking package subdirectories ... OK
* checking R files for non-ASCII characters ... OK
* checking R files for syntax errors ... OK
* checking whether the package can be loaded ... OK
* checking whether the package can be loaded with stated dependencies ... OK
* checking whether the package can be unloaded cleanly ... OK
* checking whether the namespace can be loaded with stated dependencies ... OK
* checking whether the namespace can be unloaded cleanly ... OK
* checking startup messages can be suppressed ... OK
* checking dependencies in R code ... OK
* checking S3 generic/method consistency ... OK
* checking replacement functions ... OK
* checking foreign function calls ... OK
* checking R code for possible problems ... OK
* checking Rd files ... OK
* checking Rd metadata ... OK
* checking Rd cross-references ... OK
* checking for missing documentation entries ... OK
* checking for code/documentation mismatches ... OK
* checking Rd \usage sections ... OK
* checking Rd contents ... OK
* checking for unstated dependencies in examples ... OK
* checking line endings in shell scripts ... OK
* checking line endings in C/C++/Fortran sources/headers ... OK
* checking line endings in Makefiles ... OK
* checking compilation flags in Makevars ... OK
* checking for GNU extensions in Makefiles ... OK
* checking for portable use of $(BLAS_LIBS) and $(LAPACK_LIBS) ... OK
* checking use of PKG_*FLAGS in Makefiles ... OK
* checking compiled code ... NOTE
Note: information on .o files is not available
* checking files in ‘vignettes’ ... OK
* checking examples ... OK
Examples with CPU (user + system) or elapsed time > 5s
user system elapsed
Build-Reference-methods 76.659 1.924 79.663
NxtSE-class 55.039 1.257 59.583
ASE-methods 31.578 0.441 32.196
covPlotObject-class 23.026 0.695 23.873
plotCoverage 15.512 0.228 15.838
Run_SpliceWiz_Filters 7.528 0.060 7.622
processBAM 4.086 0.935 3.462
* checking for unstated dependencies in ‘tests’ ... OK
* checking tests ...
Running ‘testthat.R’
OK
* checking for unstated dependencies in vignettes ... OK
* checking package vignettes in ‘inst/doc’ ... OK
* checking running R code from vignettes ... SKIPPED
* checking re-building of vignette outputs ... SKIPPED
* checking PDF version of manual ... OK
* DONE
Status: 2 NOTEs
See
‘/Users/biocbuild/bbs-3.18-bioc/meat/SpliceWiz.Rcheck/00check.log’
for details.
SpliceWiz.Rcheck/00install.out
##############################################################################
##############################################################################
###
### Running command:
###
### /Library/Frameworks/R.framework/Resources/bin/R CMD INSTALL SpliceWiz
###
##############################################################################
##############################################################################
* installing to library ‘/Library/Frameworks/R.framework/Versions/4.3-x86_64/Resources/library’
* installing *source* package ‘SpliceWiz’ ...
** using staged installation
Configuring without OpenMP for MacOS
** libs
using C++ compiler: ‘Apple clang version 14.0.0 (clang-1400.0.29.202)’
using C++11
using SDK: ‘MacOSX11.3.sdk’
clang++ -arch x86_64 -std=gnu++11 -I"/Library/Frameworks/R.framework/Resources/include" -DNDEBUG -I'/Library/Frameworks/R.framework/Versions/4.3-x86_64/Resources/library/ompBAM/include' -I'/Library/Frameworks/R.framework/Versions/4.3-x86_64/Resources/library/Rcpp/include' -I'/Library/Frameworks/R.framework/Versions/4.3-x86_64/Resources/library/zlibbioc/include' -I'/Library/Frameworks/R.framework/Versions/4.3-x86_64/Resources/library/RcppProgress/include' -I/opt/R/x86_64/include -DSPLICEWIZ -fPIC -falign-functions=64 -Wall -g -O2 -c BAM2blocks.cpp -o BAM2blocks.o
clang++ -arch x86_64 -std=gnu++11 -I"/Library/Frameworks/R.framework/Resources/include" -DNDEBUG -I'/Library/Frameworks/R.framework/Versions/4.3-x86_64/Resources/library/ompBAM/include' -I'/Library/Frameworks/R.framework/Versions/4.3-x86_64/Resources/library/Rcpp/include' -I'/Library/Frameworks/R.framework/Versions/4.3-x86_64/Resources/library/zlibbioc/include' -I'/Library/Frameworks/R.framework/Versions/4.3-x86_64/Resources/library/RcppProgress/include' -I/opt/R/x86_64/include -DSPLICEWIZ -fPIC -falign-functions=64 -Wall -g -O2 -c FastaReader.cpp -o FastaReader.o
clang++ -arch x86_64 -std=gnu++11 -I"/Library/Frameworks/R.framework/Resources/include" -DNDEBUG -I'/Library/Frameworks/R.framework/Versions/4.3-x86_64/Resources/library/ompBAM/include' -I'/Library/Frameworks/R.framework/Versions/4.3-x86_64/Resources/library/Rcpp/include' -I'/Library/Frameworks/R.framework/Versions/4.3-x86_64/Resources/library/zlibbioc/include' -I'/Library/Frameworks/R.framework/Versions/4.3-x86_64/Resources/library/RcppProgress/include' -I/opt/R/x86_64/include -DSPLICEWIZ -fPIC -falign-functions=64 -Wall -g -O2 -c FragmentBlocks.cpp -o FragmentBlocks.o
clang++ -arch x86_64 -std=gnu++11 -I"/Library/Frameworks/R.framework/Resources/include" -DNDEBUG -I'/Library/Frameworks/R.framework/Versions/4.3-x86_64/Resources/library/ompBAM/include' -I'/Library/Frameworks/R.framework/Versions/4.3-x86_64/Resources/library/Rcpp/include' -I'/Library/Frameworks/R.framework/Versions/4.3-x86_64/Resources/library/zlibbioc/include' -I'/Library/Frameworks/R.framework/Versions/4.3-x86_64/Resources/library/RcppProgress/include' -I/opt/R/x86_64/include -DSPLICEWIZ -fPIC -falign-functions=64 -Wall -g -O2 -c GZTools.cpp -o GZTools.o
clang++ -arch x86_64 -std=gnu++11 -I"/Library/Frameworks/R.framework/Resources/include" -DNDEBUG -I'/Library/Frameworks/R.framework/Versions/4.3-x86_64/Resources/library/ompBAM/include' -I'/Library/Frameworks/R.framework/Versions/4.3-x86_64/Resources/library/Rcpp/include' -I'/Library/Frameworks/R.framework/Versions/4.3-x86_64/Resources/library/zlibbioc/include' -I'/Library/Frameworks/R.framework/Versions/4.3-x86_64/Resources/library/RcppProgress/include' -I/opt/R/x86_64/include -DSPLICEWIZ -fPIC -falign-functions=64 -Wall -g -O2 -c RcppExports.cpp -o RcppExports.o
clang++ -arch x86_64 -std=gnu++11 -I"/Library/Frameworks/R.framework/Resources/include" -DNDEBUG -I'/Library/Frameworks/R.framework/Versions/4.3-x86_64/Resources/library/ompBAM/include' -I'/Library/Frameworks/R.framework/Versions/4.3-x86_64/Resources/library/Rcpp/include' -I'/Library/Frameworks/R.framework/Versions/4.3-x86_64/Resources/library/zlibbioc/include' -I'/Library/Frameworks/R.framework/Versions/4.3-x86_64/Resources/library/RcppProgress/include' -I/opt/R/x86_64/include -DSPLICEWIZ -fPIC -falign-functions=64 -Wall -g -O2 -c ReadBlockProcessor.cpp -o ReadBlockProcessor.o
clang++ -arch x86_64 -std=gnu++11 -I"/Library/Frameworks/R.framework/Resources/include" -DNDEBUG -I'/Library/Frameworks/R.framework/Versions/4.3-x86_64/Resources/library/ompBAM/include' -I'/Library/Frameworks/R.framework/Versions/4.3-x86_64/Resources/library/Rcpp/include' -I'/Library/Frameworks/R.framework/Versions/4.3-x86_64/Resources/library/zlibbioc/include' -I'/Library/Frameworks/R.framework/Versions/4.3-x86_64/Resources/library/RcppProgress/include' -I/opt/R/x86_64/include -DSPLICEWIZ -fPIC -falign-functions=64 -Wall -g -O2 -c ReadBlockProcessor_CoverageBlocks.cpp -o ReadBlockProcessor_CoverageBlocks.o
ReadBlockProcessor_CoverageBlocks.cpp:251:16: warning: variable 'len' set but not used [-Wunused-but-set-variable]
unsigned int len=0;
^
1 warning generated.
clang++ -arch x86_64 -std=gnu++11 -I"/Library/Frameworks/R.framework/Resources/include" -DNDEBUG -I'/Library/Frameworks/R.framework/Versions/4.3-x86_64/Resources/library/ompBAM/include' -I'/Library/Frameworks/R.framework/Versions/4.3-x86_64/Resources/library/Rcpp/include' -I'/Library/Frameworks/R.framework/Versions/4.3-x86_64/Resources/library/zlibbioc/include' -I'/Library/Frameworks/R.framework/Versions/4.3-x86_64/Resources/library/RcppProgress/include' -I/opt/R/x86_64/include -DSPLICEWIZ -fPIC -falign-functions=64 -Wall -g -O2 -c ReadBlockProcessor_FragmentsMap.cpp -o ReadBlockProcessor_FragmentsMap.o
clang++ -arch x86_64 -std=gnu++11 -I"/Library/Frameworks/R.framework/Resources/include" -DNDEBUG -I'/Library/Frameworks/R.framework/Versions/4.3-x86_64/Resources/library/ompBAM/include' -I'/Library/Frameworks/R.framework/Versions/4.3-x86_64/Resources/library/Rcpp/include' -I'/Library/Frameworks/R.framework/Versions/4.3-x86_64/Resources/library/zlibbioc/include' -I'/Library/Frameworks/R.framework/Versions/4.3-x86_64/Resources/library/RcppProgress/include' -I/opt/R/x86_64/include -DSPLICEWIZ -fPIC -falign-functions=64 -Wall -g -O2 -c ReadBlockProcessor_TandemJunctions.cpp -o ReadBlockProcessor_TandemJunctions.o
clang++ -arch x86_64 -std=gnu++11 -I"/Library/Frameworks/R.framework/Resources/include" -DNDEBUG -I'/Library/Frameworks/R.framework/Versions/4.3-x86_64/Resources/library/ompBAM/include' -I'/Library/Frameworks/R.framework/Versions/4.3-x86_64/Resources/library/Rcpp/include' -I'/Library/Frameworks/R.framework/Versions/4.3-x86_64/Resources/library/zlibbioc/include' -I'/Library/Frameworks/R.framework/Versions/4.3-x86_64/Resources/library/RcppProgress/include' -I/opt/R/x86_64/include -DSPLICEWIZ -fPIC -falign-functions=64 -Wall -g -O2 -c covTools.cpp -o covTools.o
clang++ -arch x86_64 -std=gnu++11 -I"/Library/Frameworks/R.framework/Resources/include" -DNDEBUG -I'/Library/Frameworks/R.framework/Versions/4.3-x86_64/Resources/library/ompBAM/include' -I'/Library/Frameworks/R.framework/Versions/4.3-x86_64/Resources/library/Rcpp/include' -I'/Library/Frameworks/R.framework/Versions/4.3-x86_64/Resources/library/zlibbioc/include' -I'/Library/Frameworks/R.framework/Versions/4.3-x86_64/Resources/library/RcppProgress/include' -I/opt/R/x86_64/include -DSPLICEWIZ -fPIC -falign-functions=64 -Wall -g -O2 -c main.cpp -o main.o
clang++ -arch x86_64 -std=gnu++11 -I"/Library/Frameworks/R.framework/Resources/include" -DNDEBUG -I'/Library/Frameworks/R.framework/Versions/4.3-x86_64/Resources/library/ompBAM/include' -I'/Library/Frameworks/R.framework/Versions/4.3-x86_64/Resources/library/Rcpp/include' -I'/Library/Frameworks/R.framework/Versions/4.3-x86_64/Resources/library/zlibbioc/include' -I'/Library/Frameworks/R.framework/Versions/4.3-x86_64/Resources/library/RcppProgress/include' -I/opt/R/x86_64/include -DSPLICEWIZ -fPIC -falign-functions=64 -Wall -g -O2 -c swEngine.cpp -o swEngine.o
clang++ -arch x86_64 -std=gnu++11 -I"/Library/Frameworks/R.framework/Resources/include" -DNDEBUG -I'/Library/Frameworks/R.framework/Versions/4.3-x86_64/Resources/library/ompBAM/include' -I'/Library/Frameworks/R.framework/Versions/4.3-x86_64/Resources/library/Rcpp/include' -I'/Library/Frameworks/R.framework/Versions/4.3-x86_64/Resources/library/zlibbioc/include' -I'/Library/Frameworks/R.framework/Versions/4.3-x86_64/Resources/library/RcppProgress/include' -I/opt/R/x86_64/include -DSPLICEWIZ -fPIC -falign-functions=64 -Wall -g -O2 -c synthReadGenerator.cpp -o synthReadGenerator.o
clang++ -arch x86_64 -std=gnu++11 -dynamiclib -Wl,-headerpad_max_install_names -undefined dynamic_lookup -L/Library/Frameworks/R.framework/Resources/lib -L/opt/R/x86_64/lib -o SpliceWiz.so BAM2blocks.o FastaReader.o FragmentBlocks.o GZTools.o RcppExports.o ReadBlockProcessor.o ReadBlockProcessor_CoverageBlocks.o ReadBlockProcessor_FragmentsMap.o ReadBlockProcessor_TandemJunctions.o covTools.o main.o swEngine.o synthReadGenerator.o -DSPLICEWIZ -F/Library/Frameworks/R.framework/.. -framework R -Wl,-framework -Wl,CoreFoundation
installing to /Library/Frameworks/R.framework/Versions/4.3-x86_64/Resources/library/00LOCK-SpliceWiz/00new/SpliceWiz/libs
** R
** inst
** byte-compile and prepare package for lazy loading
** help
*** installing help indices
** building package indices
** installing vignettes
** testing if installed package can be loaded from temporary location
** checking absolute paths in shared objects and dynamic libraries
** testing if installed package can be loaded from final location
** testing if installed package keeps a record of temporary installation path
* DONE (SpliceWiz)
SpliceWiz.Rcheck/tests/testthat.Rout
R version 4.3.2 Patched (2023-11-01 r85457) -- "Eye Holes"
Copyright (C) 2023 The R Foundation for Statistical Computing
Platform: x86_64-apple-darwin20 (64-bit)
R is free software and comes with ABSOLUTELY NO WARRANTY.
You are welcome to redistribute it under certain conditions.
Type 'license()' or 'licence()' for distribution details.
R is a collaborative project with many contributors.
Type 'contributors()' for more information and
'citation()' on how to cite R or R packages in publications.
Type 'demo()' for some demos, 'help()' for on-line help, or
'help.start()' for an HTML browser interface to help.
Type 'q()' to quit R.
> library(testthat)
> library(SpliceWiz)
Loading required package: NxtIRFdata
SpliceWiz package loaded with 1 threads
Use setSWthreads() to set the number of SpliceWiz threads
>
> test_check("SpliceWiz")
Loading required package: Rsubread
Mar 03 23:52:01 Converting FASTA to local TwoBitFile...done
Mar 03 23:52:03 Connecting to genome TwoBitFile...done
Mar 03 23:52:03 Making local copy of GTF file...done
Mar 03 23:52:03 Extracting temp genome FASTA from TwoBit file
Mar 03 23:52:04 Generating synthetic reads, saving to /private/tmp/RtmpatixB0/refWithMapExcl/Mappability/Reads.fa
0% 10 20 30 40 50 60 70 80 90 100%
[----|----|----|----|----|----|----|----|----|----|
**************************************************|
10145 synthetic reads generated
Mar 03 23:52:04 Cleaning temp genome / gene annotation files
========== _____ _ _ ____ _____ ______ _____
===== / ____| | | | _ \| __ \| ____| /\ | __ \
===== | (___ | | | | |_) | |__) | |__ / \ | | | |
==== \___ \| | | | _ <| _ /| __| / /\ \ | | | |
==== ____) | |__| | |_) | | \ \| |____ / ____ \| |__| |
========== |_____/ \____/|____/|_| \_\______/_/ \_\_____/
Rsubread 2.16.1
//================================= setting ==================================\\
|| ||
|| Index name : reference_index ||
|| Index space : base space ||
|| Index split : no-split ||
|| Repeat threshold : 100 repeats ||
|| Gapped index : no ||
|| ||
|| Free / total memory : 50.3GB / 96.0GB ||
|| ||
|| Input files : 1 file in total ||
|| o genome.fa ||
|| ||
\\============================================================================//
//================================= Running ==================================\\
|| ||
|| Check the integrity of provided reference sequences ... ||
|| No format issues were found ||
|| Scan uninformative subreads in reference sequences ... ||
|| Estimate the index size... ||
|| 8%, 0 mins elapsed, rate=38.0k bps/s ||
|| 16%, 0 mins elapsed, rate=75.0k bps/s ||
|| 24%, 0 mins elapsed, rate=111.2k bps/s ||
|| 33%, 0 mins elapsed, rate=146.7k bps/s ||
|| 41%, 0 mins elapsed, rate=181.2k bps/s ||
|| 49%, 0 mins elapsed, rate=215.0k bps/s ||
|| 58%, 0 mins elapsed, rate=248.0k bps/s ||
|| 66%, 0 mins elapsed, rate=280.3k bps/s ||
|| 74%, 0 mins elapsed, rate=312.0k bps/s ||
|| 83%, 0 mins elapsed, rate=342.9k bps/s ||
|| 91%, 0 mins elapsed, rate=372.6k bps/s ||
|| 3.0 GB of memory is needed for index building. ||
|| Build the index... ||
|| 8%, 0 mins elapsed, rate=4.2k bps/s ||
|| 16%, 0 mins elapsed, rate=8.4k bps/s ||
|| 24%, 0 mins elapsed, rate=12.6k bps/s ||
|| 33%, 0 mins elapsed, rate=16.7k bps/s ||
|| 41%, 0 mins elapsed, rate=20.9k bps/s ||
|| 49%, 0 mins elapsed, rate=25.0k bps/s ||
|| 58%, 0 mins elapsed, rate=29.1k bps/s ||
|| 66%, 0 mins elapsed, rate=33.2k bps/s ||
|| 74%, 0 mins elapsed, rate=37.3k bps/s ||
|| 83%, 0 mins elapsed, rate=41.3k bps/s ||
|| 91%, 0 mins elapsed, rate=45.4k bps/s ||
|| Save current index block... ||
|| [ 0.0% finished ] ||
|| [ 10.0% finished ] ||
|| [ 20.0% finished ] ||
|| [ 30.0% finished ] ||
|| [ 40.0% finished ] ||
|| [ 50.0% finished ] ||
|| [ 60.0% finished ] ||
|| [ 70.0% finished ] ||
|| [ 80.0% finished ] ||
|| [ 90.0% finished ] ||
|| [ 100.0% finished ] ||
|| ||
|| Total running time: 0.4 minutes. ||
|| Index ./reference_index was successfully built. ||
|| ||
\\============================================================================//
========== _____ _ _ ____ _____ ______ _____
===== / ____| | | | _ \| __ \| ____| /\ | __ \
===== | (___ | | | | |_) | |__) | |__ / \ | | | |
==== \___ \| | | | _ <| _ /| __| / /\ \ | | | |
==== ____) | |__| | |_) | | \ \| |____ / ____ \| |__| |
========== |_____/ \____/|____/|_| \_\______/_/ \_\_____/
Rsubread 2.16.1
//================================= setting ==================================\\
|| ||
|| Function : Read alignment + Junction detection (RNA-Seq) ||
|| Input file : Reads.fa ||
|| Output file : AlignedReads.bam (BAM) ||
|| Index name : reference_index ||
|| ||
|| ------------------------------------ ||
|| ||
|| Threads : 1 ||
|| Phred offset : 33 ||
|| Min votes : 1 / 14 ||
|| Max mismatches : 3 ||
|| Max indel length : 5 ||
|| Report multi-mapping reads : yes ||
|| Max alignments per multi-mapping read : 1 ||
|| Annotations : transcripts.gtf (GTF) ||
|| ||
\\============================================================================//
//================ Running (03-Mar-2024 23:52:25, pid=32281) =================\\
|| ||
|| Check the input reads. ||
|| The input file contains base space reads. ||
|| Initialise the memory objects. ||
|| Estimate the mean read length. ||
|| Create the output BAM file. ||
|| Check the index. ||
|| Init the voting space. ||
|| Load the annotation file. ||
|| 538 annotation records were loaded. ||
|| Global environment is initialised. ||
|| Load the 1-th index block... ||
|| The index block has been loaded. ||
|| Start read mapping in chunk. ||
|| 65% completed, 5.7 mins elapsed, rate=33.4k reads per second ||
|| 83% completed, 5.7 mins elapsed, rate=0.0k reads per second ||
|| 99% completed, 5.7 mins elapsed, rate=0.0k reads per second ||
|| ||
|| Completed successfully. ||
|| ||
\\==================================== ====================================//
//================================ Summary =================================\\
|| ||
|| Total reads : 10,145 ||
|| Mapped : 10,145 (100.0%) ||
|| Uniquely mapped : 10,145 ||
|| Multi-mapping : 0 ||
|| ||
|| Unmapped : 0 ||
|| ||
|| Junctions : 0 ||
|| Indels : 1 ||
|| ||
|| Running time : 5.7 minutes ||
|| ||
\\============================================================================//
Mar 03 23:58:06 Calculating Mappability Exclusion regions from: /tmp/RtmpatixB0/refWithMapExcl/Mappability/AlignedReads.bam
Calculating Mappability Exclusions: /private/tmp/RtmpatixB0/refWithMapExcl/Mappability/AlignedReads.bam
0% 10 20 30 40 50 60 70 80 90 100%
[----|----|----|----|----|----|----|----|----|----|
**************************************************|
Performing final sort of fragment maps
Writing Mappability Exclusions
**************************************************|
0% 10 20 30 40 50 60 70 80 90 100%
[----|----|----|----|----|----|----|----|----|----|
**************************************************|
SpliceWiz was compiled without OpenMP
Mar 03 23:58:10 Reference generated without non-polyA reference
Mar 03 23:58:10 Reference generated without Mappability reference
Mar 03 23:58:10 Reference generated without Blacklist exclusion
Mar 03 23:58:10 Converting FASTA to local TwoBitFile...done
Mar 03 23:58:12 Connecting to genome TwoBitFile...done
Mar 03 23:58:12 Making local copy of GTF file...done
Mar 03 23:58:12 Reading source GTF file...done
Mar 03 23:58:12 Processing gtf file...
...genes
...transcripts
...CDS
...exons
done
Mar 03 23:58:13 Gene ontology not prepared for this reference
Mar 03 23:58:15 Processing introns...
...data
...basic annotations
...splice motifs
...other info
...defining flanking exon clusters
done
Mar 03 23:58:19 Generating processBAM reference
...prepping data
...determining measurable introns (directional)
...determining measurable introns (non-directional)
...writing ref-cover.bed
...writing ref-ROI.bed
...writing ref-read-continues.ref
...writing ref-sj.ref
...writing ref-tj.ref
processBAM reference generated
Mar 03 23:58:27 Predicting NMD transcripts from genome sequence
...exonic transcripts
...retained introns
|
| | 0%
|
|======================================================================| 100%
done
Mar 03 23:58:29 Annotating Splice Events
Annotating Mutually-Exclusive-Exon Splice Events...done
Annotating Skipped-Exon Splice Events...done
Annotating Alternate 5' / 3' Splice Site Splice Events...done
Annotating Alternate First / Last Exon Splice Events...done
Annotating known retained introns...done
Mar 03 23:58:30 Splice Annotations Filtered
Mar 03 23:58:31 Translating Alternate Splice Peptides...done
Mar 03 23:58:32 Splice Annotations finished
Reference build finished
Mar 03 23:58:33 Running SpliceWiz processBAM
Mar 03 23:58:34 Using MulticoreParam 1 threads
Reading reference file
Allocating memory to 1 threads for SpliceWiz (ompBAM)...initialized (1 milliseconds)
Processing BAM file /private/tmp/RtmpatixB0/02H003.bam
0% 10 20 30 40 50 60 70 80 90 100%
[----|----|----|----|----|----|----|----|----|----|
**************************************************|
Performing final sort of fragment maps
Writing COV file
**************************************************|
0% 10 20 30 40 50 60 70 80 90 100%
[----|----|----|----|----|----|----|----|----|----|
**************************************************|
Writing output file
/private/tmp/RtmpatixB0/02H003.bam processed (411 milliseconds)
Mar 03 23:58:34 SpliceWiz processBAM processed RtmpatixB0/02H003.bam
Mar 03 23:58:34 Running SpliceWiz processBAM
Mar 03 23:58:35 Using MulticoreParam 1 threads
Reading reference file
Allocating memory to 1 threads for SpliceWiz (ompBAM)...initialized (0 milliseconds)
Processing BAM file /private/tmp/RtmpatixB0/02H003.bam
0% 10 20 30 40 50 60 70 80 90 100%
[----|----|----|----|----|----|----|----|----|----|
**************************************************|
Performing final sort of fragment maps
Writing COV file
**************************************************|
0% 10 20 30 40 50 60 70 80 90 100%
[----|----|----|----|----|----|----|----|----|----|
**************************************************|
Writing output file
/private/tmp/RtmpatixB0/02H003.bam processed (455 milliseconds)
Mar 03 23:58:36 SpliceWiz processBAM processed RtmpatixB0/02H003.bam
Mar 03 23:58:36 Reference generated without non-polyA reference
Mar 03 23:58:36 Reference generated without Mappability reference
Mar 03 23:58:36 Reference generated without Blacklist exclusion
Mar 03 23:58:36 Converting FASTA to local TwoBitFile...done
Mar 03 23:58:37 Connecting to genome TwoBitFile...done
Mar 03 23:58:37 Making local copy of GTF file...done
Mar 03 23:58:37 Reading source GTF file...done
Mar 03 23:58:38 Processing gtf file...
...genes
...transcripts
...CDS
Mar 03 23:58:38 No protein information detected in reference! For full functionality, ensure there are valid entries with type == `CDS` in the gtf file. Protein reference and NMD annotation is skipped.
...exons
done
Mar 03 23:58:39 Gene ontology not prepared for this reference
Mar 03 23:58:41 Processing introns...
...data
...basic annotations
...splice motifs
...other info
...defining flanking exon clusters
done
Mar 03 23:58:45 Generating processBAM reference
...prepping data
...determining measurable introns (directional)
...determining measurable introns (non-directional)
...writing ref-cover.bed
...writing ref-ROI.bed
...writing ref-read-continues.ref
...writing ref-sj.ref
...writing ref-tj.ref
processBAM reference generated
Mar 03 23:58:51 Annotating Splice Events
Annotating Mutually-Exclusive-Exon Splice Events...done
Annotating Skipped-Exon Splice Events...done
Annotating Alternate 5' / 3' Splice Site Splice Events...done
Annotating Alternate First / Last Exon Splice Events...done
Annotating known retained introns...done
Mar 03 23:58:52 Splice Annotations Filtered
Reference build finished
Mar 03 23:58:55 Running SpliceWiz processBAM
Mar 03 23:58:56 Using MulticoreParam 1 threads
Allocating memory to 1 threads for SpliceWiz (ompBAM)...initialized (0 milliseconds)
/private/tmp/RtmpatixB0/02H003.bam processed (432 milliseconds)
Mar 03 23:58:56 SpliceWiz processBAM processed RtmpatixB0/02H003.bam
Allocating memory to 1 threads for SpliceWiz (ompBAM)...initialized (0 milliseconds)
/private/tmp/RtmpatixB0/02H025.bam processed (340 milliseconds)
Mar 03 23:58:56 SpliceWiz processBAM processed RtmpatixB0/02H025.bam
Allocating memory to 1 threads for SpliceWiz (ompBAM)...initialized (1 milliseconds)
/private/tmp/RtmpatixB0/02H026.bam processed (517 milliseconds)
Mar 03 23:58:57 SpliceWiz processBAM processed RtmpatixB0/02H026.bam
Allocating memory to 1 threads for SpliceWiz (ompBAM)...initialized (0 milliseconds)
/private/tmp/RtmpatixB0/02H033.bam processed (450 milliseconds)
Mar 03 23:58:57 SpliceWiz processBAM processed RtmpatixB0/02H033.bam
Allocating memory to 1 threads for SpliceWiz (ompBAM)...initialized (0 milliseconds)
/private/tmp/RtmpatixB0/02H043.bam processed (305 milliseconds)
Mar 03 23:58:58 SpliceWiz processBAM processed RtmpatixB0/02H043.bam
Allocating memory to 1 threads for SpliceWiz (ompBAM)...initialized (1 milliseconds)
/private/tmp/RtmpatixB0/02H046.bam processed (418 milliseconds)
Mar 03 23:58:58 SpliceWiz processBAM processed RtmpatixB0/02H046.bam
Mar 03 23:58:59 Using MulticoreParam 1 threads
Mar 03 23:58:59 Validating Experiment; checking COV files...
Mar 03 23:58:59 Compiling Sample Stats
Mar 03 23:58:59 Compiling Junction List...merging...done
Mar 03 23:59:01 Compiling Junction Stats...merging...done
Mar 03 23:59:08 Compiling Intron Retention List...done
Mar 03 23:59:09 Tidying up splice junctions and intron retentions...
...annotating splice junctions
...copying splicing reference
...grouping splice junctions
...grouping introns
...loading splice events
...compiling rowEvents
done
Mar 03 23:59:20 Generating NxtSE assays
Mar 03 23:59:21 Using MulticoreParam 1 threads
|
| | 0%
|
|============ | 17%
|
|======================= | 33%
|
|=================================== | 50%
|
|=============================================== | 67%
|
|========================================================== | 83%
|
|======================================================================| 100%
Mar 03 23:59:36 Building Final NxtSE Object
Mar 03 23:59:36 ...consolidating assays to H5 file
Mar 03 23:59:37 ...packaging reference
Mar 03 23:59:37 ...synthesising NxtSE
Mar 03 23:59:38 ...determining how overlapping introns should be removed
Mar 03 23:59:40 SpliceWiz (NxtSE) Collation Finished
Mar 03 23:59:40 Loading NxtSE object from file...
Mar 03 23:59:40 ...loading reference (NxtSE)
Mar 03 23:59:40 ...linking assays
Mar 03 23:59:40 ...linking COV files
Mar 03 23:59:40 ...loading rowData
Mar 03 23:59:40 ...removing overlapping introns...
Mar 03 23:59:41 NxtSE loaded
Mar 03 23:59:41 SpliceWiz reference already exists in given directory
Mar 03 23:59:41 Running SpliceWiz processBAM
Mar 03 23:59:42 Using MulticoreParam 1 threads
Allocating memory to 1 threads for SpliceWiz (ompBAM)...initialized (1 milliseconds)
/private/tmp/RtmpatixB0/02H003.bam processed (356 milliseconds)
Mar 03 23:59:43 SpliceWiz processBAM processed RtmpatixB0/02H003.bam
Allocating memory to 1 threads for SpliceWiz (ompBAM)...initialized (0 milliseconds)
/private/tmp/RtmpatixB0/02H025.bam processed (273 milliseconds)
Mar 03 23:59:43 SpliceWiz processBAM processed RtmpatixB0/02H025.bam
Allocating memory to 1 threads for SpliceWiz (ompBAM)...initialized (0 milliseconds)
/private/tmp/RtmpatixB0/02H026.bam processed (479 milliseconds)
Mar 03 23:59:43 SpliceWiz processBAM processed RtmpatixB0/02H026.bam
Allocating memory to 1 threads for SpliceWiz (ompBAM)...initialized (0 milliseconds)
/private/tmp/RtmpatixB0/02H033.bam processed (555 milliseconds)
Mar 03 23:59:44 SpliceWiz processBAM processed RtmpatixB0/02H033.bam
Allocating memory to 1 threads for SpliceWiz (ompBAM)...initialized (1 milliseconds)
/private/tmp/RtmpatixB0/02H043.bam processed (361 milliseconds)
Mar 03 23:59:44 SpliceWiz processBAM processed RtmpatixB0/02H043.bam
Allocating memory to 1 threads for SpliceWiz (ompBAM)...initialized (1 milliseconds)
/private/tmp/RtmpatixB0/02H046.bam processed (458 milliseconds)
Mar 03 23:59:45 SpliceWiz processBAM processed RtmpatixB0/02H046.bam
Mar 03 23:59:46 Using MulticoreParam 1 threads
Mar 03 23:59:46 Validating Experiment; checking COV files...
Mar 03 23:59:46 Compiling Sample Stats
Mar 03 23:59:46 Compiling Junction List...merging...done
Mar 03 23:59:47 Compiling Junction Stats...merging...done
Mar 03 23:59:54 Compiling Intron Retention List...done
Mar 03 23:59:55 Compiling Tandem Junction List...merging...done
Mar 03 23:59:56 Tidying up splice junctions and intron retentions...
...annotating splice junctions
...looking for novel exons
Mar 03 23:59:59 Assembling novel splicing reference:
...loading reference FASTA/GTF
...injecting novel transcripts to GTF
...processing GTF
...processing introns from GTF
...annotating alternative splicing events
done
Mar 04 00:00:10 Tidying up splice junctions and intron retentions (part 2)...
...grouping splice junctions
...grouping introns
...loading splice events
...compiling rowEvents
done
Mar 04 00:00:18 Generating NxtSE assays
Mar 04 00:00:19 Using MulticoreParam 1 threads
|
| | 0%
|
|============ | 17%
|
|======================= | 33%
|
|=================================== | 50%
|
|=============================================== | 67%
|
|========================================================== | 83%
|
|======================================================================| 100%
Mar 04 00:00:34 Building Final NxtSE Object
Mar 04 00:00:34 ...consolidating assays to H5 file
Mar 04 00:00:36 ...packaging reference
Mar 04 00:00:36 ...synthesising NxtSE
Mar 04 00:00:36 ...determining how overlapping introns should be removed
Mar 04 00:00:39 SpliceWiz (NxtSE) Collation Finished
Mar 04 00:00:39 Loading NxtSE object from file...
Mar 04 00:00:39 ...loading reference (NxtSE)
Mar 04 00:00:39 ...linking assays
Mar 04 00:00:39 ...linking COV files
Mar 04 00:00:39 ...loading rowData
Mar 04 00:00:39 ...removing overlapping introns...
Mar 04 00:00:39 NxtSE loaded
Mar 04 00:00:39 SpliceWiz reference already exists in given directory
Mar 04 00:00:39 Running SpliceWiz processBAM
Mar 04 00:00:40 Using MulticoreParam 1 threads
Allocating memory to 1 threads for SpliceWiz (ompBAM)...initialized (1 milliseconds)
/private/tmp/RtmpatixB0/02H003.bam processed (432 milliseconds)
Mar 04 00:00:41 SpliceWiz processBAM processed RtmpatixB0/02H003.bam
Allocating memory to 1 threads for SpliceWiz (ompBAM)...initialized (0 milliseconds)
/private/tmp/RtmpatixB0/02H025.bam processed (305 milliseconds)
Mar 04 00:00:41 SpliceWiz processBAM processed RtmpatixB0/02H025.bam
Allocating memory to 1 threads for SpliceWiz (ompBAM)...initialized (0 milliseconds)
/private/tmp/RtmpatixB0/02H026.bam processed (503 milliseconds)
Mar 04 00:00:42 SpliceWiz processBAM processed RtmpatixB0/02H026.bam
Allocating memory to 1 threads for SpliceWiz (ompBAM)...initialized (0 milliseconds)
/private/tmp/RtmpatixB0/02H033.bam processed (521 milliseconds)
Mar 04 00:00:42 SpliceWiz processBAM processed RtmpatixB0/02H033.bam
Allocating memory to 1 threads for SpliceWiz (ompBAM)...initialized (1 milliseconds)
/private/tmp/RtmpatixB0/02H043.bam processed (340 milliseconds)
Mar 04 00:00:42 SpliceWiz processBAM processed RtmpatixB0/02H043.bam
Allocating memory to 1 threads for SpliceWiz (ompBAM)...initialized (1 milliseconds)
/private/tmp/RtmpatixB0/02H046.bam processed (507 milliseconds)
Mar 04 00:00:43 SpliceWiz processBAM processed RtmpatixB0/02H046.bam
Mar 04 00:00:44 Using MulticoreParam 1 threads
Mar 04 00:00:44 Validating Experiment; checking COV files...
Mar 04 00:00:44 Compiling Sample Stats
Mar 04 00:00:44 Compiling Junction List...merging...done
Mar 04 00:00:45 Compiling Junction Stats...merging...done
Mar 04 00:00:52 Compiling Intron Retention List...done
Mar 04 00:00:53 Tidying up splice junctions and intron retentions...
...annotating splice junctions
...copying splicing reference
...grouping splice junctions
...grouping introns
...loading splice events
...compiling rowEvents
done
Mar 04 00:01:04 Generating NxtSE assays
Mar 04 00:01:05 Using MulticoreParam 1 threads
|
| | 0%
|
|============ | 17%
|
|======================= | 33%
|
|=================================== | 50%
|
|=============================================== | 67%
|
|========================================================== | 83%
|
|======================================================================| 100%
Mar 04 00:01:20 Building Final NxtSE Object
Mar 04 00:01:20 ...consolidating assays to H5 file
Mar 04 00:01:21 ...packaging reference
Mar 04 00:01:21 ...synthesising NxtSE
Mar 04 00:01:21 ...determining how overlapping introns should be removed
Mar 04 00:01:24 SpliceWiz (NxtSE) Collation Finished
Mar 04 00:01:24 Loading NxtSE object from file...
Mar 04 00:01:24 ...loading reference (NxtSE)
Mar 04 00:01:24 ...linking assays
Mar 04 00:01:24 ...linking COV files
Mar 04 00:01:24 ...loading rowData
Mar 04 00:01:24 ...removing overlapping introns...
Mar 04 00:01:24 NxtSE loaded
[ FAIL 0 | WARN 0 | SKIP 0 | PASS 57 ]
>
> # bump to trigger r cmd check
>
> proc.time()
user system elapsed
375.108 200.558 582.893
SpliceWiz.Rcheck/SpliceWiz-Ex.timings
| name | user | system | elapsed | |
| ASE-GLM-edgeR | 3.581 | 0.105 | 3.708 | |
| ASE-methods | 31.578 | 0.441 | 32.196 | |
| ASEFilter-class | 0.057 | 0.006 | 0.064 | |
| Build-Reference-methods | 76.659 | 1.924 | 79.663 | |
| Coverage | 0.935 | 0.039 | 0.984 | |
| Gene-ontology-methods | 1.571 | 0.106 | 1.684 | |
| Graphics-User-Interface | 0 | 0 | 0 | |
| Mappability-methods | 2.378 | 0.073 | 2.464 | |
| NxtSE-class | 55.039 | 1.257 | 59.583 | |
| Run_SpliceWiz_Filters | 7.528 | 0.060 | 7.622 | |
| STAR-methods | 0.005 | 0.011 | 0.034 | |
| View-Reference-methods | 0.189 | 0.023 | 0.215 | |
| collateData | 2.701 | 0.071 | 2.807 | |
| coord2GR | 0.024 | 0.002 | 0.026 | |
| covDataObject-class | 1.878 | 0.039 | 1.932 | |
| covPlotObject-class | 23.026 | 0.695 | 23.873 | |
| covPlotly-class | 1.254 | 0.020 | 1.282 | |
| example-SpliceWiz-data | 0.014 | 0.003 | 0.017 | |
| findSamples | 0.007 | 0.005 | 0.012 | |
| isCOV | 0.017 | 0.003 | 0.021 | |
| makeSE | 2.020 | 0.169 | 2.217 | |
| make_plot_data | 0.061 | 0.002 | 0.063 | |
| plotCoverage | 15.512 | 0.228 | 15.838 | |
| processBAM | 4.086 | 0.935 | 3.462 | |
| setSWthreads | 0.003 | 0.013 | 0.029 | |
| theme_white | 0.178 | 0.128 | 0.324 | |