| Back to Multiple platform build/check report for BioC 3.18: simplified long |
|
This page was generated on 2023-10-24 11:41:34 -0400 (Tue, 24 Oct 2023).
| Hostname | OS | Arch (*) | R version | Installed pkgs |
|---|---|---|---|---|
| nebbiolo2 | Linux (Ubuntu 22.04.2 LTS) | x86_64 | 4.3.1 (2023-06-16) -- "Beagle Scouts" | 4724 |
| palomino4 | Windows Server 2022 Datacenter | x64 | 4.3.1 (2023-06-16 ucrt) -- "Beagle Scouts" | 4459 |
| lconway | macOS 12.6.5 Monterey | x86_64 | 4.3.1 Patched (2023-06-17 r84564) -- "Beagle Scouts" | 4473 |
| kunpeng2 | Linux (openEuler 22.03 LTS-SP1) | aarch64 | 4.3.1 (2023-06-16) -- "Beagle Scouts" | 4461 |
| Click on any hostname to see more info about the system (e.g. compilers) (*) as reported by 'uname -p', except on Windows and Mac OS X | ||||
| Package 2010/2264 | Hostname | OS / Arch | INSTALL | BUILD | CHECK | BUILD BIN | ||||||||
| SpatialFeatureExperiment 1.3.0 (landing page) Lambda Moses
| nebbiolo2 | Linux (Ubuntu 22.04.2 LTS) / x86_64 | OK | OK | OK | |||||||||
| palomino4 | Windows Server 2022 Datacenter / x64 | OK | OK | OK | OK | |||||||||
| lconway | macOS 12.6.5 Monterey / x86_64 | OK | ERROR | skipped | skipped | |||||||||
| kjohnson1 | macOS 13.3.1 Ventura / arm64 | see weekly results here | ||||||||||||
| kunpeng2 | Linux (openEuler 22.03 LTS-SP1) / aarch64 | OK | OK | OK | ||||||||||
|
To the developers/maintainers of the SpatialFeatureExperiment package: - Allow up to 24 hours (and sometimes 48 hours) for your latest push to git@git.bioconductor.org:packages/SpatialFeatureExperiment.git to reflect on this report. See Troubleshooting Build Report for more information. - Use the following Renviron settings to reproduce errors and warnings. - If 'R CMD check' started to fail recently on the Linux builder(s) over a missing dependency, add the missing dependency to 'Suggests:' in your DESCRIPTION file. See Renviron.bioc for more information. - See Martin Grigorov's blog post for how to debug Linux ARM64 related issues on a x86_64 host. |
| Package: SpatialFeatureExperiment |
| Version: 1.3.0 |
| Command: /home/biocbuild/R/R-4.3.1/bin/R CMD check --install=check:SpatialFeatureExperiment.install-out.txt --library=/home/biocbuild/R/R-4.3.1/site-library --timings SpatialFeatureExperiment_1.3.0.tar.gz |
| StartedAt: 2023-10-24 13:25:32 -0000 (Tue, 24 Oct 2023) |
| EndedAt: 2023-10-24 13:39:22 -0000 (Tue, 24 Oct 2023) |
| EllapsedTime: 830.3 seconds |
| RetCode: 0 |
| Status: OK |
| CheckDir: SpatialFeatureExperiment.Rcheck |
| Warnings: 0 |
##############################################################################
##############################################################################
###
### Running command:
###
### /home/biocbuild/R/R-4.3.1/bin/R CMD check --install=check:SpatialFeatureExperiment.install-out.txt --library=/home/biocbuild/R/R-4.3.1/site-library --timings SpatialFeatureExperiment_1.3.0.tar.gz
###
##############################################################################
##############################################################################
* using log directory ‘/home/biocbuild/bbs-3.18-bioc/meat/SpatialFeatureExperiment.Rcheck’
* using R version 4.3.1 (2023-06-16)
* using platform: aarch64-unknown-linux-gnu (64-bit)
* R was compiled by
gcc (GCC) 10.3.1
GNU Fortran (GCC) 10.3.1
* running under: openEuler 22.03 (LTS-SP1)
* using session charset: UTF-8
* checking for file ‘SpatialFeatureExperiment/DESCRIPTION’ ... OK
* checking extension type ... Package
* this is package ‘SpatialFeatureExperiment’ version ‘1.3.0’
* package encoding: UTF-8
* checking package namespace information ... OK
* checking package dependencies ... OK
* checking if this is a source package ... OK
* checking if there is a namespace ... OK
* checking for hidden files and directories ... OK
* checking for portable file names ... OK
* checking for sufficient/correct file permissions ... OK
* checking whether package ‘SpatialFeatureExperiment’ can be installed ... OK
* checking installed package size ... OK
* checking package directory ... OK
* checking ‘build’ directory ... OK
* checking DESCRIPTION meta-information ... OK
* checking top-level files ... OK
* checking for left-over files ... OK
* checking index information ... OK
* checking package subdirectories ... OK
* checking R files for non-ASCII characters ... OK
* checking R files for syntax errors ... OK
* checking whether the package can be loaded ... OK
* checking whether the package can be loaded with stated dependencies ... OK
* checking whether the package can be unloaded cleanly ... OK
* checking whether the namespace can be loaded with stated dependencies ... OK
* checking whether the namespace can be unloaded cleanly ... OK
* checking loading without being on the library search path ... OK
* checking dependencies in R code ... NOTE
Unexported objects imported by ':::' calls:
‘S4Vectors:::disableValidity’ ‘spdep:::minmax.listw’
See the note in ?`:::` about the use of this operator.
* checking S3 generic/method consistency ... OK
* checking replacement functions ... OK
* checking foreign function calls ... OK
* checking R code for possible problems ... OK
* checking Rd files ... OK
* checking Rd metadata ... OK
* checking Rd cross-references ... OK
* checking for missing documentation entries ... OK
* checking for code/documentation mismatches ... OK
* checking Rd \usage sections ... OK
* checking Rd contents ... OK
* checking for unstated dependencies in examples ... OK
* checking contents of ‘data’ directory ... OK
* checking data for non-ASCII characters ... OK
* checking data for ASCII and uncompressed saves ... OK
* checking R/sysdata.rda ... OK
* checking files in ‘vignettes’ ... OK
* checking examples ... OK
Examples with CPU (user + system) or elapsed time > 5s
user system elapsed
removeEmptySpace 8.861 0.563 12.576
SpatialFeatureExperiment-coercion 6.698 0.447 7.162
dimGeometries 6.723 0.396 12.525
cbind-SpatialFeatureExperiment-method 5.458 1.350 12.453
spatialGraphs 6.396 0.249 11.510
SFE-image 5.269 0.343 9.943
findSpatialNeighbors-SpatialFeatureExperiment-method 5.115 0.247 10.951
findVisiumGraph 5.131 0.171 10.093
crop 4.956 0.335 8.798
SFE-transform 3.862 0.364 6.686
changeSampleIDs 3.246 0.583 6.532
annotPred 2.883 0.407 5.675
show-SpatialFeatureExperiment-method 3.094 0.139 5.645
annotOp 2.600 0.370 5.405
SpatialFeatureExperiment-subset 2.645 0.268 5.785
updateObject 2.419 0.099 5.043
annotGeometries 2.212 0.232 5.627
sampleIDs 2.269 0.115 5.303
unit-SpatialFeatureExperiment-method 2.265 0.059 5.871
* checking for unstated dependencies in ‘tests’ ... OK
* checking tests ...
Running ‘testthat.R’
OK
* checking for unstated dependencies in vignettes ... OK
* checking package vignettes in ‘inst/doc’ ... OK
* checking running R code from vignettes ...
‘SFE.Rmd’ using ‘UTF-8’... OK
NONE
* checking re-building of vignette outputs ... OK
* checking PDF version of manual ... OK
* DONE
Status: 1 NOTE
See
‘/home/biocbuild/bbs-3.18-bioc/meat/SpatialFeatureExperiment.Rcheck/00check.log’
for details.
SpatialFeatureExperiment.Rcheck/00install.out
############################################################################## ############################################################################## ### ### Running command: ### ### /home/biocbuild/R/R-4.3.1/bin/R CMD INSTALL SpatialFeatureExperiment ### ############################################################################## ############################################################################## * installing to library ‘/home/biocbuild/R/R-4.3.1/site-library’ * installing *source* package ‘SpatialFeatureExperiment’ ... ** using staged installation ** R ** data ** inst ** byte-compile and prepare package for lazy loading ** help *** installing help indices ** building package indices ** installing vignettes ** testing if installed package can be loaded from temporary location ** testing if installed package can be loaded from final location ** testing if installed package keeps a record of temporary installation path * DONE (SpatialFeatureExperiment)
SpatialFeatureExperiment.Rcheck/tests/testthat.Rout
R version 4.3.1 (2023-06-16) -- "Beagle Scouts"
Copyright (C) 2023 The R Foundation for Statistical Computing
Platform: aarch64-unknown-linux-gnu (64-bit)
R is free software and comes with ABSOLUTELY NO WARRANTY.
You are welcome to redistribute it under certain conditions.
Type 'license()' or 'licence()' for distribution details.
R is a collaborative project with many contributors.
Type 'contributors()' for more information and
'citation()' on how to cite R or R packages in publications.
Type 'demo()' for some demos, 'help()' for on-line help, or
'help.start()' for an HTML browser interface to help.
Type 'q()' to quit R.
> library(testthat)
> library(SpatialFeatureExperiment)
>
> test_check("SpatialFeatureExperiment")
Linking to GEOS 3.9.0, GDAL 3.7.0, PROJ 8.2.1; sf_use_s2() is TRUE
see ?SFEData and browseVignettes('SFEData') for documentation
loading from cache
see ?SFEData and browseVignettes('SFEData') for documentation
loading from cache
trying URL 'https://cf.10xgenomics.com/samples/spatial-exp/2.0.0/Visium_Mouse_Olfactory_Bulb/Visium_Mouse_Olfactory_Bulb_filtered_feature_bc_matrix.h5'
Content type 'binary/octet-stream' length 7521734 bytes (7.2 MB)
==================================================
downloaded 7.2 MB
trying URL 'https://cf.10xgenomics.com/samples/spatial-exp/2.0.0/Visium_Mouse_Olfactory_Bulb/Visium_Mouse_Olfactory_Bulb_spatial.tar.gz'
Content type 'application/x-tar' length 7806681 bytes (7.4 MB)
==================================================
downloaded 7.4 MB
terra 1.7.55
Attaching package: 'terra'
The following objects are masked from 'package:GenomicRanges':
distance, gaps, nearest, shift, trim, values, values<-, width
The following objects are masked from 'package:SummarizedExperiment':
distance, nearest, shift, trim, values, values<-, width
The following objects are masked from 'package:IRanges':
distance, gaps, nearest, shift, trim, width
The following objects are masked from 'package:S4Vectors':
values, values<-, width
The following objects are masked from 'package:SpatialFeatureExperiment':
centroids, crop
The following objects are masked from 'package:testthat':
compare, describe
see ?SFEData and browseVignettes('SFEData') for documentation
loading from cache
see ?SFEData and browseVignettes('SFEData') for documentation
loading from cache
Testing dist_type none style W
Testing dist_type idw style W
Testing dist_type exp style W
Testing dist_type dpd style W
Testing dist_type idw style raw
Testing dist_type idw style W
Testing dist_type idw style B
Testing dist_type idw style C
Testing dist_type idw style U
Testing dist_type idw style minmax
Testing dist_type idw style S
Testing dist_type none style W
Testing dist_type idw style W
Testing dist_type exp style W
Testing dist_type dpd style W
Testing dist_type idw style raw
Testing dist_type idw style W
Testing dist_type idw style B
Testing dist_type idw style C
Testing dist_type idw style U
Testing dist_type idw style minmax
Testing dist_type idw style S
see ?SFEData and browseVignettes('SFEData') for documentation
loading from cache
see ?SFEData and browseVignettes('SFEData') for documentation
loading from cache
[updateObject] DFrame object is current.
[updateObject] Nothing to update.
updateObject(object="ANY") default for object of class 'NULL'
[updateObject] Validating the updated object ... OK
[updateObject] Validating the updated object ... OK
[updateObject] DFrame object is current.
[updateObject] Nothing to update.
updateObject(object="ANY") default for object of class 'NULL'
[updateObject] Validating the updated object ... OK
[updateObject] Validating the updated object ... OK
updateObject(object="ANY") default for object of class 'dgCMatrix'
updateObjectFromSlots(object = 'dgCMatrix' class = 'dgCMatrix')
updateObject(object="ANY") default for object of class 'integer'
[updateObject] Validating the updated object ... OK
updateObject(object="ANY") default for object of class 'integer'
[updateObject] Validating the updated object ... OK
updateObject(object="ANY") default for object of class 'integer'
[updateObject] Validating the updated object ... OK
updateObject(object = 'list')
updateObject(object="ANY") default for object of class 'character'
[updateObject] Validating the updated object ... OK
updateObject(object="ANY") default for object of class 'character'
[updateObject] Validating the updated object ... OK
[updateObject] Validating the updated object ... OK
updateObject(object="ANY") default for object of class 'numeric'
[updateObject] Validating the updated object ... OK
updateObject(object = 'list')
[updateObject] Validating the updated object ... OK
heuristic updateObjectFromSlots, method 1
[updateObject] Validating the updated object ... OK
[updateObject] Validating the updated object ... OK
[updateObject] DFrame object is current.
[updateObject] Nothing to update.
updateObject(object="ANY") default for object of class 'NULL'
[updateObject] Validating the updated object ... OK
[updateObject] Validating the updated object ... OK
[updateObject] DFrame object is current.
[updateObject] Nothing to update.
updateObject(object="ANY") default for object of class 'NULL'
[updateObject] Validating the updated object ... OK
[updateObject] Validating the updated object ... OK
[updateObject] CompressedGRangesList object is current.
[updateObject] Nothing to update.
[updateObject] Internal representation of GRanges object is current.
[updateObject] Nothing to update.
[updateObject] Internal representation of IRanges object is current.
[updateObject] Nothing to update.
updateObject(object="ANY") default for object of class 'NULL'
[updateObject] Validating the updated object ... OK
[updateObject] Validating the updated object ... OK
[updateObject] DFrame object is current.
[updateObject] Nothing to update.
updateObject(object="ANY") default for object of class 'NULL'
[updateObject] Validating the updated object ... OK
[updateObject] Validating the updated object ... OK
[updateObject] Validating the updated object ... OK
[updateObject] Internal representation of GRanges object is current.
[updateObject] Nothing to update.
[updateObject] Internal representation of IRanges object is current.
[updateObject] Nothing to update.
updateObject(object="ANY") default for object of class 'NULL'
[updateObject] Validating the updated object ... OK
[updateObject] Validating the updated object ... OK
[updateObject] DFrame object is current.
[updateObject] Nothing to update.
updateObject(object="ANY") default for object of class 'NULL'
[updateObject] Validating the updated object ... OK
[updateObject] Validating the updated object ... OK
[updateObject] Validating the updated object ... OK
[updateObject] Internal representation of PartitioningByEnd object is current.
[updateObject] Nothing to update.
updateObject(object="ANY") default for object of class 'NULL'
[updateObject] Validating the updated object ... OK
[updateObject] Validating the updated object ... OK
[updateObject] DFrame object is current.
[updateObject] Nothing to update.
updateObject(object="ANY") default for object of class 'NULL'
[updateObject] Validating the updated object ... OK
[updateObject] Validating the updated object ... OK
[updateObject] Validating the updated object ... OK
[updateObject] Validating the updated object ... OK
see ?SFEData and browseVignettes('SFEData') for documentation
loading from cache
[ FAIL 0 | WARN 0 | SKIP 0 | PASS 542 ]
>
> proc.time()
user system elapsed
178.300 15.083 219.537
SpatialFeatureExperiment.Rcheck/SpatialFeatureExperiment-Ex.timings
| name | user | system | elapsed | |
| SFE-image | 5.269 | 0.343 | 9.943 | |
| SFE-transform | 3.862 | 0.364 | 6.686 | |
| SpatialFeatureExperiment-coercion | 6.698 | 0.447 | 7.162 | |
| SpatialFeatureExperiment-subset | 2.645 | 0.268 | 5.785 | |
| SpatialFeatureExperiment | 0.983 | 0.063 | 1.049 | |
| addVisiumSpotPoly | 3.923 | 0.312 | 4.244 | |
| annotGeometries | 2.212 | 0.232 | 5.627 | |
| annotOp | 2.600 | 0.370 | 5.405 | |
| annotPred | 2.883 | 0.407 | 5.675 | |
| annotSummary | 2.296 | 0.227 | 4.910 | |
| bbox-SpatialFeatureExperiment-method | 2.291 | 0.285 | 4.979 | |
| cbind-SpatialFeatureExperiment-method | 5.458 | 1.350 | 12.453 | |
| changeSampleIDs | 3.246 | 0.583 | 6.532 | |
| crop | 4.956 | 0.335 | 8.798 | |
| df2sf | 0.098 | 0.009 | 0.110 | |
| dimGeometries | 6.723 | 0.396 | 12.525 | |
| findSpatialNeighbors-SpatialFeatureExperiment-method | 5.115 | 0.247 | 10.951 | |
| findVisiumGraph | 5.131 | 0.171 | 10.093 | |
| localResults | 1.922 | 0.056 | 1.982 | |
| read10xVisiumSFE | 2.782 | 0.108 | 2.906 | |
| readVizgen | 2.931 | 1.630 | 4.389 | |
| removeEmptySpace | 8.861 | 0.563 | 12.576 | |
| sampleIDs | 2.269 | 0.115 | 5.303 | |
| show-SpatialFeatureExperiment-method | 3.094 | 0.139 | 5.645 | |
| spatialGraphs | 6.396 | 0.249 | 11.510 | |
| st_any_pred | 0.028 | 0.005 | 0.033 | |
| unit-SpatialFeatureExperiment-method | 2.265 | 0.059 | 5.871 | |
| updateObject | 2.419 | 0.099 | 5.043 | |