Back to Multiple platform build/check report for BioC 3.18: simplified long |
|
This page was generated on 2024-04-17 11:37:18 -0400 (Wed, 17 Apr 2024).
Hostname | OS | Arch (*) | R version | Installed pkgs |
---|---|---|---|---|
nebbiolo2 | Linux (Ubuntu 22.04.3 LTS) | x86_64 | 4.3.3 (2024-02-29) -- "Angel Food Cake" | 4676 |
palomino4 | Windows Server 2022 Datacenter | x64 | 4.3.3 (2024-02-29 ucrt) -- "Angel Food Cake" | 4414 |
merida1 | macOS 12.7.1 Monterey | x86_64 | 4.3.3 (2024-02-29) -- "Angel Food Cake" | 4437 |
Click on any hostname to see more info about the system (e.g. compilers) (*) as reported by 'uname -p', except on Windows and Mac OS X |
Package 1933/2266 | Hostname | OS / Arch | INSTALL | BUILD | CHECK | BUILD BIN | ||||||||
SeqVarTools 1.40.0 (landing page) Stephanie M. Gogarten
| nebbiolo2 | Linux (Ubuntu 22.04.3 LTS) / x86_64 | OK | OK | OK | |||||||||
palomino4 | Windows Server 2022 Datacenter / x64 | OK | OK | OK | OK | |||||||||
merida1 | macOS 12.7.1 Monterey / x86_64 | OK | OK | OK | OK | |||||||||
kjohnson1 | macOS 13.6.1 Ventura / arm64 | see weekly results here | ||||||||||||
To the developers/maintainers of the SeqVarTools package: - Allow up to 24 hours (and sometimes 48 hours) for your latest push to git@git.bioconductor.org:packages/SeqVarTools.git to reflect on this report. See Troubleshooting Build Report for more information. - Use the following Renviron settings to reproduce errors and warnings. - If 'R CMD check' started to fail recently on the Linux builder(s) over a missing dependency, add the missing dependency to 'Suggests:' in your DESCRIPTION file. See Renviron.bioc for more information. |
Package: SeqVarTools |
Version: 1.40.0 |
Command: F:\biocbuild\bbs-3.18-bioc\R\bin\R.exe CMD check --no-multiarch --install=check:SeqVarTools.install-out.txt --library=F:\biocbuild\bbs-3.18-bioc\R\library --no-vignettes --timings SeqVarTools_1.40.0.tar.gz |
StartedAt: 2024-04-16 05:04:39 -0400 (Tue, 16 Apr 2024) |
EndedAt: 2024-04-16 05:09:00 -0400 (Tue, 16 Apr 2024) |
EllapsedTime: 260.8 seconds |
RetCode: 0 |
Status: OK |
CheckDir: SeqVarTools.Rcheck |
Warnings: 0 |
############################################################################## ############################################################################## ### ### Running command: ### ### F:\biocbuild\bbs-3.18-bioc\R\bin\R.exe CMD check --no-multiarch --install=check:SeqVarTools.install-out.txt --library=F:\biocbuild\bbs-3.18-bioc\R\library --no-vignettes --timings SeqVarTools_1.40.0.tar.gz ### ############################################################################## ############################################################################## * using log directory 'F:/biocbuild/bbs-3.18-bioc/meat/SeqVarTools.Rcheck' * using R version 4.3.3 (2024-02-29 ucrt) * using platform: x86_64-w64-mingw32 (64-bit) * R was compiled by gcc.exe (GCC) 12.3.0 GNU Fortran (GCC) 12.3.0 * running under: Windows Server 2022 x64 (build 20348) * using session charset: UTF-8 * using option '--no-vignettes' * checking for file 'SeqVarTools/DESCRIPTION' ... OK * checking extension type ... Package * this is package 'SeqVarTools' version '1.40.0' * checking package namespace information ... OK * checking package dependencies ... OK * checking if this is a source package ... OK * checking if there is a namespace ... OK * checking for hidden files and directories ... OK * checking for portable file names ... OK * checking whether package 'SeqVarTools' can be installed ... OK * checking installed package size ... OK * checking package directory ... OK * checking 'build' directory ... OK * checking DESCRIPTION meta-information ... OK * checking top-level files ... OK * checking for left-over files ... OK * checking index information ... OK * checking package subdirectories ... OK * checking R files for non-ASCII characters ... OK * checking R files for syntax errors ... OK * checking whether the package can be loaded ... OK * checking whether the package can be loaded with stated dependencies ... OK * checking whether the package can be unloaded cleanly ... OK * checking whether the namespace can be loaded with stated dependencies ... OK * checking whether the namespace can be unloaded cleanly ... OK * checking dependencies in R code ... OK * checking S3 generic/method consistency ... OK * checking replacement functions ... OK * checking foreign function calls ... OK * checking R code for possible problems ... OK * checking Rd files ... OK * checking Rd metadata ... OK * checking Rd cross-references ... OK * checking for missing documentation entries ... OK * checking for code/documentation mismatches ... OK * checking Rd \usage sections ... OK * checking Rd contents ... OK * checking for unstated dependencies in examples ... OK * checking contents of 'data' directory ... OK * checking data for non-ASCII characters ... OK * checking LazyData ... OK * checking data for ASCII and uncompressed saves ... OK * checking sizes of PDF files under 'inst/doc' ... OK * checking files in 'vignettes' ... OK * checking examples ... OK * checking for unstated dependencies in 'tests' ... OK * checking tests ... Running 'test.R' OK * checking for unstated dependencies in vignettes ... OK * checking package vignettes in 'inst/doc' ... OK * checking running R code from vignettes ... SKIPPED * checking re-building of vignette outputs ... SKIPPED * checking PDF version of manual ... OK * DONE Status: OK
SeqVarTools.Rcheck/00install.out
############################################################################## ############################################################################## ### ### Running command: ### ### F:\biocbuild\bbs-3.18-bioc\R\bin\R.exe CMD INSTALL SeqVarTools ### ############################################################################## ############################################################################## * installing to library 'F:/biocbuild/bbs-3.18-bioc/R/library' * installing *source* package 'SeqVarTools' ... ** using staged installation ** R ** data *** moving datasets to lazyload DB ** inst ** byte-compile and prepare package for lazy loading ** help *** installing help indices ** building package indices ** installing vignettes ** testing if installed package can be loaded from temporary location ** testing if installed package can be loaded from final location ** testing if installed package keeps a record of temporary installation path * DONE (SeqVarTools)
SeqVarTools.Rcheck/tests/test.Rout
R version 4.3.3 (2024-02-29 ucrt) -- "Angel Food Cake" Copyright (C) 2024 The R Foundation for Statistical Computing Platform: x86_64-w64-mingw32/x64 (64-bit) R is free software and comes with ABSOLUTELY NO WARRANTY. You are welcome to redistribute it under certain conditions. Type 'license()' or 'licence()' for distribution details. R is a collaborative project with many contributors. Type 'contributors()' for more information and 'citation()' on how to cite R or R packages in publications. Type 'demo()' for some demos, 'help()' for on-line help, or 'help.start()' for an HTML browser interface to help. Type 'q()' to quit R. > library(GenomicRanges) Loading required package: stats4 Loading required package: BiocGenerics Attaching package: 'BiocGenerics' The following objects are masked from 'package:stats': IQR, mad, sd, var, xtabs The following objects are masked from 'package:base': Filter, Find, Map, Position, Reduce, anyDuplicated, aperm, append, as.data.frame, basename, cbind, colnames, dirname, do.call, duplicated, eval, evalq, get, grep, grepl, intersect, is.unsorted, lapply, mapply, match, mget, order, paste, pmax, pmax.int, pmin, pmin.int, rank, rbind, rownames, sapply, setdiff, sort, table, tapply, union, unique, unsplit, which.max, which.min Loading required package: S4Vectors Attaching package: 'S4Vectors' The following object is masked from 'package:utils': findMatches The following objects are masked from 'package:base': I, expand.grid, unname Loading required package: IRanges Attaching package: 'IRanges' The following object is masked from 'package:grDevices': windows Loading required package: GenomeInfoDb > BiocGenerics:::testPackage("SeqVarTools") Loading required package: Biobase Welcome to Bioconductor Vignettes contain introductory material; view with 'browseVignettes()'. To cite Bioconductor, see 'citation("Biobase")', and for packages 'citation("pkgname")'. # of selected samples: 5 # of selected variants: 5 # of selected samples: 5 # of selected variants: 10 # of selected samples: 90 # of selected variants: 1,348 # of selected samples: 90 # of selected variants: 1,348 # of selected samples: 3 # of selected samples: 3 matching samples... 2 pairs identified! matching variants... 1346 non-overlapping variant matches identified! # of selected samples: 2 # of selected variants: 1,346 # of selected samples: 90 # of selected variants: 1,348 # of selected samples: 90 # of selected variants: 1,348 # of selected samples: 2 # of selected variants: 50 # of selected samples: 2 # of selected variants: 51 matching samples... 2 pairs identified! matching variants... 26 non-overlapping variant matches identified! # of selected variants: 26 # of selected samples: 90 # of selected variants: 1,348 # of selected samples: 5 # of selected variants: 10 # of selected samples: 5 # of selected variants: 10 File: F:\biocbuild\bbs-3.18-bioc\R\library\SeqArray\extdata\CEU_Exon.gds (287.6K) + [ ] * |--+ description [ ] * |--+ sample.id { Str8 90 LZMA_ra(34.7%), 257B } * |--+ variant.id { Int32 1348 LZMA_ra(16.7%), 905B } * |--+ position { Int32 1348 LZMA_ra(64.4%), 3.4K } * |--+ chromosome { Str8 1348 LZMA_ra(4.39%), 157B } * |--+ allele { Str8 1348 LZMA_ra(16.6%), 901B } * |--+ genotype [ ] * | |--+ data { Bit2 2x90x1348 LZMA_ra(26.3%), 15.6K } * | |--+ ~data { Bit2 2x1348x90 LZMA_ra(29.2%), 17.3K } * | |--+ extra.index { Int32 3x0 LZMA_ra, 18B } * | \--+ extra { Int16 0 LZMA_ra, 18B } |--+ phase [ ] | |--+ data { Bit1 90x1348 LZMA_ra(0.86%), 137B } * | |--+ ~data { Bit1 1348x90 LZMA_ra(0.86%), 137B } * | |--+ extra.index { Int32 3x0 LZMA_ra, 18B } * | \--+ extra { Bit1 0 LZMA_ra, 18B } |--+ annotation [ ] | |--+ id { Str8 1348 LZMA_ra(38.3%), 5.5K } * | |--+ qual { Float32 1348 LZMA_ra(2.11%), 121B } * | |--+ filter { Int32,factor 1348 LZMA_ra(2.11%), 121B } * | |--+ info [ ] | | |--+ AA { Str8 1328 LZMA_ra(22.1%), 593B } * | | |--+ AC { Int32 1348 LZMA_ra(24.1%), 1.3K } * | | |--+ AN { Int32 1348 LZMA_ra(19.6%), 1.0K } * | | |--+ DP { Int32 1348 LZMA_ra(47.7%), 2.5K } * | | |--+ HM2 { Bit1 1348 LZMA_ra(145.6%), 253B } * | | |--+ HM3 { Bit1 1348 LZMA_ra(145.6%), 253B } * | | |--+ OR { Str8 1348 LZMA_ra(19.6%), 341B } * | | |--+ GP { Str8 1348 LZMA_ra(24.3%), 3.8K } * | | \--+ BN { Int32 1348 LZMA_ra(20.7%), 1.1K } * | \--+ format [ ] | \--+ DP [ ] * | |--+ data { VL_Int 90x1348 LZMA_ra(70.8%), 115.2K } * | \--+ ~data { VL_Int 1348x90 LZMA_ra(65.1%), 105.9K } * \--+ sample.annotation [ ] \--+ family { Str8 90 LZMA_ra(55.0%), 221B } * # of selected variants: 142 # of selected samples: 90 # of selected variants: 1,348 # of selected variants: 5 # of selected samples: 90 # of selected variants: 1,348 # of selected samples: 5 # of selected variants: 5 # of selected samples: 90 # of selected variants: 1,348 # of selected samples: 90 # of selected variants: 1,348 # of selected samples: 3 # of selected samples: 3 matching samples... 2 pairs identified! matching variants... 1346 variant matches identified! matching samples... 2 pairs identified! matching variants... 1346 variant matches identified! # of selected samples: 90 # of selected variants: 1,348 # of selected samples: 90 # of selected variants: 1,348 # of selected samples: 2 # of selected variants: 50 # of selected samples: 2 # of selected variants: 51 matching samples... 2 pairs identified! matching variants... 26 variant matches identified! matching samples... 2 pairs identified! matching variants... 26 variant matches identified! # of selected variants: 26 # of selected samples: 90 # of selected variants: 1,348 # of selected samples: 90 # of selected variants: 1,348 # of selected samples: 3 # of selected samples: 3 matching samples... 2 pairs identified! matching variants... 1346 variant matches identified! matching samples... 2 pairs identified! matching variants... 1346 variant matches identified! matching samples... 2 pairs identified! matching variants... 1346 variant matches identified! matching samples... 2 pairs identified! matching variants... 1346 variant matches identified! # of selected samples: 90 # of selected variants: 1,348 # of selected samples: 90 # of selected variants: 1,348 # of selected samples: 2 # of selected variants: 50 # of selected samples: 2 # of selected variants: 51 matching samples... 2 pairs identified! matching variants... 26 variant matches identified! matching samples... 2 pairs identified! matching variants... 26 variant matches identified! # of selected variants: 26 Warning in SeqVarTools:::.samplePairs1(samples) : More than two samples for subject 4 Selecting first two samples: samp7, samp8 # of selected samples: 5 # of selected variants: 10 # of selected samples: 5 # of selected variants: 10 # of selected samples: 5 # of selected variants: 10 # of selected samples: 5 # of selected variants: 10 # of selected samples: 5 # of selected variants: 10 # of selected samples: 90 # of selected variants: 1,348 # of selected samples: 5 # of selected variants: 10 # of selected samples: 5 # of selected variants: 10 # of selected samples: 5 # of selected variants: 10 # of selected samples: 90 # of selected variants: 1,348 # of selected samples: 5 # of selected variants: 10 # of selected samples: 5 # of selected variants: 10 # of selected variants: 1,346 # of selected variants: 1,330 # of selected samples: 5 # of selected variants: 10 # of selected samples: 90 # of selected variants: 1,348 # of selected samples: 5 # of selected variants: 10 # of selected samples: 5 # of selected variants: 10 # of selected samples: 5 # of selected variants: 10 # of selected samples: 90 # of selected variants: 1,348 # of selected samples: 5 # of selected variants: 10 # of selected samples: 3 # of selected variants: 10 # of selected samples: 3 # of selected samples: 90 # of selected variants: 1,348 # of selected variants: 10 # of selected samples: 3 # of selected samples: 5 # of selected variants: 10 # of selected samples: 90 # of selected variants: 1,348 # of selected samples: 5 # of selected variants: 10 # of selected samples: 5 # of selected variants: 10 starting worker pid=12804 on localhost:11617 at 05:07:35.416 starting worker pid=141184 on localhost:11617 at 05:07:35.435 starting worker pid=139372 on localhost:11617 at 05:07:35.460 starting worker pid=19760 on localhost:11617 at 05:07:35.499 starting worker pid=133496 on localhost:11617 at 05:07:35.512 starting worker pid=54576 on localhost:11617 at 05:07:35.535 starting worker pid=114308 on localhost:11617 at 05:07:35.537 starting worker pid=81112 on localhost:11617 at 05:07:35.557 starting worker pid=34928 on localhost:11617 at 05:07:35.573 starting worker pid=55920 on localhost:11617 at 05:07:35.573 starting worker pid=132840 on localhost:11617 at 05:07:35.587 starting worker pid=20088 on localhost:11617 at 05:07:35.619 starting worker pid=96704 on localhost:11617 at 05:07:35.632 starting worker pid=135700 on localhost:11617 at 05:07:35.634 starting worker pid=139632 on localhost:11617 at 05:07:35.639 starting worker pid=17028 on localhost:11617 at 05:07:35.665 starting worker pid=137352 on localhost:11617 at 05:07:35.670 starting worker pid=79344 on localhost:11617 at 05:07:35.708 starting worker pid=7144 on localhost:11617 at 05:07:35.706 starting worker pid=84484 on localhost:11617 at 05:07:35.757 starting worker pid=135788 on localhost:11617 at 05:07:35.760 starting worker pid=138400 on localhost:11617 at 05:07:35.783 starting worker pid=97116 on localhost:11617 at 05:07:35.788 starting worker pid=98348 on localhost:11617 at 05:07:35.817 starting worker pid=134180 on localhost:11617 at 05:07:35.839 starting worker pid=121508 on localhost:11617 at 05:07:35.857 starting worker pid=104856 on localhost:11617 at 05:07:35.872 starting worker pid=135492 on localhost:11617 at 05:07:35.880 starting worker pid=119216 on localhost:11617 at 05:07:35.908 starting worker pid=114664 on localhost:11617 at 05:07:35.931 starting worker pid=142248 on localhost:11617 at 05:07:35.938 starting worker pid=19708 on localhost:11617 at 05:07:45.002 starting worker pid=58056 on localhost:11617 at 05:07:45.022 starting worker pid=125792 on localhost:11617 at 05:07:45.042 starting worker pid=16504 on localhost:11617 at 05:07:45.043 starting worker pid=114252 on localhost:11617 at 05:07:45.045 starting worker pid=7992 on localhost:11617 at 05:07:45.057 starting worker pid=138776 on localhost:11617 at 05:07:45.064 starting worker pid=41720 on localhost:11617 at 05:07:45.086 starting worker pid=136036 on localhost:11617 at 05:07:45.087 starting worker pid=97640 on localhost:11617 at 05:07:45.087 starting worker pid=52304 on localhost:11617 at 05:07:45.101 starting worker pid=109176 on localhost:11617 at 05:07:45.187 starting worker pid=16668 on localhost:11617 at 05:07:45.238 starting worker pid=114332 on localhost:11617 at 05:07:45.249 starting worker pid=19468 on localhost:11617 at 05:07:45.291 starting worker pid=12684 on localhost:11617 at 05:07:45.356 starting worker pid=84872 on localhost:11617 at 05:07:45.373 starting worker pid=41436 on localhost:11617 at 05:07:45.393 starting worker pid=106820 on localhost:11617 at 05:07:45.410 starting worker pid=10804 on localhost:11617 at 05:07:45.428 starting worker pid=130724 on localhost:11617 at 05:07:45.437 starting worker pid=19684 on localhost:11617 at 05:07:45.452 starting worker pid=136868 on localhost:11617 at 05:07:45.462 starting worker pid=130144 on localhost:11617 at 05:07:45.467 starting worker pid=19128 on localhost:11617 at 05:07:45.474 starting worker pid=126080 on localhost:11617 at 05:07:45.479 starting worker pid=137768 on localhost:11617 at 05:07:45.504 starting worker pid=19080 on localhost:11617 at 05:07:45.537 starting worker pid=136848 on localhost:11617 at 05:07:45.541 starting worker pid=97528 on localhost:11617 at 05:07:45.560 starting worker pid=22328 on localhost:11617 at 05:07:45.566 starting worker pid=70580 on localhost:11617 at 05:08:02.242 starting worker pid=100076 on localhost:11617 at 05:08:02.250 starting worker pid=107280 on localhost:11617 at 05:08:02.277 starting worker pid=103056 on localhost:11617 at 05:08:02.278 starting worker pid=118124 on localhost:11617 at 05:08:02.309 starting worker pid=113080 on localhost:11617 at 05:08:02.322 starting worker pid=112172 on localhost:11617 at 05:08:02.328 starting worker pid=124152 on localhost:11617 at 05:08:02.401 starting worker pid=20320 on localhost:11617 at 05:08:02.407 starting worker pid=60744 on localhost:11617 at 05:08:02.439 starting worker pid=22604 on localhost:11617 at 05:08:02.451 starting worker pid=120988 on localhost:11617 at 05:08:02.508 starting worker pid=21860 on localhost:11617 at 05:08:02.553 starting worker pid=14432 on localhost:11617 at 05:08:02.630 starting worker pid=13664 on localhost:11617 at 05:08:02.654 starting worker pid=50056 on localhost:11617 at 05:08:02.667 starting worker pid=74576 on localhost:11617 at 05:08:02.712 starting worker pid=97576 on localhost:11617 at 05:08:02.735 starting worker pid=97548 on localhost:11617 at 05:08:02.739 starting worker pid=24128 on localhost:11617 at 05:08:02.749 starting worker pid=26900 on localhost:11617 at 05:08:02.751 starting worker pid=140340 on localhost:11617 at 05:08:02.773 starting worker pid=15476 on localhost:11617 at 05:08:02.791 starting worker pid=24120 on localhost:11617 at 05:08:02.796 starting worker pid=118164 on localhost:11617 at 05:08:02.806 starting worker pid=141592 on localhost:11617 at 05:08:02.833 starting worker pid=138872 on localhost:11617 at 05:08:02.846 starting worker pid=20108 on localhost:11617 at 05:08:02.862 starting worker pid=117844 on localhost:11617 at 05:08:02.932 starting worker pid=6020 on localhost:11617 at 05:08:02.945 starting worker pid=72740 on localhost:11617 at 05:08:03.004 starting worker pid=96996 on localhost:11617 at 05:08:11.607 starting worker pid=109344 on localhost:11617 at 05:08:11.646 starting worker pid=139548 on localhost:11617 at 05:08:11.712 starting worker pid=21084 on localhost:11617 at 05:08:11.723 starting worker pid=78460 on localhost:11617 at 05:08:11.737 starting worker pid=89116 on localhost:11617 at 05:08:11.741 starting worker pid=141736 on localhost:11617 at 05:08:11.767 starting worker pid=50936 on localhost:11617 at 05:08:11.799 starting worker pid=109904 on localhost:11617 at 05:08:11.800 starting worker pid=132616 on localhost:11617 at 05:08:11.809 starting worker pid=29036 on localhost:11617 at 05:08:11.822 starting worker pid=61756 on localhost:11617 at 05:08:11.854 starting worker pid=129224 on localhost:11617 at 05:08:11.857 starting worker pid=59564 on localhost:11617 at 05:08:11.859 starting worker pid=12884 on localhost:11617 at 05:08:11.884 starting worker pid=29520 on localhost:11617 at 05:08:11.908 starting worker pid=10744 on localhost:11617 at 05:08:11.945 starting worker pid=36820 on localhost:11617 at 05:08:11.951 starting worker pid=103796 on localhost:11617 at 05:08:11.966 starting worker pid=58884 on localhost:11617 at 05:08:11.989 starting worker pid=26544 on localhost:11617 at 05:08:11.991 starting worker pid=30144 on localhost:11617 at 05:08:12.004 starting worker pid=23032 on localhost:11617 at 05:08:12.005 starting worker pid=138420 on localhost:11617 at 05:08:12.039 starting worker pid=140980 on localhost:11617 at 05:08:12.042 starting worker pid=3548 on localhost:11617 at 05:08:12.045 starting worker pid=85972 on localhost:11617 at 05:08:12.047 starting worker pid=19956 on localhost:11617 at 05:08:12.052 starting worker pid=25804 on localhost:11617 at 05:08:12.170 starting worker pid=29444 on localhost:11617 at 05:08:12.175 starting worker pid=141796 on localhost:11617 at 05:08:12.184 starting worker pid=95208 on localhost:11617 at 05:08:28.605 starting worker pid=96744 on localhost:11617 at 05:08:28.616 starting worker pid=21492 on localhost:11617 at 05:08:28.656 starting worker pid=134044 on localhost:11617 at 05:08:28.664 starting worker pid=2772 on localhost:11617 at 05:08:28.687 starting worker pid=14632 on localhost:11617 at 05:08:28.709 starting worker pid=119964 on localhost:11617 at 05:08:28.716 starting worker pid=9752 on localhost:11617 at 05:08:28.719 starting worker pid=101380 on localhost:11617 at 05:08:28.730 starting worker pid=125068 on localhost:11617 at 05:08:28.754 starting worker pid=33900 on localhost:11617 at 05:08:28.763 starting worker pid=7724 on localhost:11617 at 05:08:29.066 starting worker pid=32340 on localhost:11617 at 05:08:29.073 starting worker pid=20824 on localhost:11617 at 05:08:29.095 starting worker pid=130268 on localhost:11617 at 05:08:29.096 starting worker pid=138388 on localhost:11617 at 05:08:29.099 starting worker pid=18788 on localhost:11617 at 05:08:29.115 starting worker pid=8796 on localhost:11617 at 05:08:29.125 starting worker pid=126996 on localhost:11617 at 05:08:29.147 starting worker pid=10904 on localhost:11617 at 05:08:29.149 starting worker pid=123576 on localhost:11617 at 05:08:29.149 starting worker pid=27844 on localhost:11617 at 05:08:29.166 starting worker pid=3680 on localhost:11617 at 05:08:29.189 starting worker pid=25968 on localhost:11617 at 05:08:29.215 starting worker pid=30896 on localhost:11617 at 05:08:29.249 starting worker pid=26732 on localhost:11617 at 05:08:29.255 starting worker pid=27312 on localhost:11617 at 05:08:29.275 starting worker pid=12132 on localhost:11617 at 05:08:29.290 starting worker pid=33168 on localhost:11617 at 05:08:29.296 starting worker pid=136024 on localhost:11617 at 05:08:29.384 starting worker pid=113172 on localhost:11617 at 05:08:29.416 # of selected samples: 5 # of selected variants: 10 # of selected samples: 90 # of selected variants: 1,348 # of selected samples: 5 # of selected variants: 10 # of selected variants: 903 # of selected samples: 59 # of selected samples: 58 # of selected samples: 32 # of selected samples: 5 # of selected variants: 10 # of selected samples: 90 # of selected variants: 1,348 # of selected samples: 5 # of selected variants: 10 # of selected samples: 5 # of selected variants: 10 # of selected samples: 90 # of selected variants: 1,348 # of selected samples: 5 # of selected variants: 10 # of selected samples: 10 # of selected samples: 10 # of selected variants: 10 # of selected samples: 10 RUNIT TEST PROTOCOL -- Tue Apr 16 05:08:50 2024 *********************************************** Number of test functions: 152 Number of errors: 0 Number of failures: 0 1 Test Suite : SeqVarTools RUnit Tests - 152 test functions, 0 errors, 0 failures Number of test functions: 152 Number of errors: 0 Number of failures: 0 > > proc.time() user system elapsed 26.15 1.62 97.35
SeqVarTools.Rcheck/SeqVarTools-Ex.timings
name | user | system | elapsed | |
Iterator-class | 1.18 | 0.03 | 1.20 | |
SeqVarData-class | 0.07 | 0.00 | 0.08 | |
allele-methods | 0.02 | 0.01 | 0.03 | |
alleleFrequency | 0.01 | 0.00 | 0.02 | |
alternateAlleleDetection | 0 | 0 | 0 | |
applyMethod | 0.20 | 0.02 | 0.22 | |
countSingletons | 0.00 | 0.01 | 0.01 | |
duplicateDiscordance | 0.15 | 0.00 | 0.16 | |
getGenotype | 0.03 | 0.00 | 0.03 | |
getVariableLengthData | 0.00 | 0.02 | 0.02 | |
heterozygosity | 0.11 | 0.03 | 0.14 | |
hwe | 0.05 | 0.00 | 0.05 | |
imputedDosage | 0.16 | 0.06 | 0.28 | |
inbreedCoeff | 0.12 | 0.00 | 0.12 | |
isSNV | 0.00 | 0.02 | 0.02 | |
isVariant | 0.00 | 0.01 | 0.01 | |
meanBySample | 0.05 | 0.00 | 0.05 | |
mendelErr | 0.00 | 0.02 | 0.02 | |
missingGenotypeRate | 0.01 | 0.00 | 0.01 | |
pca | 0.32 | 0.00 | 0.31 | |
pedigree | 0.00 | 0.01 | 0.01 | |
refFrac | 0.06 | 0.02 | 0.08 | |
regression | 0.09 | 0.01 | 0.11 | |
setVariantID | 0.00 | 0.02 | 0.05 | |
titv | 0.21 | 0.03 | 0.23 | |
variantInfo | 0.04 | 0.00 | 0.05 | |