| Back to Multiple platform build/check report for BioC 3.18: simplified long |
|
This page was generated on 2023-10-23 11:40:47 -0400 (Mon, 23 Oct 2023).
| Hostname | OS | Arch (*) | R version | Installed pkgs |
|---|---|---|---|---|
| nebbiolo2 | Linux (Ubuntu 22.04.2 LTS) | x86_64 | 4.3.1 (2023-06-16) -- "Beagle Scouts" | 4724 |
| palomino4 | Windows Server 2022 Datacenter | x64 | 4.3.1 (2023-06-16 ucrt) -- "Beagle Scouts" | 4459 |
| lconway | macOS 12.6.5 Monterey | x86_64 | 4.3.1 Patched (2023-06-17 r84564) -- "Beagle Scouts" | 4473 |
| kunpeng2 | Linux (openEuler 22.03 LTS-SP1) | aarch64 | 4.3.1 (2023-06-16) -- "Beagle Scouts" | 4461 |
| Click on any hostname to see more info about the system (e.g. compilers) (*) as reported by 'uname -p', except on Windows and Mac OS X | ||||
| Package 2064/2264 | Hostname | OS / Arch | INSTALL | BUILD | CHECK | BUILD BIN | ||||||||
| STRINGdb 2.13.1 (landing page) Damian Szklarczyk
| nebbiolo2 | Linux (Ubuntu 22.04.2 LTS) / x86_64 | OK | OK | OK | |||||||||
| palomino4 | Windows Server 2022 Datacenter / x64 | OK | OK | OK | OK | |||||||||
| lconway | macOS 12.6.5 Monterey / x86_64 | OK | OK | OK | OK | |||||||||
| kjohnson1 | macOS 13.3.1 Ventura / arm64 | see weekly results here | ||||||||||||
| kunpeng2 | Linux (openEuler 22.03 LTS-SP1) / aarch64 | OK | OK | OK | ||||||||||
|
To the developers/maintainers of the STRINGdb package: - Allow up to 24 hours (and sometimes 48 hours) for your latest push to git@git.bioconductor.org:packages/STRINGdb.git to reflect on this report. See Troubleshooting Build Report for more information. - Use the following Renviron settings to reproduce errors and warnings. - If 'R CMD check' started to fail recently on the Linux builder(s) over a missing dependency, add the missing dependency to 'Suggests:' in your DESCRIPTION file. See Renviron.bioc for more information. - See Martin Grigorov's blog post for how to debug Linux ARM64 related issues on a x86_64 host. |
| Package: STRINGdb |
| Version: 2.13.1 |
| Command: /home/biocbuild/R/R-4.3.1/bin/R CMD check --install=check:STRINGdb.install-out.txt --library=/home/biocbuild/R/R-4.3.1/site-library --timings STRINGdb_2.13.1.tar.gz |
| StartedAt: 2023-10-23 13:48:42 -0000 (Mon, 23 Oct 2023) |
| EndedAt: 2023-10-23 14:14:12 -0000 (Mon, 23 Oct 2023) |
| EllapsedTime: 1530.6 seconds |
| RetCode: 0 |
| Status: OK |
| CheckDir: STRINGdb.Rcheck |
| Warnings: 0 |
##############################################################################
##############################################################################
###
### Running command:
###
### /home/biocbuild/R/R-4.3.1/bin/R CMD check --install=check:STRINGdb.install-out.txt --library=/home/biocbuild/R/R-4.3.1/site-library --timings STRINGdb_2.13.1.tar.gz
###
##############################################################################
##############################################################################
* using log directory ‘/home/biocbuild/bbs-3.18-bioc/meat/STRINGdb.Rcheck’
* using R version 4.3.1 (2023-06-16)
* using platform: aarch64-unknown-linux-gnu (64-bit)
* R was compiled by
gcc (GCC) 10.3.1
GNU Fortran (GCC) 10.3.1
* running under: openEuler 22.03 (LTS-SP1)
* using session charset: UTF-8
* checking for file ‘STRINGdb/DESCRIPTION’ ... OK
* checking extension type ... Package
* this is package ‘STRINGdb’ version ‘2.13.1’
* checking package namespace information ... OK
* checking package dependencies ... OK
* checking if this is a source package ... OK
* checking if there is a namespace ... OK
* checking for hidden files and directories ... OK
* checking for portable file names ... OK
* checking for sufficient/correct file permissions ... OK
* checking whether package ‘STRINGdb’ can be installed ... OK
* checking installed package size ... OK
* checking package directory ... OK
* checking ‘build’ directory ... OK
* checking DESCRIPTION meta-information ... OK
* checking top-level files ... OK
* checking for left-over files ... OK
* checking index information ... OK
* checking package subdirectories ... OK
* checking R files for non-ASCII characters ... OK
* checking R files for syntax errors ... OK
* checking whether the package can be loaded ... OK
* checking whether the package can be loaded with stated dependencies ... OK
* checking whether the package can be unloaded cleanly ... OK
* checking whether the namespace can be loaded with stated dependencies ... OK
* checking whether the namespace can be unloaded cleanly ... OK
* checking loading without being on the library search path ... OK
* checking dependencies in R code ... OK
* checking S3 generic/method consistency ... OK
* checking replacement functions ... OK
* checking foreign function calls ... OK
* checking R code for possible problems ... NOTE
coeffOfvar: no visible global function definition for ‘sd’
downloadAbsentFile: no visible global function definition for ‘tail’
downloadAbsentFile: no visible global function definition for
‘download.file’
downloadAbsentFileSTRING: no visible global function definition for
‘read.table’
downloadAbsentFileSTRING: no visible global function definition for
‘tail’
downloadAbsentFileSTRING: no visible global function definition for
‘download.file’
Undefined global functions or variables:
download.file read.table sd tail
Consider adding
importFrom("stats", "sd")
importFrom("utils", "download.file", "read.table", "tail")
to your NAMESPACE file.
* checking Rd files ... OK
* checking Rd metadata ... OK
* checking Rd cross-references ... OK
* checking for missing documentation entries ... OK
* checking for code/documentation mismatches ... OK
* checking Rd \usage sections ... OK
* checking Rd contents ... OK
* checking for unstated dependencies in examples ... OK
* checking contents of ‘data’ directory ... OK
* checking data for non-ASCII characters ... OK
* checking data for ASCII and uncompressed saves ... OK
* checking files in ‘vignettes’ ... OK
* checking examples ... OK
* checking for unstated dependencies in ‘tests’ ... OK
* checking tests ...
Running ‘runTests.R’
OK
* checking for unstated dependencies in vignettes ... OK
* checking package vignettes in ‘inst/doc’ ... OK
* checking running R code from vignettes ...
‘STRINGdb.Rnw’... OK
OK
* checking re-building of vignette outputs ... OK
* checking PDF version of manual ... OK
* DONE
Status: 1 NOTE
See
‘/home/biocbuild/bbs-3.18-bioc/meat/STRINGdb.Rcheck/00check.log’
for details.
STRINGdb.Rcheck/00install.out
############################################################################## ############################################################################## ### ### Running command: ### ### /home/biocbuild/R/R-4.3.1/bin/R CMD INSTALL STRINGdb ### ############################################################################## ############################################################################## * installing to library ‘/home/biocbuild/R/R-4.3.1/site-library’ * installing *source* package ‘STRINGdb’ ... ** using staged installation ** R ** data ** inst ** byte-compile and prepare package for lazy loading ** help *** installing help indices ** building package indices ** installing vignettes ** testing if installed package can be loaded from temporary location ** testing if installed package can be loaded from final location ** testing if installed package keeps a record of temporary installation path * DONE (STRINGdb)
STRINGdb.Rcheck/tests/runTests.Rout
R version 4.3.1 (2023-06-16) -- "Beagle Scouts"
Copyright (C) 2023 The R Foundation for Statistical Computing
Platform: aarch64-unknown-linux-gnu (64-bit)
R is free software and comes with ABSOLUTELY NO WARRANTY.
You are welcome to redistribute it under certain conditions.
Type 'license()' or 'licence()' for distribution details.
R is a collaborative project with many contributors.
Type 'contributors()' for more information and
'citation()' on how to cite R or R packages in publications.
Type 'demo()' for some demos, 'help()' for on-line help, or
'help.start()' for an HTML browser interface to help.
Type 'q()' to quit R.
> BiocGenerics:::testPackage("STRINGdb")
trying URL 'https://stringdb-downloads.org/download/protein.aliases.v11.5/9606.protein.aliases.v11.5.txt.gz'
Content type 'application/octet-stream' length 21726816 bytes (20.7 MB)
==================================================
downloaded 20.7 MB
trying URL 'https://stringdb-downloads.org/download/protein.info.v11.5/9606.protein.info.v11.5.txt.gz'
Content type 'application/octet-stream' length 1901833 bytes (1.8 MB)
==================================================
downloaded 1.8 MB
trying URL 'https://stringdb-downloads.org/download/protein.info.v11.5/511145.protein.info.v11.5.txt.gz'
Content type 'application/octet-stream' length 256371 bytes (250 KB)
==================================================
downloaded 250 KB
trying URL 'https://stringdb-downloads.org/download/protein.links.v11.5/511145.protein.links.v11.5.txt.gz'
Content type 'application/octet-stream' length 5455721 bytes (5.2 MB)
==================================================
downloaded 5.2 MB
trying URL 'https://stringdb-downloads.org/download/protein.aliases.v11.0/9606.protein.aliases.v11.0.txt.gz'
Content type 'application/octet-stream' length 13253303 bytes (12.6 MB)
==================================================
downloaded 12.6 MB
trying URL 'https://stringdb-downloads.org/download/protein.info.v11.0/9606.protein.info.v11.0.txt.gz'
Content type 'application/octet-stream' length 1894048 bytes (1.8 MB)
==================================================
downloaded 1.8 MB
Warning: we couldn't map to STRING 15% of your identifierstrying URL 'https://stringdb-downloads.org/download/protein.links.v11.5/9606.protein.links.v11.5.txt.gz'
Content type 'application/octet-stream' length 72718210 bytes (69.3 MB)
==================================================
downloaded 69.3 MB
RUNIT TEST PROTOCOL -- Mon Oct 23 13:56:56 2023
***********************************************
Number of test functions: 5
Number of errors: 0
Number of failures: 0
1 Test Suite :
STRINGdb RUnit Tests - 5 test functions, 0 errors, 0 failures
Number of test functions: 5
Number of errors: 0
Number of failures: 0
>
> proc.time()
user system elapsed
259.533 6.974 451.848
STRINGdb.Rcheck/STRINGdb-Ex.timings
| name | user | system | elapsed | |
| STRINGdb-class | 0.001 | 0.000 | 0.001 | |