Back to Multiple platform build/check report for BioC 3.18: simplified long |
|
This page was generated on 2023-09-11 11:38:12 -0400 (Mon, 11 Sep 2023).
Hostname | OS | Arch (*) | R version | Installed pkgs |
---|---|---|---|---|
nebbiolo2 | Linux (Ubuntu 22.04.2 LTS) | x86_64 | 4.3.1 (2023-06-16) -- "Beagle Scouts" | 4646 |
palomino4 | Windows Server 2022 Datacenter | x64 | 4.3.1 (2023-06-16 ucrt) -- "Beagle Scouts" | 4383 |
lconway | macOS 12.6.5 Monterey | x86_64 | 4.3.1 Patched (2023-06-17 r84564) -- "Beagle Scouts" | 4397 |
kunpeng2 | Linux (openEuler 22.03 LTS-SP1) | aarch64 | 4.3.1 (2023-06-16) -- "Beagle Scouts" | 4386 |
Click on any hostname to see more info about the system (e.g. compilers) (*) as reported by 'uname -p', except on Windows and Mac OS X |
Package 1953/2225 | Hostname | OS / Arch | INSTALL | BUILD | CHECK | BUILD BIN | ||||||||
SNPediaR 1.27.0 (landing page) David Montaner
| nebbiolo2 | Linux (Ubuntu 22.04.2 LTS) / x86_64 | OK | OK | OK | |||||||||
palomino4 | Windows Server 2022 Datacenter / x64 | OK | OK | ERROR | OK | |||||||||
lconway | macOS 12.6.5 Monterey / x86_64 | OK | OK | OK | OK | |||||||||
kunpeng2 | Linux (openEuler 22.03 LTS-SP1) / aarch64 | OK | OK | OK | ||||||||||
To the developers/maintainers of the SNPediaR package: - Allow up to 24 hours (and sometimes 48 hours) for your latest push to git@git.bioconductor.org:packages/SNPediaR.git to reflect on this report. See Troubleshooting Build Report for more information. - Use the following Renviron settings to reproduce errors and warnings. - If 'R CMD check' started to fail recently on the Linux builder(s) over a missing dependency, add the missing dependency to 'Suggests:' in your DESCRIPTION file. See Renviron.bioc for more information. |
Package: SNPediaR |
Version: 1.27.0 |
Command: rm -rf SNPediaR.buildbin-libdir && mkdir SNPediaR.buildbin-libdir && F:\biocbuild\bbs-3.18-bioc\R\bin\R.exe CMD INSTALL --build --library=SNPediaR.buildbin-libdir SNPediaR_1.27.0.tar.gz |
StartedAt: 2023-09-11 09:15:56 -0400 (Mon, 11 Sep 2023) |
EndedAt: 2023-09-11 09:16:00 -0400 (Mon, 11 Sep 2023) |
EllapsedTime: 3.7 seconds |
RetCode: 0 |
Status: OK |
PackageFile: SNPediaR_1.27.0.zip |
PackageFileSize: 248.3 KiB |
############################################################################## ############################################################################## ### ### Running command: ### ### rm -rf SNPediaR.buildbin-libdir && mkdir SNPediaR.buildbin-libdir && F:\biocbuild\bbs-3.18-bioc\R\bin\R.exe CMD INSTALL --build --library=SNPediaR.buildbin-libdir SNPediaR_1.27.0.tar.gz ### ############################################################################## ############################################################################## * installing *source* package 'SNPediaR' ... ** using staged installation ** R ** inst ** byte-compile and prepare package for lazy loading ** help *** installing help indices ** building package indices ** installing vignettes ** testing if installed package can be loaded from temporary location ** testing if installed package can be loaded from final location ** testing if installed package keeps a record of temporary installation path * MD5 sums packaged installation of 'SNPediaR' as SNPediaR_1.27.0.zip * DONE (SNPediaR)