| Back to Multiple platform build/check report for BioC 3.18: simplified long |
|
This page was generated on 2024-02-22 11:36:22 -0500 (Thu, 22 Feb 2024).
| Hostname | OS | Arch (*) | R version | Installed pkgs |
|---|---|---|---|---|
| nebbiolo2 | Linux (Ubuntu 22.04.3 LTS) | x86_64 | 4.3.2 Patched (2023-11-13 r85521) -- "Eye Holes" | 4691 |
| palomino4 | Windows Server 2022 Datacenter | x64 | 4.3.2 (2023-10-31 ucrt) -- "Eye Holes" | 4444 |
| lconway | macOS 12.7.1 Monterey | x86_64 | 4.3.2 Patched (2023-11-01 r85457) -- "Eye Holes" | 4465 |
| Click on any hostname to see more info about the system (e.g. compilers) (*) as reported by 'uname -p', except on Windows and Mac OS X | ||||
| Package 1938/2266 | Hostname | OS / Arch | INSTALL | BUILD | CHECK | BUILD BIN | ||||||||
| SGCP 1.2.0 (landing page) Niloofar AghaieAbiane
| nebbiolo2 | Linux (Ubuntu 22.04.3 LTS) / x86_64 | OK | OK | OK | |||||||||
| palomino4 | Windows Server 2022 Datacenter / x64 | OK | OK | OK | OK | |||||||||
| lconway | macOS 12.7.1 Monterey / x86_64 | OK | OK | OK | OK | |||||||||
| kjohnson1 | macOS 13.6.1 Ventura / arm64 | see weekly results here | ||||||||||||
|
To the developers/maintainers of the SGCP package: - Allow up to 24 hours (and sometimes 48 hours) for your latest push to git@git.bioconductor.org:packages/SGCP.git to reflect on this report. See Troubleshooting Build Report for more information. - Use the following Renviron settings to reproduce errors and warnings. - If 'R CMD check' started to fail recently on the Linux builder(s) over a missing dependency, add the missing dependency to 'Suggests:' in your DESCRIPTION file. See Renviron.bioc for more information. |
| Package: SGCP |
| Version: 1.2.0 |
| Command: /home/biocbuild/bbs-3.18-bioc/R/bin/R CMD check --install=check:SGCP.install-out.txt --library=/home/biocbuild/bbs-3.18-bioc/R/site-library --timings SGCP_1.2.0.tar.gz |
| StartedAt: 2024-02-22 02:31:15 -0500 (Thu, 22 Feb 2024) |
| EndedAt: 2024-02-22 02:36:41 -0500 (Thu, 22 Feb 2024) |
| EllapsedTime: 326.0 seconds |
| RetCode: 0 |
| Status: OK |
| CheckDir: SGCP.Rcheck |
| Warnings: 0 |
##############################################################################
##############################################################################
###
### Running command:
###
### /home/biocbuild/bbs-3.18-bioc/R/bin/R CMD check --install=check:SGCP.install-out.txt --library=/home/biocbuild/bbs-3.18-bioc/R/site-library --timings SGCP_1.2.0.tar.gz
###
##############################################################################
##############################################################################
* using log directory ‘/home/biocbuild/bbs-3.18-bioc/meat/SGCP.Rcheck’
* using R version 4.3.2 Patched (2023-11-13 r85521)
* using platform: x86_64-pc-linux-gnu (64-bit)
* R was compiled by
gcc (Ubuntu 11.4.0-1ubuntu1~22.04) 11.4.0
GNU Fortran (Ubuntu 11.4.0-1ubuntu1~22.04) 11.4.0
* running under: Ubuntu 22.04.3 LTS
* using session charset: UTF-8
* checking for file ‘SGCP/DESCRIPTION’ ... OK
* checking extension type ... Package
* this is package ‘SGCP’ version ‘1.2.0’
* package encoding: UTF-8
* checking package namespace information ... OK
* checking package dependencies ... OK
* checking if this is a source package ... OK
* checking if there is a namespace ... OK
* checking for hidden files and directories ... OK
* checking for portable file names ... OK
* checking for sufficient/correct file permissions ... OK
* checking whether package ‘SGCP’ can be installed ... OK
* checking installed package size ... OK
* checking package directory ... OK
* checking ‘build’ directory ... OK
* checking DESCRIPTION meta-information ... OK
* checking top-level files ... OK
* checking for left-over files ... OK
* checking index information ... OK
* checking package subdirectories ... OK
* checking R files for non-ASCII characters ... OK
* checking R files for syntax errors ... OK
* checking whether the package can be loaded ... OK
* checking whether the package can be loaded with stated dependencies ... OK
* checking whether the package can be unloaded cleanly ... OK
* checking whether the namespace can be loaded with stated dependencies ... OK
* checking whether the namespace can be unloaded cleanly ... OK
* checking loading without being on the library search path ... OK
* checking dependencies in R code ... OK
* checking S3 generic/method consistency ... OK
* checking replacement functions ... OK
* checking foreign function calls ... OK
* checking R code for possible problems ... OK
* checking Rd files ... OK
* checking Rd metadata ... OK
* checking Rd cross-references ... OK
* checking for missing documentation entries ... OK
* checking for code/documentation mismatches ... OK
* checking Rd \usage sections ... OK
* checking Rd contents ... OK
* checking for unstated dependencies in examples ... OK
* checking contents of ‘data’ directory ... OK
* checking data for non-ASCII characters ... OK
* checking data for ASCII and uncompressed saves ... OK
* checking files in ‘vignettes’ ... OK
* checking examples ... OK
* checking for unstated dependencies in vignettes ... OK
* checking package vignettes in ‘inst/doc’ ... OK
* checking running R code from vignettes ...
‘SGCP.Rmd’ using ‘UTF-8’... OK
NONE
* checking re-building of vignette outputs ... OK
* checking PDF version of manual ... OK
* DONE
Status: OK
SGCP.Rcheck/00install.out
############################################################################## ############################################################################## ### ### Running command: ### ### /home/biocbuild/bbs-3.18-bioc/R/bin/R CMD INSTALL SGCP ### ############################################################################## ############################################################################## * installing to library ‘/home/biocbuild/bbs-3.18-bioc/R/site-library’ * installing *source* package ‘SGCP’ ... ** using staged installation ** R ** data ** inst ** byte-compile and prepare package for lazy loading ** help *** installing help indices ** building package indices ** installing vignettes ** testing if installed package can be loaded from temporary location ** testing if installed package can be loaded from final location ** testing if installed package keeps a record of temporary installation path * DONE (SGCP)
SGCP.Rcheck/SGCP-Ex.timings
| name | user | system | elapsed | |
| SGCP_adjacencyMatrix | 0.959 | 0.060 | 1.020 | |
| SGCP_clustering | 0.189 | 0.004 | 0.193 | |
| SGCP_ezPLOT | 0.280 | 0.000 | 0.279 | |
| SGCP_ezSGCP | 0.241 | 0.000 | 0.241 | |
| SGCP_go | 0.167 | 0.004 | 0.171 | |
| SGCP_plot_bar | 0.339 | 0.016 | 0.355 | |
| SGCP_plot_conductance | 0.280 | 0.036 | 0.316 | |
| SGCP_plot_density | 0.276 | 0.004 | 0.280 | |
| SGCP_plot_heatMap | 0.506 | 0.008 | 0.455 | |
| SGCP_plot_jitter | 0.206 | 0.004 | 0.210 | |
| SGCP_plot_pca | 0.125 | 0.008 | 0.134 | |
| SGCP_plot_pie | 0.451 | 0.064 | 0.516 | |
| SGCP_plot_silhouette | 0.483 | 0.012 | 0.495 | |
| SGCP_semiLabeling | 0.069 | 0.004 | 0.073 | |
| SGCP_semiSupervised | 2.097 | 0.044 | 2.142 | |
| cheng | 0.215 | 0.000 | 0.216 | |
| resClus | 0.595 | 0.040 | 0.635 | |
| resFinalGO | 0.030 | 0.000 | 0.031 | |
| resInitialGO | 0.03 | 0.00 | 0.03 | |
| resSemiLabel | 0.005 | 0.000 | 0.005 | |
| resSemiSupervised | 0.032 | 0.000 | 0.033 | |
| sgcp | 0.094 | 0.000 | 0.095 | |