| Back to Multiple platform build/check report for BioC 3.18: simplified long |
|
This page was generated on 2024-04-17 11:36:20 -0400 (Wed, 17 Apr 2024).
| Hostname | OS | Arch (*) | R version | Installed pkgs |
|---|---|---|---|---|
| nebbiolo2 | Linux (Ubuntu 22.04.3 LTS) | x86_64 | 4.3.3 (2024-02-29) -- "Angel Food Cake" | 4676 |
| palomino4 | Windows Server 2022 Datacenter | x64 | 4.3.3 (2024-02-29 ucrt) -- "Angel Food Cake" | 4414 |
| merida1 | macOS 12.7.1 Monterey | x86_64 | 4.3.3 (2024-02-29) -- "Angel Food Cake" | 4437 |
| Click on any hostname to see more info about the system (e.g. compilers) (*) as reported by 'uname -p', except on Windows and Mac OS X | ||||
| Package 1841/2266 | Hostname | OS / Arch | INSTALL | BUILD | CHECK | BUILD BIN | ||||||||
| SARC 1.0.0 (landing page) Krutik Patel
| nebbiolo2 | Linux (Ubuntu 22.04.3 LTS) / x86_64 | OK | OK | OK | |||||||||
| palomino4 | Windows Server 2022 Datacenter / x64 | OK | OK | OK | OK | |||||||||
| merida1 | macOS 12.7.1 Monterey / x86_64 | OK | OK | OK | OK | |||||||||
| kjohnson1 | macOS 13.6.1 Ventura / arm64 | see weekly results here | ||||||||||||
|
To the developers/maintainers of the SARC package: - Allow up to 24 hours (and sometimes 48 hours) for your latest push to git@git.bioconductor.org:packages/SARC.git to reflect on this report. See Troubleshooting Build Report for more information. - Use the following Renviron settings to reproduce errors and warnings. - If 'R CMD check' started to fail recently on the Linux builder(s) over a missing dependency, add the missing dependency to 'Suggests:' in your DESCRIPTION file. See Renviron.bioc for more information. |
| Package: SARC |
| Version: 1.0.0 |
| Command: /home/biocbuild/bbs-3.18-bioc/R/bin/R CMD check --install=check:SARC.install-out.txt --library=/home/biocbuild/bbs-3.18-bioc/R/site-library --timings SARC_1.0.0.tar.gz |
| StartedAt: 2024-04-16 03:23:00 -0400 (Tue, 16 Apr 2024) |
| EndedAt: 2024-04-16 03:33:36 -0400 (Tue, 16 Apr 2024) |
| EllapsedTime: 635.6 seconds |
| RetCode: 0 |
| Status: OK |
| CheckDir: SARC.Rcheck |
| Warnings: 0 |
##############################################################################
##############################################################################
###
### Running command:
###
### /home/biocbuild/bbs-3.18-bioc/R/bin/R CMD check --install=check:SARC.install-out.txt --library=/home/biocbuild/bbs-3.18-bioc/R/site-library --timings SARC_1.0.0.tar.gz
###
##############################################################################
##############################################################################
* using log directory ‘/home/biocbuild/bbs-3.18-bioc/meat/SARC.Rcheck’
* using R version 4.3.3 (2024-02-29)
* using platform: x86_64-pc-linux-gnu (64-bit)
* R was compiled by
gcc (Ubuntu 11.4.0-1ubuntu1~22.04) 11.4.0
GNU Fortran (Ubuntu 11.4.0-1ubuntu1~22.04) 11.4.0
* running under: Ubuntu 22.04.4 LTS
* using session charset: UTF-8
* checking for file ‘SARC/DESCRIPTION’ ... OK
* checking extension type ... Package
* this is package ‘SARC’ version ‘1.0.0’
* package encoding: UTF-8
* checking package namespace information ... OK
* checking package dependencies ... OK
* checking if this is a source package ... OK
* checking if there is a namespace ... OK
* checking for hidden files and directories ... OK
* checking for portable file names ... OK
* checking for sufficient/correct file permissions ... OK
* checking whether package ‘SARC’ can be installed ... OK
* checking installed package size ... OK
* checking package directory ... OK
* checking ‘build’ directory ... OK
* checking DESCRIPTION meta-information ... OK
* checking top-level files ... NOTE
File
LICENSE
is not mentioned in the DESCRIPTION file.
* checking for left-over files ... OK
* checking index information ... OK
* checking package subdirectories ... OK
* checking R files for non-ASCII characters ... OK
* checking R files for syntax errors ... OK
* checking whether the package can be loaded ... OK
* checking whether the package can be loaded with stated dependencies ... OK
* checking whether the package can be unloaded cleanly ... OK
* checking whether the namespace can be loaded with stated dependencies ... OK
* checking whether the namespace can be unloaded cleanly ... OK
* checking loading without being on the library search path ... OK
* checking dependencies in R code ... OK
* checking S3 generic/method consistency ... OK
* checking replacement functions ... OK
* checking foreign function calls ... OK
* checking R code for possible problems ... NOTE
addExonsGenes: no visible global function definition for ‘metadata’
addExonsGenes: no visible global function definition for ‘metadata<-’
anovaOnCNV: no visible global function definition for ‘metadata’
anovaOnCNV: no visible global function definition for ‘metadata<-’
cnvConfidence: no visible global function definition for ‘metadata’
cnvConfidence: no visible global function definition for ‘metadata<-’
pasteExonsGenes: no visible global function definition for ‘metadata’
pasteExonsGenes: no visible global function definition for ‘metadata<-’
phDunnetonCNV: no visible global function definition for ‘metadata’
phDunnetonCNV: no visible global function definition for ‘metadata<-’
plotCovPrep: no visible global function definition for ‘metadata’
plotCovPrep: no visible global function definition for ‘metadata<-’
prepAnova: no visible global function definition for ‘metadata’
prepAnova: no visible global function definition for ‘metadata<-’
regionGrangeMake: no visible global function definition for ‘metadata’
regionGrangeMake: no visible global function definition for
‘metadata<-’
regionMean: no visible global function definition for ‘metadata’
regionMean: no visible global function definition for ‘metadata<-’
regionQuantiles: no visible global function definition for ‘metadata’
regionQuantiles: no visible global function definition for ‘metadata<-’
regionSet: no visible global function definition for ‘sortSeqlevels’
regionSet: no visible global function definition for ‘metadata’
regionSet: no visible global function definition for ‘metadata<-’
regionSplit: no visible global function definition for ‘metadata’
regionSplit: no visible global function definition for ‘metadata<-’
setQDplot: no visible global function definition for ‘metadata’
setQDplot: no visible global function definition for ‘metadata<-’
setupCNVplot: no visible global function definition for ‘metadata’
setupCNVplot: no visible global function definition for ‘metadata<-’
Undefined global functions or variables:
metadata metadata<- sortSeqlevels
* checking Rd files ... OK
* checking Rd metadata ... OK
* checking Rd cross-references ... OK
* checking for missing documentation entries ... OK
* checking for code/documentation mismatches ... OK
* checking Rd \usage sections ... OK
* checking Rd contents ... OK
* checking for unstated dependencies in examples ... OK
* checking contents of ‘data’ directory ... OK
* checking data for non-ASCII characters ... OK
* checking data for ASCII and uncompressed saves ... OK
* checking files in ‘vignettes’ ... OK
* checking examples ... OK
Examples with CPU (user + system) or elapsed time > 5s
user system elapsed
addExonsGenes 30.089 1.151 31.241
pasteExonsGenes 29.993 0.667 35.859
plotCNV 24.373 0.432 24.806
setupCNVplot 21.687 0.412 22.099
* checking for unstated dependencies in ‘tests’ ... OK
* checking tests ...
Running ‘testthat.R’
OK
* checking for unstated dependencies in vignettes ... OK
* checking package vignettes in ‘inst/doc’ ... OK
* checking running R code from vignettes ...
‘SARC_guide.Rmd’ using ‘UTF-8’... OK
OK
* checking re-building of vignette outputs ... OK
* checking PDF version of manual ... OK
* DONE
Status: 2 NOTEs
See
‘/home/biocbuild/bbs-3.18-bioc/meat/SARC.Rcheck/00check.log’
for details.
SARC.Rcheck/00install.out
############################################################################## ############################################################################## ### ### Running command: ### ### /home/biocbuild/bbs-3.18-bioc/R/bin/R CMD INSTALL SARC ### ############################################################################## ############################################################################## * installing to library ‘/home/biocbuild/bbs-3.18-bioc/R/site-library’ * installing *source* package ‘SARC’ ... ** using staged installation ** R ** data ** inst ** byte-compile and prepare package for lazy loading ** help *** installing help indices ** building package indices ** installing vignettes ** testing if installed package can be loaded from temporary location ** testing if installed package can be loaded from final location ** testing if installed package keeps a record of temporary installation path * DONE (SARC)
SARC.Rcheck/tests/testthat.Rout
R version 4.3.3 (2024-02-29) -- "Angel Food Cake"
Copyright (C) 2024 The R Foundation for Statistical Computing
Platform: x86_64-pc-linux-gnu (64-bit)
R is free software and comes with ABSOLUTELY NO WARRANTY.
You are welcome to redistribute it under certain conditions.
Type 'license()' or 'licence()' for distribution details.
R is a collaborative project with many contributors.
Type 'contributors()' for more information and
'citation()' on how to cite R or R packages in publications.
Type 'demo()' for some demos, 'help()' for on-line help, or
'help.start()' for an HTML browser interface to help.
Type 'q()' to quit R.
> #test SARC unit tests
> #unit test check
> library(testthat)
> library(SARC)
Loading required package: RaggedExperiment
Loading required package: GenomicRanges
Loading required package: stats4
Loading required package: BiocGenerics
Attaching package: 'BiocGenerics'
The following objects are masked from 'package:stats':
IQR, mad, sd, var, xtabs
The following objects are masked from 'package:base':
Filter, Find, Map, Position, Reduce, anyDuplicated, aperm, append,
as.data.frame, basename, cbind, colnames, dirname, do.call,
duplicated, eval, evalq, get, grep, grepl, intersect, is.unsorted,
lapply, mapply, match, mget, order, paste, pmax, pmax.int, pmin,
pmin.int, rank, rbind, rownames, sapply, setdiff, sort, table,
tapply, union, unique, unsplit, which.max, which.min
Loading required package: S4Vectors
Attaching package: 'S4Vectors'
The following object is masked from 'package:utils':
findMatches
The following objects are masked from 'package:base':
I, expand.grid, unname
Loading required package: IRanges
Loading required package: GenomeInfoDb
> test_check(package = "SARC")
[1] "All CNVs are fine for further evaluation"
[ FAIL 0 | WARN 0 | SKIP 0 | PASS 28 ]
>
> proc.time()
user system elapsed
56.375 2.096 64.122
SARC.Rcheck/SARC-Ex.timings
| name | user | system | elapsed | |
| addExonsGenes | 30.089 | 1.151 | 31.241 | |
| anovaOnCNV | 1.415 | 0.039 | 1.455 | |
| cnvConfidence | 0.935 | 0.024 | 1.204 | |
| pasteExonsGenes | 29.993 | 0.667 | 35.859 | |
| plotCNV | 24.373 | 0.432 | 24.806 | |
| plotCovPrep | 0.217 | 0.004 | 0.221 | |
| prepAnova | 0.672 | 0.044 | 0.716 | |
| regionGrangeMake | 0.377 | 0.008 | 0.385 | |
| regionMean | 0.638 | 0.000 | 0.638 | |
| regionQuantiles | 0.735 | 0.000 | 0.735 | |
| regionSet | 0.373 | 0.000 | 0.372 | |
| regionSplit | 0.467 | 0.000 | 0.467 | |
| seeDist | 0.723 | 0.000 | 0.723 | |
| setQDplot | 0.788 | 0.008 | 0.797 | |
| setupCNVplot | 21.687 | 0.412 | 22.099 | |
| test_cnv | 0.001 | 0.000 | 0.001 | |
| test_cnv2 | 0.000 | 0.001 | 0.001 | |
| test_cov | 0.075 | 0.007 | 0.082 | |