| Back to Multiple platform build/check report for BioC 3.18: simplified long | 
 | 
This page was generated on 2024-04-17 11:37:12 -0400 (Wed, 17 Apr 2024).
| Hostname | OS | Arch (*) | R version | Installed pkgs | 
|---|---|---|---|---|
| nebbiolo2 | Linux (Ubuntu 22.04.3 LTS) | x86_64 | 4.3.3 (2024-02-29) -- "Angel Food Cake" | 4676 | 
| palomino4 | Windows Server 2022 Datacenter | x64 | 4.3.3 (2024-02-29 ucrt) -- "Angel Food Cake" | 4414 | 
| merida1 | macOS 12.7.1 Monterey | x86_64 | 4.3.3 (2024-02-29) -- "Angel Food Cake" | 4437 | 
| Click on any hostname to see more info about the system (e.g. compilers) (*) as reported by 'uname -p', except on Windows and Mac OS X | ||||
| Package 1717/2266 | Hostname | OS / Arch | INSTALL | BUILD | CHECK | BUILD BIN | ||||||||
| Repitools 1.48.0  (landing page) Mark Robinson 
 | nebbiolo2 | Linux (Ubuntu 22.04.3 LTS) / x86_64 | OK | OK | WARNINGS |  | ||||||||
| palomino4 | Windows Server 2022 Datacenter / x64 | OK | OK | WARNINGS | OK |  | ||||||||
| merida1 | macOS 12.7.1 Monterey / x86_64 | OK | OK | WARNINGS | OK |  | ||||||||
| kjohnson1 | macOS 13.6.1 Ventura / arm64 | see weekly results here | ||||||||||||
| To the developers/maintainers of the Repitools package: - Allow up to 24 hours (and sometimes 48 hours) for your latest push to git@git.bioconductor.org:packages/Repitools.git to reflect on this report. See Troubleshooting Build Report for more information. - Use the following Renviron settings to reproduce errors and warnings. - If 'R CMD check' started to fail recently on the Linux builder(s) over a missing dependency, add the missing dependency to 'Suggests:' in your DESCRIPTION file. See Renviron.bioc for more information. | 
| Package: Repitools | 
| Version: 1.48.0 | 
| Command: F:\biocbuild\bbs-3.18-bioc\R\bin\R.exe CMD INSTALL Repitools | 
| StartedAt: 2024-04-15 16:30:54 -0400 (Mon, 15 Apr 2024) | 
| EndedAt: 2024-04-15 16:32:09 -0400 (Mon, 15 Apr 2024) | 
| EllapsedTime: 74.9 seconds | 
| RetCode: 0 | 
| Status: OK | 
##############################################################################
##############################################################################
###
### Running command:
###
###   F:\biocbuild\bbs-3.18-bioc\R\bin\R.exe CMD INSTALL Repitools
###
##############################################################################
##############################################################################
* installing to library 'F:/biocbuild/bbs-3.18-bioc/R/library'
* installing *source* package 'Repitools' ...
** using staged installation
** libs
using C compiler: 'gcc.exe (GCC) 12.3.0'
gcc  -I"F:/biocbuild/bbs-3.18-bioc/R/include" -DNDEBUG     -I"C:/rtools43/x86_64-w64-mingw32.static.posix/include"  -D R_NO_REMAP -I.    -O2 -Wall  -mfpmath=sse -msse2 -mstackrealign  -c const.c -o const.o
gcc  -I"F:/biocbuild/bbs-3.18-bioc/R/include" -DNDEBUG     -I"C:/rtools43/x86_64-w64-mingw32.static.posix/include"  -D R_NO_REMAP -I.    -O2 -Wall  -mfpmath=sse -msse2 -mstackrealign  -c hyp2f1.c -o hyp2f1.o
In file included from hyp2f1.c:81:
./mconf.h:100: warning: "DOMAIN" redefined
  100 | #define DOMAIN          1       /* argument domain error */
      | 
In file included from F:/biocbuild/bbs-3.18-bioc/R/include/Rmath.h:43,
                 from hyp2f1.c:80:
c:\rtools43\x86_64-w64-mingw32.static.posix\include\math.h:29: note: this is the location of the previous definition
   29 | #define DOMAIN          _DOMAIN
      | 
./mconf.h:101: warning: "SING" redefined
  101 | #define SING            2       /* argument singularity */
      | 
c:\rtools43\x86_64-w64-mingw32.static.posix\include\math.h:30: note: this is the location of the previous definition
   30 | #define SING            _SING
      | 
./mconf.h:102: warning: "OVERFLOW" redefined
  102 | #define OVERFLOW        3       /* overflow range error */
      | 
c:\rtools43\x86_64-w64-mingw32.static.posix\include\math.h:31: note: this is the location of the previous definition
   31 | #define OVERFLOW        _OVERFLOW
      | 
./mconf.h:103: warning: "UNDERFLOW" redefined
  103 | #define UNDERFLOW       4       /* underflow range error */
      | 
c:\rtools43\x86_64-w64-mingw32.static.posix\include\math.h:32: note: this is the location of the previous definition
   32 | #define UNDERFLOW       _UNDERFLOW
      | 
./mconf.h:104: warning: "TLOSS" redefined
  104 | #define TLOSS           5       /* total loss of precision */
      | 
c:\rtools43\x86_64-w64-mingw32.static.posix\include\math.h:33: note: this is the location of the previous definition
   33 | #define TLOSS           _TLOSS
      | 
./mconf.h:105: warning: "PLOSS" redefined
  105 | #define PLOSS           6       /* partial loss of precision */
      | 
c:\rtools43\x86_64-w64-mingw32.static.posix\include\math.h:34: note: this is the location of the previous definition
   34 | #define PLOSS           _PLOSS
      | 
gcc  -I"F:/biocbuild/bbs-3.18-bioc/R/include" -DNDEBUG     -I"C:/rtools43/x86_64-w64-mingw32.static.posix/include"  -D R_NO_REMAP -I.    -O2 -Wall  -mfpmath=sse -msse2 -mstackrealign  -c mtherr.c -o mtherr.o
In file included from mtherr.c:58:
./mconf.h:100: warning: "DOMAIN" redefined
  100 | #define DOMAIN          1       /* argument domain error */
      | 
In file included from F:/biocbuild/bbs-3.18-bioc/R/include/R.h:45,
                 from mtherr.c:56:
c:\rtools43\x86_64-w64-mingw32.static.posix\include\math.h:29: note: this is the location of the previous definition
   29 | #define DOMAIN          _DOMAIN
      | 
./mconf.h:101: warning: "SING" redefined
  101 | #define SING            2       /* argument singularity */
      | 
c:\rtools43\x86_64-w64-mingw32.static.posix\include\math.h:30: note: this is the location of the previous definition
   30 | #define SING            _SING
      | 
./mconf.h:102: warning: "OVERFLOW" redefined
  102 | #define OVERFLOW        3       /* overflow range error */
      | 
c:\rtools43\x86_64-w64-mingw32.static.posix\include\math.h:31: note: this is the location of the previous definition
   31 | #define OVERFLOW        _OVERFLOW
      | 
./mconf.h:103: warning: "UNDERFLOW" redefined
  103 | #define UNDERFLOW       4       /* underflow range error */
      | 
c:\rtools43\x86_64-w64-mingw32.static.posix\include\math.h:32: note: this is the location of the previous definition
   32 | #define UNDERFLOW       _UNDERFLOW
      | 
./mconf.h:104: warning: "TLOSS" redefined
  104 | #define TLOSS           5       /* total loss of precision */
      | 
c:\rtools43\x86_64-w64-mingw32.static.posix\include\math.h:33: note: this is the location of the previous definition
   33 | #define TLOSS           _TLOSS
      | 
./mconf.h:105: warning: "PLOSS" redefined
  105 | #define PLOSS           6       /* partial loss of precision */
      | 
c:\rtools43\x86_64-w64-mingw32.static.posix\include\math.h:34: note: this is the location of the previous definition
   34 | #define PLOSS           _PLOSS
      | 
gcc -shared -s -static-libgcc -o Repitools.dll tmp.def const.o hyp2f1.o mtherr.o -LC:/rtools43/x86_64-w64-mingw32.static.posix/lib/x64 -LC:/rtools43/x86_64-w64-mingw32.static.posix/lib -LF:/biocbuild/bbs-3.18-bioc/R/bin/x64 -lR
installing to F:/biocbuild/bbs-3.18-bioc/R/library/00LOCK-Repitools/00new/Repitools/libs/x64
** R
** data
** inst
** byte-compile and prepare package for lazy loading
** help
*** installing help indices
** building package indices
** installing vignettes
** testing if installed package can be loaded from temporary location
** testing if installed package can be loaded from final location
** testing if installed package keeps a record of temporary installation path
* DONE (Repitools)