| Back to Multiple platform build/check report for BioC 3.18: simplified long |
|
This page was generated on 2024-04-17 11:36:17 -0400 (Wed, 17 Apr 2024).
| Hostname | OS | Arch (*) | R version | Installed pkgs |
|---|---|---|---|---|
| nebbiolo2 | Linux (Ubuntu 22.04.3 LTS) | x86_64 | 4.3.3 (2024-02-29) -- "Angel Food Cake" | 4676 |
| palomino4 | Windows Server 2022 Datacenter | x64 | 4.3.3 (2024-02-29 ucrt) -- "Angel Food Cake" | 4414 |
| merida1 | macOS 12.7.1 Monterey | x86_64 | 4.3.3 (2024-02-29) -- "Angel Food Cake" | 4437 |
| Click on any hostname to see more info about the system (e.g. compilers) (*) as reported by 'uname -p', except on Windows and Mac OS X | ||||
| Package 1693/2266 | Hostname | OS / Arch | INSTALL | BUILD | CHECK | BUILD BIN | ||||||||
| ReactomeGSA 1.16.1 (landing page) Johannes Griss
| nebbiolo2 | Linux (Ubuntu 22.04.3 LTS) / x86_64 | OK | OK | OK | |||||||||
| palomino4 | Windows Server 2022 Datacenter / x64 | OK | OK | OK | OK | |||||||||
| merida1 | macOS 12.7.1 Monterey / x86_64 | OK | OK | OK | OK | |||||||||
| kjohnson1 | macOS 13.6.1 Ventura / arm64 | see weekly results here | ||||||||||||
|
To the developers/maintainers of the ReactomeGSA package: - Allow up to 24 hours (and sometimes 48 hours) for your latest push to git@git.bioconductor.org:packages/ReactomeGSA.git to reflect on this report. See Troubleshooting Build Report for more information. - Use the following Renviron settings to reproduce errors and warnings. - If 'R CMD check' started to fail recently on the Linux builder(s) over a missing dependency, add the missing dependency to 'Suggests:' in your DESCRIPTION file. See Renviron.bioc for more information. |
| Package: ReactomeGSA |
| Version: 1.16.1 |
| Command: /home/biocbuild/bbs-3.18-bioc/R/bin/R CMD check --install=check:ReactomeGSA.install-out.txt --library=/home/biocbuild/bbs-3.18-bioc/R/site-library --timings ReactomeGSA_1.16.1.tar.gz |
| StartedAt: 2024-04-16 02:49:30 -0400 (Tue, 16 Apr 2024) |
| EndedAt: 2024-04-16 03:07:31 -0400 (Tue, 16 Apr 2024) |
| EllapsedTime: 1081.0 seconds |
| RetCode: 0 |
| Status: OK |
| CheckDir: ReactomeGSA.Rcheck |
| Warnings: 0 |
##############################################################################
##############################################################################
###
### Running command:
###
### /home/biocbuild/bbs-3.18-bioc/R/bin/R CMD check --install=check:ReactomeGSA.install-out.txt --library=/home/biocbuild/bbs-3.18-bioc/R/site-library --timings ReactomeGSA_1.16.1.tar.gz
###
##############################################################################
##############################################################################
* using log directory ‘/home/biocbuild/bbs-3.18-bioc/meat/ReactomeGSA.Rcheck’
* using R version 4.3.3 (2024-02-29)
* using platform: x86_64-pc-linux-gnu (64-bit)
* R was compiled by
gcc (Ubuntu 11.4.0-1ubuntu1~22.04) 11.4.0
GNU Fortran (Ubuntu 11.4.0-1ubuntu1~22.04) 11.4.0
* running under: Ubuntu 22.04.4 LTS
* using session charset: UTF-8
* checking for file ‘ReactomeGSA/DESCRIPTION’ ... OK
* checking extension type ... Package
* this is package ‘ReactomeGSA’ version ‘1.16.1’
* package encoding: UTF-8
* checking package namespace information ... OK
* checking package dependencies ... OK
* checking if this is a source package ... OK
* checking if there is a namespace ... OK
* checking for hidden files and directories ... OK
* checking for portable file names ... OK
* checking for sufficient/correct file permissions ... OK
* checking whether package ‘ReactomeGSA’ can be installed ... OK
* checking installed package size ... OK
* checking package directory ... OK
* checking ‘build’ directory ... OK
* checking DESCRIPTION meta-information ... OK
* checking top-level files ... OK
* checking for left-over files ... OK
* checking index information ... OK
* checking package subdirectories ... OK
* checking R files for non-ASCII characters ... OK
* checking R files for syntax errors ... OK
* checking whether the package can be loaded ... OK
* checking whether the package can be loaded with stated dependencies ... OK
* checking whether the package can be unloaded cleanly ... OK
* checking whether the namespace can be loaded with stated dependencies ... OK
* checking whether the namespace can be unloaded cleanly ... OK
* checking loading without being on the library search path ... OK
* checking startup messages can be suppressed ... OK
* checking dependencies in R code ... OK
* checking S3 generic/method consistency ... OK
* checking replacement functions ... OK
* checking foreign function calls ... OK
* checking R code for possible problems ... NOTE
plot_correlations,ReactomeAnalysisResult: no visible binding for global
variable ‘combined_sig’
plot_correlations,ReactomeAnalysisResult: no visible binding for global
variable ‘alpha’
plot_gsva_pathway,ReactomeAnalysisResult: no visible binding for global
variable ‘cluster_id’
plot_gsva_pathway,ReactomeAnalysisResult: no visible binding for global
variable ‘expr’
plot_gsva_pca,ReactomeAnalysisResult: no visible binding for global
variable ‘gsva_result’
plot_gsva_pca,ReactomeAnalysisResult: no visible binding for global
variable ‘PC1’
plot_gsva_pca,ReactomeAnalysisResult: no visible binding for global
variable ‘PC2’
plot_heatmap,ReactomeAnalysisResult: no visible global function
definition for ‘desc’
plot_heatmap,ReactomeAnalysisResult: no visible binding for global
variable ‘n_sig’
plot_heatmap,ReactomeAnalysisResult: no visible binding for global
variable ‘dataset’
plot_heatmap,ReactomeAnalysisResult: no visible binding for global
variable ‘Name’
plot_volcano,ReactomeAnalysisResult: no visible binding for global
variable ‘av_foldchange’
plot_volcano,ReactomeAnalysisResult: no visible binding for global
variable ‘FDR’
Undefined global functions or variables:
FDR Name PC1 PC2 alpha av_foldchange cluster_id combined_sig dataset
desc expr gsva_result n_sig
* checking Rd files ... OK
* checking Rd metadata ... OK
* checking Rd cross-references ... OK
* checking for missing documentation entries ... OK
* checking for code/documentation mismatches ... OK
* checking Rd \usage sections ... OK
* checking Rd contents ... OK
* checking for unstated dependencies in examples ... OK
* checking files in ‘vignettes’ ... OK
* checking examples ... OK
Examples with CPU (user + system) or elapsed time > 5s
user system elapsed
plot_gsva_heatmap 33.550 0.464 76.979
plot_gsva_heatmap-ReactomeAnalysisResult-method 32.897 0.508 73.768
plot_gsva_pca-ReactomeAnalysisResult-method 32.590 0.366 75.081
analyse_sc_clusters 32.168 0.736 79.928
analyse_sc_clusters-Seurat-method 31.720 0.767 74.578
plot_gsva_pathway 31.810 0.396 71.459
plot_gsva_pathway-ReactomeAnalysisResult-method 31.815 0.324 75.865
analyse_sc_clusters-SingleCellExperiment-method 31.554 0.561 72.880
plot_gsva_pca 31.121 0.404 71.985
perform_reactome_analysis 3.450 0.068 17.887
* checking for unstated dependencies in ‘tests’ ... OK
* checking tests ...
Running ‘testthat.R’
OK
* checking for unstated dependencies in vignettes ... OK
* checking package vignettes in ‘inst/doc’ ... OK
* checking running R code from vignettes ...
‘analysing-scRNAseq.Rmd’ using ‘UTF-8’... OK
‘using-reactomegsa.Rmd’ using ‘UTF-8’... OK
OK
* checking re-building of vignette outputs ... OK
* checking PDF version of manual ... OK
* DONE
Status: 1 NOTE
See
‘/home/biocbuild/bbs-3.18-bioc/meat/ReactomeGSA.Rcheck/00check.log’
for details.
ReactomeGSA.Rcheck/00install.out
############################################################################## ############################################################################## ### ### Running command: ### ### /home/biocbuild/bbs-3.18-bioc/R/bin/R CMD INSTALL ReactomeGSA ### ############################################################################## ############################################################################## * installing to library ‘/home/biocbuild/bbs-3.18-bioc/R/site-library’ * installing *source* package ‘ReactomeGSA’ ... ** using staged installation ** R ** inst ** byte-compile and prepare package for lazy loading in method for ‘analyse_sc_clusters’ with signature ‘object="Seurat"’: no definition for class “Seurat” in method for ‘analyse_sc_clusters’ with signature ‘object="SingleCellExperiment"’: no definition for class “SingleCellExperiment” in method for ‘add_dataset’ with signature ‘request="ReactomeAnalysisRequest",expression_values="EList"’: no definition for class “EList” in method for ‘add_dataset’ with signature ‘request="ReactomeAnalysisRequest",expression_values="DGEList"’: no definition for class “DGEList” in method for ‘add_dataset’ with signature ‘request="ReactomeAnalysisRequest",expression_values="ExpressionSet"’: no definition for class “ExpressionSet” ** help *** installing help indices ** building package indices ** installing vignettes ** testing if installed package can be loaded from temporary location ** testing if installed package can be loaded from final location ** testing if installed package keeps a record of temporary installation path * DONE (ReactomeGSA)
ReactomeGSA.Rcheck/tests/testthat.Rout
R version 4.3.3 (2024-02-29) -- "Angel Food Cake"
Copyright (C) 2024 The R Foundation for Statistical Computing
Platform: x86_64-pc-linux-gnu (64-bit)
R is free software and comes with ABSOLUTELY NO WARRANTY.
You are welcome to redistribute it under certain conditions.
Type 'license()' or 'licence()' for distribution details.
R is a collaborative project with many contributors.
Type 'contributors()' for more information and
'citation()' on how to cite R or R packages in publications.
Type 'demo()' for some demos, 'help()' for on-line help, or
'help.start()' for an HTML browser interface to help.
Type 'q()' to quit R.
> library(testthat)
> library(ReactomeGSA)
>
> test_check("ReactomeGSA")
[ FAIL 0 | WARN 0 | SKIP 0 | PASS 17 ]
>
> proc.time()
user system elapsed
1.065 0.103 1.159
ReactomeGSA.Rcheck/ReactomeGSA-Ex.timings
| name | user | system | elapsed | |
| ReactomeAnalysisRequest | 4.534 | 0.215 | 4.752 | |
| ReactomeAnalysisResult-class | 1.644 | 0.088 | 1.732 | |
| add_dataset-ReactomeAnalysisRequest-DGEList-method | 0.644 | 0.016 | 0.661 | |
| add_dataset-ReactomeAnalysisRequest-EList-method | 0.647 | 0.016 | 0.664 | |
| add_dataset-ReactomeAnalysisRequest-ExpressionSet-method | 0.672 | 0.003 | 0.675 | |
| add_dataset-ReactomeAnalysisRequest-data.frame-method | 0.652 | 0.000 | 0.652 | |
| add_dataset-ReactomeAnalysisRequest-matrix-method | 0.655 | 0.016 | 0.670 | |
| add_dataset | 0.662 | 0.004 | 0.667 | |
| analyse_sc_clusters-Seurat-method | 31.720 | 0.767 | 74.578 | |
| analyse_sc_clusters-SingleCellExperiment-method | 31.554 | 0.561 | 72.880 | |
| analyse_sc_clusters | 32.168 | 0.736 | 79.928 | |
| get_reactome_data_types | 0.375 | 0.004 | 1.470 | |
| get_reactome_methods | 0.634 | 0.012 | 2.693 | |
| get_result-ReactomeAnalysisResult-method | 0.196 | 0.004 | 0.200 | |
| get_result | 0.162 | 0.005 | 0.168 | |
| names-ReactomeAnalysisResult-method | 0.165 | 0.001 | 0.165 | |
| open_reactome-ReactomeAnalysisResult-method | 0.166 | 0.000 | 0.166 | |
| open_reactome | 0.164 | 0.000 | 0.164 | |
| pathways-ReactomeAnalysisResult-method | 1.351 | 0.000 | 1.351 | |
| pathways | 1.303 | 0.000 | 1.302 | |
| perform_reactome_analysis | 3.450 | 0.068 | 17.887 | |
| plot_correlations-ReactomeAnalysisResult-method | 1.713 | 0.068 | 1.781 | |
| plot_correlations | 1.273 | 0.000 | 1.273 | |
| plot_gsva_heatmap-ReactomeAnalysisResult-method | 32.897 | 0.508 | 73.768 | |
| plot_gsva_heatmap | 33.550 | 0.464 | 76.979 | |
| plot_gsva_pathway-ReactomeAnalysisResult-method | 31.815 | 0.324 | 75.865 | |
| plot_gsva_pathway | 31.810 | 0.396 | 71.459 | |
| plot_gsva_pca-ReactomeAnalysisResult-method | 32.590 | 0.366 | 75.081 | |
| plot_gsva_pca | 31.121 | 0.404 | 71.985 | |
| plot_heatmap-ReactomeAnalysisResult-method | 1.489 | 0.008 | 1.498 | |
| plot_heatmap | 1.623 | 0.004 | 1.627 | |
| plot_volcano-ReactomeAnalysisResult-method | 0.194 | 0.004 | 0.198 | |
| plot_volcano | 0.190 | 0.004 | 0.195 | |
| print-ReactomeAnalysisRequest-method | 0.001 | 0.000 | 0.002 | |
| print-ReactomeAnalysisResult-method | 0.173 | 0.000 | 0.173 | |
| reactome_links-ReactomeAnalysisResult-method | 0.172 | 0.000 | 0.172 | |
| reactome_links | 0.176 | 0.004 | 0.179 | |
| result_types-ReactomeAnalysisResult-method | 0.163 | 0.008 | 0.170 | |
| result_types | 0.165 | 0.004 | 0.169 | |
| set_method-ReactomeAnalysisRequest-method | 0.002 | 0.000 | 0.001 | |
| set_method | 0.002 | 0.000 | 0.001 | |
| set_parameters-ReactomeAnalysisRequest-method | 0.002 | 0.000 | 0.001 | |
| set_parameters | 0.001 | 0.000 | 0.002 | |
| show-ReactomeAnalysisRequest-method | 0.000 | 0.001 | 0.001 | |
| show-ReactomeAnalysisResult-method | 0.167 | 0.007 | 0.173 | |