| Back to Multiple platform build/check report for BioC 3.18: simplified long |
|
This page was generated on 2024-04-17 11:36:19 -0400 (Wed, 17 Apr 2024).
| Hostname | OS | Arch (*) | R version | Installed pkgs |
|---|---|---|---|---|
| nebbiolo2 | Linux (Ubuntu 22.04.3 LTS) | x86_64 | 4.3.3 (2024-02-29) -- "Angel Food Cake" | 4676 |
| palomino4 | Windows Server 2022 Datacenter | x64 | 4.3.3 (2024-02-29 ucrt) -- "Angel Food Cake" | 4414 |
| merida1 | macOS 12.7.1 Monterey | x86_64 | 4.3.3 (2024-02-29) -- "Angel Food Cake" | 4437 |
| Click on any hostname to see more info about the system (e.g. compilers) (*) as reported by 'uname -p', except on Windows and Mac OS X | ||||
| Package 1773/2266 | Hostname | OS / Arch | INSTALL | BUILD | CHECK | BUILD BIN | ||||||||
| RNAmodR 1.16.0 (landing page) Felix G.M. Ernst
| nebbiolo2 | Linux (Ubuntu 22.04.3 LTS) / x86_64 | OK | OK | OK | |||||||||
| palomino4 | Windows Server 2022 Datacenter / x64 | OK | OK | OK | OK | |||||||||
| merida1 | macOS 12.7.1 Monterey / x86_64 | OK | OK | OK | OK | |||||||||
| kjohnson1 | macOS 13.6.1 Ventura / arm64 | see weekly results here | ||||||||||||
|
To the developers/maintainers of the RNAmodR package: - Allow up to 24 hours (and sometimes 48 hours) for your latest push to git@git.bioconductor.org:packages/RNAmodR.git to reflect on this report. See Troubleshooting Build Report for more information. - Use the following Renviron settings to reproduce errors and warnings. - If 'R CMD check' started to fail recently on the Linux builder(s) over a missing dependency, add the missing dependency to 'Suggests:' in your DESCRIPTION file. See Renviron.bioc for more information. |
| Package: RNAmodR |
| Version: 1.16.0 |
| Command: /home/biocbuild/bbs-3.18-bioc/R/bin/R CMD check --install=check:RNAmodR.install-out.txt --library=/home/biocbuild/bbs-3.18-bioc/R/site-library --timings RNAmodR_1.16.0.tar.gz |
| StartedAt: 2024-04-16 03:07:47 -0400 (Tue, 16 Apr 2024) |
| EndedAt: 2024-04-16 03:21:12 -0400 (Tue, 16 Apr 2024) |
| EllapsedTime: 805.0 seconds |
| RetCode: 0 |
| Status: OK |
| CheckDir: RNAmodR.Rcheck |
| Warnings: 0 |
##############################################################################
##############################################################################
###
### Running command:
###
### /home/biocbuild/bbs-3.18-bioc/R/bin/R CMD check --install=check:RNAmodR.install-out.txt --library=/home/biocbuild/bbs-3.18-bioc/R/site-library --timings RNAmodR_1.16.0.tar.gz
###
##############################################################################
##############################################################################
* using log directory ‘/home/biocbuild/bbs-3.18-bioc/meat/RNAmodR.Rcheck’
* using R version 4.3.3 (2024-02-29)
* using platform: x86_64-pc-linux-gnu (64-bit)
* R was compiled by
gcc (Ubuntu 11.4.0-1ubuntu1~22.04) 11.4.0
GNU Fortran (Ubuntu 11.4.0-1ubuntu1~22.04) 11.4.0
* running under: Ubuntu 22.04.4 LTS
* using session charset: UTF-8
* checking for file ‘RNAmodR/DESCRIPTION’ ... OK
* checking extension type ... Package
* this is package ‘RNAmodR’ version ‘1.16.0’
* package encoding: UTF-8
* checking package namespace information ... OK
* checking package dependencies ... OK
* checking if this is a source package ... OK
* checking if there is a namespace ... OK
* checking for hidden files and directories ... OK
* checking for portable file names ... OK
* checking for sufficient/correct file permissions ... OK
* checking whether package ‘RNAmodR’ can be installed ... OK
* checking installed package size ... OK
* checking package directory ... OK
* checking ‘build’ directory ... OK
* checking DESCRIPTION meta-information ... OK
* checking top-level files ... OK
* checking for left-over files ... OK
* checking index information ... OK
* checking package subdirectories ... OK
* checking R files for non-ASCII characters ... OK
* checking R files for syntax errors ... OK
* checking whether the package can be loaded ... OK
* checking whether the package can be loaded with stated dependencies ... OK
* checking whether the package can be unloaded cleanly ... OK
* checking whether the namespace can be loaded with stated dependencies ... OK
* checking whether the namespace can be unloaded cleanly ... OK
* checking loading without being on the library search path ... OK
* checking dependencies in R code ... NOTE
Unexported objects imported by ':::' calls:
'BiocGenerics:::replaceSlots' 'Biostrings:::XString'
'IRanges:::.valid.CompressedList' 'IRanges:::coerceToCompressedList'
'S4Vectors:::.valid.DataFrame' 'S4Vectors:::labeledLine'
'S4Vectors:::make_zero_col_DataFrame'
'S4Vectors:::prepare_objects_to_bind'
See the note in ?`:::` about the use of this operator.
There are ::: calls to the package's namespace in its code. A package
almost never needs to use ::: for its own objects:
'.get_inosine_score'
* checking S3 generic/method consistency ... OK
* checking replacement functions ... OK
* checking foreign function calls ... OK
* checking R code for possible problems ... OK
* checking Rd files ... OK
* checking Rd metadata ... OK
* checking Rd cross-references ... OK
* checking for missing documentation entries ... OK
* checking for code/documentation mismatches ... OK
* checking Rd \usage sections ... OK
* checking Rd contents ... OK
* checking for unstated dependencies in examples ... OK
* checking contents of ‘data’ directory ... OK
* checking data for non-ASCII characters ... OK
* checking data for ASCII and uncompressed saves ... OK
* checking files in ‘vignettes’ ... OK
* checking examples ... OK
Examples with CPU (user + system) or elapsed time > 5s
user system elapsed
stats 45.870 3.320 38.954
CoverageSequenceData-class 10.766 0.447 11.939
EndSequenceData-class 7.003 0.356 7.749
ModInosine 7.008 0.128 7.552
ProtectedEndSequenceData-class 5.400 0.228 6.206
PileupSequenceData-class 5.100 0.179 5.679
* checking for unstated dependencies in ‘tests’ ... OK
* checking tests ...
Running ‘testthat.R’
OK
* checking for unstated dependencies in vignettes ... OK
* checking package vignettes in ‘inst/doc’ ... OK
* checking running R code from vignettes ...
‘RNAmodR.Rmd’ using ‘UTF-8’... OK
‘RNAmodR.creation.Rmd’ using ‘UTF-8’... OK
OK
* checking re-building of vignette outputs ... OK
* checking PDF version of manual ... OK
* DONE
Status: 1 NOTE
See
‘/home/biocbuild/bbs-3.18-bioc/meat/RNAmodR.Rcheck/00check.log’
for details.
RNAmodR.Rcheck/00install.out
############################################################################## ############################################################################## ### ### Running command: ### ### /home/biocbuild/bbs-3.18-bioc/R/bin/R CMD INSTALL RNAmodR ### ############################################################################## ############################################################################## * installing to library ‘/home/biocbuild/bbs-3.18-bioc/R/site-library’ * installing *source* package ‘RNAmodR’ ... ** using staged installation ** R ** data ** inst ** byte-compile and prepare package for lazy loading ** help *** installing help indices ** building package indices ** installing vignettes ** testing if installed package can be loaded from temporary location ** testing if installed package can be loaded from final location ** testing if installed package keeps a record of temporary installation path * DONE (RNAmodR)
RNAmodR.Rcheck/tests/testthat.Rout
R version 4.3.3 (2024-02-29) -- "Angel Food Cake"
Copyright (C) 2024 The R Foundation for Statistical Computing
Platform: x86_64-pc-linux-gnu (64-bit)
R is free software and comes with ABSOLUTELY NO WARRANTY.
You are welcome to redistribute it under certain conditions.
Type 'license()' or 'licence()' for distribution details.
R is a collaborative project with many contributors.
Type 'contributors()' for more information and
'citation()' on how to cite R or R packages in publications.
Type 'demo()' for some demos, 'help()' for on-line help, or
'help.start()' for an HTML browser interface to help.
Type 'q()' to quit R.
> library(testthat)
> library(RNAmodR)
Loading required package: S4Vectors
Loading required package: stats4
Loading required package: BiocGenerics
Attaching package: 'BiocGenerics'
The following objects are masked from 'package:stats':
IQR, mad, sd, var, xtabs
The following objects are masked from 'package:base':
Filter, Find, Map, Position, Reduce, anyDuplicated, aperm, append,
as.data.frame, basename, cbind, colnames, dirname, do.call,
duplicated, eval, evalq, get, grep, grepl, intersect, is.unsorted,
lapply, mapply, match, mget, order, paste, pmax, pmax.int, pmin,
pmin.int, rank, rbind, rownames, sapply, setdiff, sort, table,
tapply, union, unique, unsplit, which.max, which.min
Attaching package: 'S4Vectors'
The following object is masked from 'package:utils':
findMatches
The following objects are masked from 'package:base':
I, expand.grid, unname
Loading required package: IRanges
Loading required package: GenomicRanges
Loading required package: GenomeInfoDb
Loading required package: Modstrings
Loading required package: Biostrings
Loading required package: XVector
Attaching package: 'Biostrings'
The following object is masked from 'package:base':
strsplit
Attaching package: 'RNAmodR'
The following object is masked from 'package:testthat':
compare
>
> test_check("RNAmodR")
[E::idx_find_and_load] Could not retrieve index file for '/home/biocbuild/.cache/R/ExperimentHub/309018799b5900_2547'
[E::idx_find_and_load] Could not retrieve index file for '/home/biocbuild/.cache/R/ExperimentHub/309018799b5900_2547'
[E::idx_find_and_load] Could not retrieve index file for '/home/biocbuild/.cache/R/ExperimentHub/309018799b5900_2547'
[E::idx_find_and_load] Could not retrieve index file for '/home/biocbuild/.cache/R/ExperimentHub/309018799b5900_2547'
[E::idx_find_and_load] Could not retrieve index file for '/home/biocbuild/.cache/R/ExperimentHub/309018799b5900_2547'
[E::idx_find_and_load] Could not retrieve index file for '/home/biocbuild/.cache/R/ExperimentHub/309018799b5900_2547'
[ FAIL 0 | WARN 2 | SKIP 9 | PASS 192 ]
══ Skipped tests (9) ═══════════════════════════════════════════════════════════
• On Bioconductor (9): 'test-0SequenceData.R:53:3',
'test-0SequenceDataFrame.R:23:3', 'test-1SequenceDataSet.R:57:3',
'test-2Modifier.R:85:3', 'test-3normalization.R:3:3', 'test-3subset.R:4:3',
'test-3zcomparison.R:4:3', 'test-4roc.R:3:3', 'test-8visualization.R:158:3'
[ FAIL 0 | WARN 2 | SKIP 9 | PASS 192 ]
>
> proc.time()
user system elapsed
47.721 2.625 51.045
RNAmodR.Rcheck/RNAmodR-Ex.timings
| name | user | system | elapsed | |
| CoverageSequenceData-class | 10.766 | 0.447 | 11.939 | |
| EndSequenceData-class | 7.003 | 0.356 | 7.749 | |
| ModInosine-functions | 0.636 | 0.000 | 0.635 | |
| ModInosine | 7.008 | 0.128 | 7.552 | |
| Modifier-functions | 0.193 | 0.000 | 0.193 | |
| NormEndSequenceData-class | 0 | 0 | 0 | |
| PileupSequenceData-class | 5.100 | 0.179 | 5.679 | |
| ProtectedEndSequenceData-class | 5.400 | 0.228 | 6.206 | |
| RNAmodR-development | 0.062 | 0.000 | 0.062 | |
| SequenceData-functions | 0.052 | 0.004 | 0.056 | |
| SequenceDataFrame-class | 0.053 | 0.000 | 0.053 | |
| SequenceDataList-class | 0.101 | 0.000 | 0.101 | |
| SequenceDataSet-class | 0.069 | 0.000 | 0.069 | |
| SequenceModDNAStringSetTrack-class | 1.365 | 0.148 | 1.512 | |
| SequenceModRNAStringSetTrack-class | 0.114 | 0.004 | 0.118 | |
| aggregate | 0.464 | 0.003 | 0.466 | |
| compareByCoord | 1.780 | 0.000 | 1.779 | |
| modify | 0.482 | 0.000 | 0.482 | |
| plotData | 1.847 | 0.112 | 1.959 | |
| plotROC | 1.244 | 0.000 | 1.244 | |
| settings | 0.092 | 0.000 | 0.092 | |
| stats | 45.870 | 3.320 | 38.954 | |
| subsetByCoord | 0.524 | 0.004 | 0.528 | |