| Back to Multiple platform build/check report for BioC 3.18: simplified long |
|
This page was generated on 2023-06-20 11:37:59 -0400 (Tue, 20 Jun 2023).
| Hostname | OS | Arch (*) | R version | Installed pkgs |
|---|---|---|---|---|
| nebbiolo2 | Linux (Ubuntu 22.04.2 LTS) | x86_64 | 4.3.0 RC (2023-04-18 r84287) -- "Already Tomorrow" | 4602 |
| palomino4 | Windows Server 2022 Datacenter | x64 | 4.3.0 RC (2023-04-18 r84287 ucrt) -- "Already Tomorrow" | 4352 |
| lconway | macOS 12.6.5 Monterey | x86_64 | 4.3.0 RC (2023-04-13 r84266) -- "Already Tomorrow" | 4359 |
| kunpeng2 | Linux (openEuler 22.03 LTS-SP1) | aarch64 | 4.3.0 (2023-04-21) -- "Already Tomorrow" | 4383 |
| Click on any hostname to see more info about the system (e.g. compilers) (*) as reported by 'uname -p', except on Windows and Mac OS X | ||||
| Package 1705/2199 | Hostname | OS / Arch | INSTALL | BUILD | CHECK | BUILD BIN | ||||||||
| RLSeq 1.7.0 (landing page) Henry Miller
| nebbiolo2 | Linux (Ubuntu 22.04.2 LTS) / x86_64 | OK | OK | OK | |||||||||
| palomino4 | Windows Server 2022 Datacenter / x64 | OK | OK | OK | OK | |||||||||
| lconway | macOS 12.6.5 Monterey / x86_64 | OK | ERROR | skipped | skipped | |||||||||
| kunpeng2 | Linux (openEuler 22.03 LTS-SP1) / aarch64 | OK | ERROR | skipped | ||||||||||
| The builds on kunpeng2 (Linux ARM64) are experimental! |
|
To the developers/maintainers of the RLSeq package: - Allow up to 24 hours (and sometimes 48 hours) for your latest push to git@git.bioconductor.org:packages/RLSeq.git to reflect on this report. See Troubleshooting Build Report for more information. - Use the following Renviron settings to reproduce errors and warnings. - If 'R CMD check' started to fail recently on the Linux builder(s) over a missing dependency, add the missing dependency to 'Suggests:' in your DESCRIPTION file. See Renviron.bioc for more information. |
| Package: RLSeq |
| Version: 1.7.0 |
| Command: rm -rf RLSeq.buildbin-libdir && mkdir RLSeq.buildbin-libdir && F:\biocbuild\bbs-3.18-bioc\R\bin\R.exe CMD INSTALL --build --library=RLSeq.buildbin-libdir RLSeq_1.7.0.tar.gz |
| StartedAt: 2023-06-20 09:25:56 -0400 (Tue, 20 Jun 2023) |
| EndedAt: 2023-06-20 09:26:58 -0400 (Tue, 20 Jun 2023) |
| EllapsedTime: 62.4 seconds |
| RetCode: 0 |
| Status: OK |
| PackageFile: RLSeq_1.7.0.zip |
| PackageFileSize: 2.861 MiB |
############################################################################## ############################################################################## ### ### Running command: ### ### rm -rf RLSeq.buildbin-libdir && mkdir RLSeq.buildbin-libdir && F:\biocbuild\bbs-3.18-bioc\R\bin\R.exe CMD INSTALL --build --library=RLSeq.buildbin-libdir RLSeq_1.7.0.tar.gz ### ############################################################################## ############################################################################## * installing *source* package 'RLSeq' ... ** using staged installation ** R ** data ** inst ** byte-compile and prepare package for lazy loading ** help *** installing help indices ** building package indices ** installing vignettes ** testing if installed package can be loaded from temporary location ** testing if installed package can be loaded from final location ** testing if installed package keeps a record of temporary installation path * MD5 sums packaged installation of 'RLSeq' as RLSeq_1.7.0.zip * DONE (RLSeq)