| Back to Multiple platform build/check report for BioC 3.18: simplified long |
|
This page was generated on 2024-04-17 11:36:18 -0400 (Wed, 17 Apr 2024).
| Hostname | OS | Arch (*) | R version | Installed pkgs |
|---|---|---|---|---|
| nebbiolo2 | Linux (Ubuntu 22.04.3 LTS) | x86_64 | 4.3.3 (2024-02-29) -- "Angel Food Cake" | 4676 |
| palomino4 | Windows Server 2022 Datacenter | x64 | 4.3.3 (2024-02-29 ucrt) -- "Angel Food Cake" | 4414 |
| merida1 | macOS 12.7.1 Monterey | x86_64 | 4.3.3 (2024-02-29) -- "Angel Food Cake" | 4437 |
| Click on any hostname to see more info about the system (e.g. compilers) (*) as reported by 'uname -p', except on Windows and Mac OS X | ||||
| Package 1722/2266 | Hostname | OS / Arch | INSTALL | BUILD | CHECK | BUILD BIN | ||||||||
| RESOLVE 1.4.0 (landing page) Luca De Sano
| nebbiolo2 | Linux (Ubuntu 22.04.3 LTS) / x86_64 | OK | OK | OK | |||||||||
| palomino4 | Windows Server 2022 Datacenter / x64 | OK | OK | OK | OK | |||||||||
| merida1 | macOS 12.7.1 Monterey / x86_64 | OK | OK | OK | OK | |||||||||
| kjohnson1 | macOS 13.6.1 Ventura / arm64 | see weekly results here | ||||||||||||
|
To the developers/maintainers of the RESOLVE package: - Allow up to 24 hours (and sometimes 48 hours) for your latest push to git@git.bioconductor.org:packages/RESOLVE.git to reflect on this report. See Troubleshooting Build Report for more information. - Use the following Renviron settings to reproduce errors and warnings. - If 'R CMD check' started to fail recently on the Linux builder(s) over a missing dependency, add the missing dependency to 'Suggests:' in your DESCRIPTION file. See Renviron.bioc for more information. |
| Package: RESOLVE |
| Version: 1.4.0 |
| Command: /home/biocbuild/bbs-3.18-bioc/R/bin/R CMD check --install=check:RESOLVE.install-out.txt --library=/home/biocbuild/bbs-3.18-bioc/R/site-library --timings RESOLVE_1.4.0.tar.gz |
| StartedAt: 2024-04-16 02:55:20 -0400 (Tue, 16 Apr 2024) |
| EndedAt: 2024-04-16 03:09:58 -0400 (Tue, 16 Apr 2024) |
| EllapsedTime: 878.0 seconds |
| RetCode: 0 |
| Status: OK |
| CheckDir: RESOLVE.Rcheck |
| Warnings: 0 |
##############################################################################
##############################################################################
###
### Running command:
###
### /home/biocbuild/bbs-3.18-bioc/R/bin/R CMD check --install=check:RESOLVE.install-out.txt --library=/home/biocbuild/bbs-3.18-bioc/R/site-library --timings RESOLVE_1.4.0.tar.gz
###
##############################################################################
##############################################################################
* using log directory ‘/home/biocbuild/bbs-3.18-bioc/meat/RESOLVE.Rcheck’
* using R version 4.3.3 (2024-02-29)
* using platform: x86_64-pc-linux-gnu (64-bit)
* R was compiled by
gcc (Ubuntu 11.4.0-1ubuntu1~22.04) 11.4.0
GNU Fortran (Ubuntu 11.4.0-1ubuntu1~22.04) 11.4.0
* running under: Ubuntu 22.04.4 LTS
* using session charset: UTF-8
* checking for file ‘RESOLVE/DESCRIPTION’ ... OK
* this is package ‘RESOLVE’ version ‘1.4.0’
* package encoding: UTF-8
* checking package namespace information ... OK
* checking package dependencies ... OK
* checking if this is a source package ... OK
* checking if there is a namespace ... OK
* checking for hidden files and directories ... OK
* checking for portable file names ... OK
* checking for sufficient/correct file permissions ... OK
* checking whether package ‘RESOLVE’ can be installed ... OK
* checking installed package size ... OK
* checking package directory ... OK
* checking ‘build’ directory ... OK
* checking DESCRIPTION meta-information ... OK
* checking top-level files ... OK
* checking for left-over files ... OK
* checking index information ... OK
* checking package subdirectories ... OK
* checking R files for non-ASCII characters ... OK
* checking R files for syntax errors ... OK
* checking whether the package can be loaded ... OK
* checking whether the package can be loaded with stated dependencies ... OK
* checking whether the package can be unloaded cleanly ... OK
* checking whether the namespace can be loaded with stated dependencies ... OK
* checking whether the namespace can be unloaded cleanly ... OK
* checking loading without being on the library search path ... OK
* checking dependencies in R code ... OK
* checking S3 generic/method consistency ... OK
* checking replacement functions ... OK
* checking foreign function calls ... OK
* checking R code for possible problems ... OK
* checking Rd files ... OK
* checking Rd metadata ... OK
* checking Rd cross-references ... OK
* checking for missing documentation entries ... OK
* checking for code/documentation mismatches ... OK
* checking Rd \usage sections ... OK
* checking Rd contents ... OK
* checking for unstated dependencies in examples ... OK
* checking contents of ‘data’ directory ... OK
* checking data for non-ASCII characters ... OK
* checking data for ASCII and uncompressed saves ... OK
* checking files in ‘vignettes’ ... OK
* checking examples ... OK
Examples with CPU (user + system) or elapsed time > 5s
user system elapsed
signaturesSignificance 133.989 0.404 134.394
signaturesCV 108.519 0.388 109.013
signaturesDecomposition 75.524 0.284 75.827
signaturesAssignment 39.116 0.212 39.328
getMNVCounts 11.688 0.099 11.788
getIDCounts 6.125 0.273 6.465
* checking for unstated dependencies in ‘tests’ ... OK
* checking tests ...
Running ‘testthat.R’
OK
* checking for unstated dependencies in vignettes ... OK
* checking package vignettes in ‘inst/doc’ ... OK
* checking running R code from vignettes ...
‘RESOLVE.rmd’ using ‘UTF-8’... OK
OK
* checking re-building of vignette outputs ... OK
* checking PDF version of manual ... OK
* DONE
Status: OK
RESOLVE.Rcheck/00install.out
############################################################################## ############################################################################## ### ### Running command: ### ### /home/biocbuild/bbs-3.18-bioc/R/bin/R CMD INSTALL RESOLVE ### ############################################################################## ############################################################################## * installing to library ‘/home/biocbuild/bbs-3.18-bioc/R/site-library’ * installing *source* package ‘RESOLVE’ ... ** using staged installation ** R ** data ** inst ** byte-compile and prepare package for lazy loading ** help *** installing help indices ** building package indices ** installing vignettes ** testing if installed package can be loaded from temporary location ** testing if installed package can be loaded from final location ** testing if installed package keeps a record of temporary installation path * DONE (RESOLVE)
RESOLVE.Rcheck/tests/testthat.Rout
R version 4.3.3 (2024-02-29) -- "Angel Food Cake"
Copyright (C) 2024 The R Foundation for Statistical Computing
Platform: x86_64-pc-linux-gnu (64-bit)
R is free software and comes with ABSOLUTELY NO WARRANTY.
You are welcome to redistribute it under certain conditions.
Type 'license()' or 'licence()' for distribution details.
R is a collaborative project with many contributors.
Type 'contributors()' for more information and
'citation()' on how to cite R or R packages in publications.
Type 'demo()' for some demos, 'help()' for on-line help, or
'help.start()' for an HTML browser interface to help.
Type 'q()' to quit R.
> Sys.setenv("R_TESTS" = "")
>
> library("testthat")
> library("RESOLVE")
>
> test_check("RESOLVE")
[ FAIL 0 | WARN 203 | SKIP 0 | PASS 6 ]
[ FAIL 0 | WARN 203 | SKIP 0 | PASS 6 ]
>
> proc.time()
user system elapsed
185.677 1.935 187.595
RESOLVE.Rcheck/RESOLVE-Ex.timings
| name | user | system | elapsed | |
| getCNCounts | 0.016 | 0.000 | 0.016 | |
| getIDCounts | 6.125 | 0.273 | 6.465 | |
| getMNVCounts | 11.688 | 0.099 | 11.788 | |
| getSBSCounts | 1.128 | 0.273 | 4.012 | |
| groupsCNPlot | 2.546 | 0.008 | 2.554 | |
| groupsCXPlot | 1.720 | 0.004 | 1.724 | |
| groupsIDPlot | 3.871 | 0.020 | 3.891 | |
| groupsMNVPlot | 4.537 | 0.127 | 4.665 | |
| groupsSBSPlot | 3.031 | 0.028 | 3.059 | |
| patientsCNPlot | 1.177 | 0.044 | 1.221 | |
| patientsCXPlot | 0.556 | 0.000 | 0.557 | |
| patientsIDPlot | 1.771 | 0.000 | 1.771 | |
| patientsMNVPlot | 1.141 | 0.000 | 1.142 | |
| patientsSBSPlot | 0.786 | 0.020 | 0.805 | |
| signaturesAssignment | 39.116 | 0.212 | 39.328 | |
| signaturesCNPlot | 1.630 | 0.048 | 1.678 | |
| signaturesCV | 108.519 | 0.388 | 109.013 | |
| signaturesCXPlot | 0.803 | 0.020 | 0.823 | |
| signaturesDecomposition | 75.524 | 0.284 | 75.827 | |
| signaturesIDPlot | 2.615 | 0.040 | 2.655 | |
| signaturesMNVPlot | 1.68 | 0.00 | 1.68 | |
| signaturesSBSPlot | 1.127 | 0.004 | 1.131 | |
| signaturesSignificance | 133.989 | 0.404 | 134.394 | |