Back to Multiple platform build/check report for BioC 3.18: simplified long |
|
This page was generated on 2024-04-17 11:36:17 -0400 (Wed, 17 Apr 2024).
Hostname | OS | Arch (*) | R version | Installed pkgs |
---|---|---|---|---|
nebbiolo2 | Linux (Ubuntu 22.04.3 LTS) | x86_64 | 4.3.3 (2024-02-29) -- "Angel Food Cake" | 4676 |
palomino4 | Windows Server 2022 Datacenter | x64 | 4.3.3 (2024-02-29 ucrt) -- "Angel Food Cake" | 4414 |
merida1 | macOS 12.7.1 Monterey | x86_64 | 4.3.3 (2024-02-29) -- "Angel Food Cake" | 4437 |
Click on any hostname to see more info about the system (e.g. compilers) (*) as reported by 'uname -p', except on Windows and Mac OS X |
Package 1685/2266 | Hostname | OS / Arch | INSTALL | BUILD | CHECK | BUILD BIN | ||||||||
RCX 1.6.0 (landing page) Florian Auer
| nebbiolo2 | Linux (Ubuntu 22.04.3 LTS) / x86_64 | OK | OK | OK | ![]() | ||||||||
palomino4 | Windows Server 2022 Datacenter / x64 | OK | OK | OK | OK | ![]() | ||||||||
merida1 | macOS 12.7.1 Monterey / x86_64 | OK | OK | OK | OK | ![]() | ||||||||
kjohnson1 | macOS 13.6.1 Ventura / arm64 | see weekly results here | ||||||||||||
To the developers/maintainers of the RCX package: - Allow up to 24 hours (and sometimes 48 hours) for your latest push to git@git.bioconductor.org:packages/RCX.git to reflect on this report. See Troubleshooting Build Report for more information. - Use the following Renviron settings to reproduce errors and warnings. - If 'R CMD check' started to fail recently on the Linux builder(s) over a missing dependency, add the missing dependency to 'Suggests:' in your DESCRIPTION file. See Renviron.bioc for more information. |
Package: RCX |
Version: 1.6.0 |
Command: /home/biocbuild/bbs-3.18-bioc/R/bin/R CMD check --install=check:RCX.install-out.txt --library=/home/biocbuild/bbs-3.18-bioc/R/site-library --timings RCX_1.6.0.tar.gz |
StartedAt: 2024-04-16 02:47:44 -0400 (Tue, 16 Apr 2024) |
EndedAt: 2024-04-16 02:48:48 -0400 (Tue, 16 Apr 2024) |
EllapsedTime: 64.4 seconds |
RetCode: 0 |
Status: OK |
CheckDir: RCX.Rcheck |
Warnings: 0 |
############################################################################## ############################################################################## ### ### Running command: ### ### /home/biocbuild/bbs-3.18-bioc/R/bin/R CMD check --install=check:RCX.install-out.txt --library=/home/biocbuild/bbs-3.18-bioc/R/site-library --timings RCX_1.6.0.tar.gz ### ############################################################################## ############################################################################## * using log directory ‘/home/biocbuild/bbs-3.18-bioc/meat/RCX.Rcheck’ * using R version 4.3.3 (2024-02-29) * using platform: x86_64-pc-linux-gnu (64-bit) * R was compiled by gcc (Ubuntu 11.4.0-1ubuntu1~22.04) 11.4.0 GNU Fortran (Ubuntu 11.4.0-1ubuntu1~22.04) 11.4.0 * running under: Ubuntu 22.04.4 LTS * using session charset: UTF-8 * checking for file ‘RCX/DESCRIPTION’ ... OK * checking extension type ... Package * this is package ‘RCX’ version ‘1.6.0’ * package encoding: UTF-8 * checking package namespace information ... OK * checking package dependencies ... OK * checking if this is a source package ... OK * checking if there is a namespace ... OK * checking for hidden files and directories ... OK * checking for portable file names ... OK * checking for sufficient/correct file permissions ... OK * checking whether package ‘RCX’ can be installed ... OK * checking installed package size ... OK * checking package directory ... OK * checking ‘build’ directory ... OK * checking DESCRIPTION meta-information ... OK * checking top-level files ... OK * checking for left-over files ... OK * checking index information ... OK * checking package subdirectories ... NOTE Problems with news in ‘NEWS.md’: No news entries found. * checking R files for non-ASCII characters ... OK * checking R files for syntax errors ... OK * checking whether the package can be loaded ... OK * checking whether the package can be loaded with stated dependencies ... OK * checking whether the package can be unloaded cleanly ... OK * checking whether the namespace can be loaded with stated dependencies ... OK * checking whether the namespace can be unloaded cleanly ... OK * checking loading without being on the library search path ... OK * checking startup messages can be suppressed ... OK * checking dependencies in R code ... OK * checking S3 generic/method consistency ... OK * checking replacement functions ... OK * checking foreign function calls ... OK * checking R code for possible problems ... OK * checking Rd files ... OK * checking Rd metadata ... OK * checking Rd cross-references ... OK * checking for missing documentation entries ... OK * checking for code/documentation mismatches ... OK * checking Rd \usage sections ... OK * checking Rd contents ... OK * checking for unstated dependencies in examples ... OK * checking R/sysdata.rda ... OK * checking files in ‘vignettes’ ... OK * checking examples ... OK * checking for unstated dependencies in ‘tests’ ... OK * checking tests ... Running ‘testthat.R’ OK * checking for unstated dependencies in vignettes ... OK * checking package vignettes in ‘inst/doc’ ... OK * checking running R code from vignettes ... ‘Appendix_The_RCX_and_CX_Data_Model.Rmd’ using ‘UTF-8’... OK ‘Creating_RCX_from_scratch.Rmd’ using ‘UTF-8’... OK ‘Extending_the_RCX_Data_Model.Rmd’ using ‘UTF-8’... OK ‘RCX_an_R_package_implementing_the_Cytoscape_Exchange_format.Rmd’ using ‘UTF-8’... OK OK * checking re-building of vignette outputs ... OK * checking PDF version of manual ... OK * DONE Status: 1 NOTE See ‘/home/biocbuild/bbs-3.18-bioc/meat/RCX.Rcheck/00check.log’ for details.
RCX.Rcheck/00install.out
############################################################################## ############################################################################## ### ### Running command: ### ### /home/biocbuild/bbs-3.18-bioc/R/bin/R CMD INSTALL RCX ### ############################################################################## ############################################################################## * installing to library ‘/home/biocbuild/bbs-3.18-bioc/R/site-library’ * installing *source* package ‘RCX’ ... ** using staged installation ** R ** inst ** byte-compile and prepare package for lazy loading ** help *** installing help indices ** building package indices ** installing vignettes ** testing if installed package can be loaded from temporary location ** testing if installed package can be loaded from final location ** testing if installed package keeps a record of temporary installation path * DONE (RCX)
RCX.Rcheck/tests/testthat.Rout
R version 4.3.3 (2024-02-29) -- "Angel Food Cake" Copyright (C) 2024 The R Foundation for Statistical Computing Platform: x86_64-pc-linux-gnu (64-bit) R is free software and comes with ABSOLUTELY NO WARRANTY. You are welcome to redistribute it under certain conditions. Type 'license()' or 'licence()' for distribution details. R is a collaborative project with many contributors. Type 'contributors()' for more information and 'citation()' on how to cite R or R packages in publications. Type 'demo()' for some demos, 'help()' for on-line help, or 'help.start()' for an HTML browser interface to help. Type 'q()' to quit R. > library(testthat) > library(RCX) > > test_check("RCX") [ FAIL 0 | WARN 0 | SKIP 0 | PASS 60 ] > > proc.time() user system elapsed 2.366 0.105 2.460
RCX.Rcheck/RCX-Ex.timings
name | user | system | elapsed | |
CartesianLayout | 0.004 | 0.000 | 0.004 | |
Convert-Names-and-Classes | 0.001 | 0.000 | 0.001 | |
CyGroups | 0.000 | 0.004 | 0.004 | |
CyHiddenAttributes | 0.111 | 0.004 | 0.115 | |
CyNetworkRelations | 0.001 | 0.000 | 0.001 | |
CySubNetworks | 0.002 | 0.000 | 0.002 | |
CyTableColumn | 0.004 | 0.000 | 0.004 | |
CyVisualProperties | 0.014 | 0.000 | 0.013 | |
CyVisualProperty | 0.012 | 0.000 | 0.012 | |
CyVisualPropertyDependencies | 0.003 | 0.000 | 0.003 | |
CyVisualPropertyMappings | 0.003 | 0.000 | 0.004 | |
CyVisualPropertyProperties | 0.003 | 0.000 | 0.003 | |
EdgeAttributes | 0.013 | 0.000 | 0.013 | |
Edges | 0.001 | 0.000 | 0.001 | |
Igraph | 2.228 | 0.044 | 2.273 | |
Meta-data | 0.021 | 0.000 | 0.022 | |
NetworkAttributes | 0.008 | 0.000 | 0.009 | |
NodeAttributes | 0.013 | 0.000 | 0.013 | |
Nodes | 0.001 | 0.000 | 0.001 | |
RCX-object | 0.202 | 0.000 | 0.203 | |
aspectClasses | 0.001 | 0.000 | 0.001 | |
checks | 0 | 0 | 0 | |
convert-data-types-and-values | 0.001 | 0.000 | 0.001 | |
convert2json | 0 | 0 | 0 | |
countElements | 0.008 | 0.000 | 0.007 | |
custom-print | 0.005 | 0.000 | 0.004 | |
dot-addAspectNameToJson | 0 | 0 | 0 | |
dot-addAttributeData | 0 | 0 | 0 | |
dot-aspectClass | 0 | 0 | 0 | |
dot-convertRawList | 0 | 0 | 0 | |
dot-createAttributeAspect | 0 | 0 | 0 | |
dot-createCyVpPorD | 0 | 0 | 0 | |
dot-filterBy | 0 | 0 | 0 | |
dot-format | 0 | 0 | 0 | |
dot-infer | 0 | 0 | 0 | |
dot-json2RDataType | 0 | 0 | 0 | |
dot-jsonL | 0 | 0 | 0 | |
dot-jsonV | 0.000 | 0.000 | 0.001 | |
dot-log | 0 | 0 | 0 | |
dot-mergeAttributesAspect | 0 | 0 | 0 | |
dot-mergeIdAspect | 0.001 | 0.000 | 0.000 | |
dot-modClass | 0.000 | 0.000 | 0.001 | |
dot-pasteC | 0 | 0 | 0 | |
dot-renameDF | 0.001 | 0.000 | 0.002 | |
dot-stop | 0 | 0 | 0 | |
dot-summaryAspect | 0.001 | 0.000 | 0.001 | |
dot-transformListLength-set | 0.000 | 0.002 | 0.002 | |
dot-transformVLD | 0.000 | 0.005 | 0.004 | |
getCyVisualProperty | 0.008 | 0.000 | 0.008 | |
graphNEL | 2.487 | 0.024 | 2.511 | |
hasIds | 0.000 | 0.000 | 0.001 | |
idProperty | 0.000 | 0.000 | 0.001 | |
jsonToRCX | 0.000 | 0.002 | 0.002 | |
markAttributeColumn | 0.001 | 0.000 | 0.001 | |
markRefColumn | 0.000 | 0.000 | 0.001 | |
maxId | 0.000 | 0.000 | 0.001 | |
rcxToJson | 0.001 | 0.000 | 0.001 | |
readCX | 0.443 | 0.000 | 0.443 | |
referredBy | 0.008 | 0.000 | 0.007 | |
refersTo | 0.001 | 0.000 | 0.000 | |
setExtension | 0 | 0 | 0 | |
summary | 0.017 | 0.008 | 0.025 | |
toCX | 0.011 | 0.000 | 0.011 | |
updateCartesianLayout | 0.037 | 0.004 | 0.041 | |
updateCyGroups | 0.027 | 0.000 | 0.028 | |
updateCyHiddenAttributes | 0.046 | 0.000 | 0.046 | |
updateCyNetworkRelations | 0.037 | 0.000 | 0.037 | |
updateCySubNetworks | 0.023 | 0.000 | 0.023 | |
updateCyTableColumn | 0.04 | 0.00 | 0.04 | |
updateCyVisualProperties | 0.211 | 0.003 | 0.214 | |
updateCyVisualProperty | 0.055 | 0.000 | 0.054 | |
updateEdgeAttributes | 0.044 | 0.000 | 0.044 | |
updateEdges | 0.016 | 0.000 | 0.017 | |
updateMetaDataProperties | 0.017 | 0.000 | 0.017 | |
updateNetworkAttributes | 0.039 | 0.000 | 0.039 | |
updateNodeAttributes | 0.053 | 0.000 | 0.053 | |
updateNodes | 0.012 | 0.000 | 0.012 | |
validate | 0.24 | 0.00 | 0.24 | |
visualize | 0.008 | 0.000 | 0.009 | |
writeCX | 0 | 0 | 0 | |
writeHTML | 0.056 | 0.020 | 0.089 | |