| Back to Multiple platform build/check report for BioC 3.18: simplified long |
|
This page was generated on 2023-11-02 11:41:07 -0400 (Thu, 02 Nov 2023).
| Hostname | OS | Arch (*) | R version | Installed pkgs |
|---|---|---|---|---|
| nebbiolo2 | Linux (Ubuntu 22.04.2 LTS) | x86_64 | 4.3.1 (2023-06-16) -- "Beagle Scouts" | 4729 |
| palomino4 | Windows Server 2022 Datacenter | x64 | 4.3.1 (2023-06-16 ucrt) -- "Beagle Scouts" | 4463 |
| lconway | macOS 12.6.5 Monterey | x86_64 | 4.3.1 Patched (2023-06-17 r84564) -- "Beagle Scouts" | 4478 |
| kunpeng2 | Linux (openEuler 22.03 LTS-SP1) | aarch64 | 4.3.1 (2023-06-16) -- "Beagle Scouts" | 4464 |
| Click on any hostname to see more info about the system (e.g. compilers) (*) as reported by 'uname -p', except on Windows and Mac OS X | ||||
| Package 1646/2266 | Hostname | OS / Arch | INSTALL | BUILD | CHECK | BUILD BIN | ||||||||
| R453Plus1Toolbox 1.52.0 (landing page) Hans-Ulrich Klein
| nebbiolo2 | Linux (Ubuntu 22.04.2 LTS) / x86_64 | OK | OK | OK | |||||||||
| palomino4 | Windows Server 2022 Datacenter / x64 | OK | OK | OK | OK | |||||||||
| lconway | macOS 12.6.5 Monterey / x86_64 | OK | OK | OK | OK | |||||||||
| kjohnson1 | macOS 13.6.1 Ventura / arm64 | see weekly results here | ||||||||||||
| kunpeng2 | Linux (openEuler 22.03 LTS-SP1) / aarch64 | OK | OK | OK | ||||||||||
|
To the developers/maintainers of the R453Plus1Toolbox package: - Allow up to 24 hours (and sometimes 48 hours) for your latest push to git@git.bioconductor.org:packages/R453Plus1Toolbox.git to reflect on this report. See Troubleshooting Build Report for more information. - Use the following Renviron settings to reproduce errors and warnings. - If 'R CMD check' started to fail recently on the Linux builder(s) over a missing dependency, add the missing dependency to 'Suggests:' in your DESCRIPTION file. See Renviron.bioc for more information. - See Martin Grigorov's blog post for how to debug Linux ARM64 related issues on a x86_64 host. |
| Package: R453Plus1Toolbox |
| Version: 1.52.0 |
| Command: /home/biocbuild/R/R-4.3.1/bin/R CMD check --install=check:R453Plus1Toolbox.install-out.txt --library=/home/biocbuild/R/R-4.3.1/site-library --no-vignettes --timings R453Plus1Toolbox_1.52.0.tar.gz |
| StartedAt: 2023-11-02 13:26:36 -0000 (Thu, 02 Nov 2023) |
| EndedAt: 2023-11-02 13:34:39 -0000 (Thu, 02 Nov 2023) |
| EllapsedTime: 483.3 seconds |
| RetCode: 0 |
| Status: OK |
| CheckDir: R453Plus1Toolbox.Rcheck |
| Warnings: 0 |
##############################################################################
##############################################################################
###
### Running command:
###
### /home/biocbuild/R/R-4.3.1/bin/R CMD check --install=check:R453Plus1Toolbox.install-out.txt --library=/home/biocbuild/R/R-4.3.1/site-library --no-vignettes --timings R453Plus1Toolbox_1.52.0.tar.gz
###
##############################################################################
##############################################################################
* using log directory ‘/home/biocbuild/bbs-3.18-bioc/meat/R453Plus1Toolbox.Rcheck’
* using R version 4.3.1 (2023-06-16)
* using platform: aarch64-unknown-linux-gnu (64-bit)
* R was compiled by
gcc (GCC) 10.3.1
GNU Fortran (GCC) 10.3.1
* running under: openEuler 22.03 (LTS-SP1)
* using session charset: UTF-8
* using option ‘--no-vignettes’
* checking for file ‘R453Plus1Toolbox/DESCRIPTION’ ... OK
* checking extension type ... Package
* this is package ‘R453Plus1Toolbox’ version ‘1.52.0’
* checking package namespace information ... OK
* checking package dependencies ... OK
* checking if this is a source package ... OK
* checking if there is a namespace ... OK
* checking for hidden files and directories ... OK
* checking for portable file names ... OK
* checking for sufficient/correct file permissions ... OK
* checking whether package ‘R453Plus1Toolbox’ can be installed ... OK
* used C compiler: ‘gcc (GCC) 10.3.1’
* checking installed package size ... NOTE
installed size is 5.2Mb
sub-directories of 1Mb or more:
R 1.9Mb
extdata 2.8Mb
* checking package directory ... OK
* checking ‘build’ directory ... OK
* checking DESCRIPTION meta-information ... OK
* checking top-level files ... OK
* checking for left-over files ... OK
* checking index information ... OK
* checking package subdirectories ... OK
* checking R files for non-ASCII characters ... OK
* checking R files for syntax errors ... OK
* checking whether the package can be loaded ... OK
* checking whether the package can be loaded with stated dependencies ... OK
* checking whether the package can be unloaded cleanly ... OK
* checking whether the namespace can be loaded with stated dependencies ... OK
* checking whether the namespace can be unloaded cleanly ... OK
* checking loading without being on the library search path ... OK
* checking dependencies in R code ... NOTE
'library' or 'require' call to ‘BSgenome.Hsapiens.UCSC.hg19’ in package code.
Please use :: or requireNamespace() instead.
See section 'Suggested packages' in the 'Writing R Extensions' manual.
* checking S3 generic/method consistency ... OK
* checking replacement functions ... OK
* checking foreign function calls ... OK
* checking R code for possible problems ... NOTE
.annotateVariants_MapperSet: no visible binding for global variable
‘Hsapiens’
.ava2vcf: no visible binding for global variable ‘Hsapiens’
.detectBreakpoints: no visible binding for global variable ‘Hsapiens’
.getEnsemblInfo: no visible binding for global variable ‘cds_length’
.getEnsemblInfo: no visible binding for global variable
‘ensembl_transcript_id’
.getMutations: no visible binding for global variable ‘PatternStart’
.getMutations: no visible binding for global variable ‘PatternEnd’
.htmlReport: no visible binding for global variable ‘VarFreqForward’
.htmlReport: no visible binding for global variable ‘VarFreqReverse’
.plotVariants: no visible binding for global variable ‘mutation’
qualityReportSFF: no visible binding for '<<-' assignment to ‘tmp’
annotateVariants,MapperSet-BSgenome: no visible binding for global
variable ‘Hsapiens’
annotateVariants,MapperSet-missing: no visible binding for global
variable ‘Hsapiens’
ava2vcf,AVASet: no visible binding for global variable ‘Hsapiens’
detectBreakpoints,list: no visible binding for global variable
‘Hsapiens’
subset,AVASet: no visible binding for global variable ‘referenceSeqID’
Undefined global functions or variables:
Hsapiens PatternEnd PatternStart VarFreqForward VarFreqReverse
cds_length ensembl_transcript_id mutation referenceSeqID
* checking Rd files ... OK
* checking Rd metadata ... OK
* checking Rd cross-references ... OK
* checking for missing documentation entries ... OK
* checking for code/documentation mismatches ... OK
* checking Rd \usage sections ... OK
* checking Rd contents ... OK
* checking for unstated dependencies in examples ... OK
* checking contents of ‘data’ directory ... OK
* checking data for non-ASCII characters ... OK
* checking data for ASCII and uncompressed saves ... OK
* checking line endings in C/C++/Fortran sources/headers ... OK
* checking compiled code ... NOTE
Note: information on .o files is not available
* checking files in ‘vignettes’ ... OK
* checking examples ... OK
Examples with CPU (user + system) or elapsed time > 5s
user system elapsed
mergeBreakpoints 7.364 0.044 7.449
* checking for unstated dependencies in vignettes ... OK
* checking package vignettes in ‘inst/doc’ ... OK
* checking running R code from vignettes ... SKIPPED
* checking re-building of vignette outputs ... SKIPPED
* checking PDF version of manual ... OK
* DONE
Status: 4 NOTEs
See
‘/home/biocbuild/bbs-3.18-bioc/meat/R453Plus1Toolbox.Rcheck/00check.log’
for details.
R453Plus1Toolbox.Rcheck/00install.out
##############################################################################
##############################################################################
###
### Running command:
###
### /home/biocbuild/R/R-4.3.1/bin/R CMD INSTALL R453Plus1Toolbox
###
##############################################################################
##############################################################################
* installing to library ‘/home/biocbuild/R/R-4.3.1/site-library’
* installing *source* package ‘R453Plus1Toolbox’ ...
** using staged installation
** libs
using C compiler: ‘gcc (GCC) 10.3.1’
gcc -I"/home/biocbuild/R/R-4.3.1/include" -DNDEBUG -I/usr/local/include -fPIC -g -O2 -Wall -c readSFF.c -o readSFF.o
readSFF.c: In function ‘readSFF’:
readSFF.c:27:7: warning: variable ‘block_count’ set but not used [-Wunused-but-set-variable]
27 | int block_count;
| ^~~~~~~~~~~
gcc -I"/home/biocbuild/R/R-4.3.1/include" -DNDEBUG -I/usr/local/include -fPIC -g -O2 -Wall -c writeSFF.c -o writeSFF.o
gcc -shared -L/home/biocbuild/R/R-4.3.1/lib -L/usr/local/lib -o R453Plus1Toolbox.so readSFF.o writeSFF.o -L/home/biocbuild/R/R-4.3.1/lib -lR
installing to /home/biocbuild/R/R-4.3.1/site-library/00LOCK-R453Plus1Toolbox/00new/R453Plus1Toolbox/libs
** R
** data
** inst
** byte-compile and prepare package for lazy loading
** help
*** installing help indices
** building package indices
** installing vignettes
** testing if installed package can be loaded from temporary location
** checking absolute paths in shared objects and dynamic libraries
** testing if installed package can be loaded from final location
** testing if installed package keeps a record of temporary installation path
* DONE (R453Plus1Toolbox)
R453Plus1Toolbox.Rcheck/R453Plus1Toolbox-Ex.timings
| name | user | system | elapsed | |
| AVASet-class | 0.220 | 0.024 | 0.249 | |
| AVASet | 0.166 | 0.020 | 0.186 | |
| AnnotatedVariants-class | 0.001 | 0.000 | 0.001 | |
| MapperSet-class | 0.026 | 0.004 | 0.030 | |
| MapperSet | 0.006 | 0.000 | 0.006 | |
| SFFContainer-class | 0.000 | 0.001 | 0.001 | |
| SFFRead-class | 0 | 0 | 0 | |
| alignShortReads | 2.687 | 0.009 | 2.720 | |
| annotateVariants | 0.001 | 0.000 | 0.002 | |
| assayDataAmp | 0.004 | 0.000 | 0.004 | |
| ava2vcf | 0.305 | 0.000 | 0.305 | |
| avaSetExample | 0.014 | 0.000 | 0.014 | |
| avaSetFiltered | 0.021 | 0.000 | 0.021 | |
| avaSetFiltered_annot | 0.001 | 0.000 | 0.002 | |
| breakpoints | 0.004 | 0.000 | 0.004 | |
| calculateTiTv | 0.01 | 0.00 | 0.01 | |
| captureArray | 0.002 | 0.000 | 0.002 | |
| coverageOnTarget | 0.246 | 0.004 | 0.252 | |
| demultiplexReads | 0.091 | 0.000 | 0.091 | |
| detectBreakpoints | 0.858 | 0.040 | 0.902 | |
| fDataAmp | 0.010 | 0.008 | 0.017 | |
| featureDataAmp | 0.013 | 0.004 | 0.017 | |
| filterChimericReads | 4.688 | 0.012 | 4.709 | |
| genomeSequencerMIDs | 0.029 | 0.000 | 0.029 | |
| getAlignedReads | 0.061 | 0.008 | 0.071 | |
| getVariantPercentages | 0.026 | 0.004 | 0.031 | |
| htmlReport | 2.970 | 0.044 | 3.021 | |
| mapperSetExample | 0.006 | 0.000 | 0.006 | |
| mergeBreakpoints | 7.364 | 0.044 | 7.449 | |
| mutationInfo | 0.003 | 0.000 | 0.002 | |
| plotAmpliconCoverage | 0 | 0 | 0 | |
| plotChimericReads | 4.164 | 0.043 | 4.216 | |
| plotVariants | 0.003 | 0.000 | 0.003 | |
| plotVariationFrequency | 0 | 0 | 0 | |
| qualityReportSFF | 0.001 | 0.000 | 0.000 | |
| readSFF | 0.114 | 0.000 | 0.115 | |
| readsOnTarget | 0.068 | 0.000 | 0.069 | |
| referenceSequences | 0.007 | 0.000 | 0.008 | |
| regions | 0.003 | 0.000 | 0.002 | |
| removeLinker | 0.025 | 0.000 | 0.025 | |
| sequenceCaptureLinkers | 0.006 | 0.000 | 0.006 | |
| setVariantFilter | 0.054 | 0.000 | 0.055 | |
| variants | 0.003 | 0.000 | 0.002 | |
| writeSFF | 0.039 | 0.000 | 0.039 | |