Back to Multiple platform build/check report for BioC 3.18: simplified long |
|
This page was generated on 2023-11-02 11:41:04 -0400 (Thu, 02 Nov 2023).
Hostname | OS | Arch (*) | R version | Installed pkgs |
---|---|---|---|---|
nebbiolo2 | Linux (Ubuntu 22.04.2 LTS) | x86_64 | 4.3.1 (2023-06-16) -- "Beagle Scouts" | 4729 |
palomino4 | Windows Server 2022 Datacenter | x64 | 4.3.1 (2023-06-16 ucrt) -- "Beagle Scouts" | 4463 |
lconway | macOS 12.6.5 Monterey | x86_64 | 4.3.1 Patched (2023-06-17 r84564) -- "Beagle Scouts" | 4478 |
kunpeng2 | Linux (openEuler 22.03 LTS-SP1) | aarch64 | 4.3.1 (2023-06-16) -- "Beagle Scouts" | 4464 |
Click on any hostname to see more info about the system (e.g. compilers) (*) as reported by 'uname -p', except on Windows and Mac OS X |
Package 1551/2266 | Hostname | OS / Arch | INSTALL | BUILD | CHECK | BUILD BIN | ||||||||
Pigengene 1.28.0 (landing page) Habil Zare
| nebbiolo2 | Linux (Ubuntu 22.04.2 LTS) / x86_64 | OK | OK | OK | ![]() | ||||||||
palomino4 | Windows Server 2022 Datacenter / x64 | OK | OK | OK | OK | ![]() | ||||||||
lconway | macOS 12.6.5 Monterey / x86_64 | OK | OK | OK | OK | ![]() | ||||||||
kjohnson1 | macOS 13.6.1 Ventura / arm64 | see weekly results here | ||||||||||||
kunpeng2 | Linux (openEuler 22.03 LTS-SP1) / aarch64 | OK | OK | OK | ||||||||||
To the developers/maintainers of the Pigengene package: - Allow up to 24 hours (and sometimes 48 hours) for your latest push to git@git.bioconductor.org:packages/Pigengene.git to reflect on this report. See Troubleshooting Build Report for more information. - Use the following Renviron settings to reproduce errors and warnings. - If 'R CMD check' started to fail recently on the Linux builder(s) over a missing dependency, add the missing dependency to 'Suggests:' in your DESCRIPTION file. See Renviron.bioc for more information. - See Martin Grigorov's blog post for how to debug Linux ARM64 related issues on a x86_64 host. |
Package: Pigengene |
Version: 1.28.0 |
Command: /home/biocbuild/R/R-4.3.1/bin/R CMD check --install=check:Pigengene.install-out.txt --library=/home/biocbuild/R/R-4.3.1/site-library --no-vignettes --timings Pigengene_1.28.0.tar.gz |
StartedAt: 2023-11-02 13:06:33 -0000 (Thu, 02 Nov 2023) |
EndedAt: 2023-11-02 13:34:21 -0000 (Thu, 02 Nov 2023) |
EllapsedTime: 1668.4 seconds |
RetCode: 0 |
Status: OK |
CheckDir: Pigengene.Rcheck |
Warnings: 0 |
############################################################################## ############################################################################## ### ### Running command: ### ### /home/biocbuild/R/R-4.3.1/bin/R CMD check --install=check:Pigengene.install-out.txt --library=/home/biocbuild/R/R-4.3.1/site-library --no-vignettes --timings Pigengene_1.28.0.tar.gz ### ############################################################################## ############################################################################## * using log directory ‘/home/biocbuild/bbs-3.18-bioc/meat/Pigengene.Rcheck’ * using R version 4.3.1 (2023-06-16) * using platform: aarch64-unknown-linux-gnu (64-bit) * R was compiled by gcc (GCC) 10.3.1 GNU Fortran (GCC) 10.3.1 * running under: openEuler 22.03 (LTS-SP1) * using session charset: UTF-8 * using option ‘--no-vignettes’ * checking for file ‘Pigengene/DESCRIPTION’ ... OK * checking extension type ... Package * this is package ‘Pigengene’ version ‘1.28.0’ * checking package namespace information ... OK * checking package dependencies ... OK * checking if this is a source package ... OK * checking if there is a namespace ... OK * checking for hidden files and directories ... OK * checking for portable file names ... OK * checking for sufficient/correct file permissions ... OK * checking whether package ‘Pigengene’ can be installed ... OK * checking installed package size ... OK * checking package directory ... OK * checking ‘build’ directory ... OK * checking DESCRIPTION meta-information ... OK * checking top-level files ... OK * checking for left-over files ... OK * checking index information ... OK * checking package subdirectories ... OK * checking R files for non-ASCII characters ... OK * checking R files for syntax errors ... OK * checking whether the package can be loaded ... OK * checking whether the package can be loaded with stated dependencies ... OK * checking whether the package can be unloaded cleanly ... OK * checking whether the namespace can be loaded with stated dependencies ... OK * checking whether the namespace can be unloaded cleanly ... OK * checking loading without being on the library search path ... OK * checking dependencies in R code ... NOTE 'library' or 'require' calls in package code: ‘AnnotationDbi’ ‘biomaRt’ ‘energy’ ‘org.Hs.eg.db’ ‘org.Mm.eg.db’ Please use :: or requireNamespace() instead. See section 'Suggested packages' in the 'Writing R Extensions' manual. * checking S3 generic/method consistency ... OK * checking replacement functions ... OK * checking foreign function calls ... OK * checking R code for possible problems ... NOTE Found the following possibly unsafe calls: File ‘Pigengene/R/bn.calculation.R’: assignInNamespace("supported.clusters", fixArgs, "bnlearn") one.step.pigengene: no visible binding for global variable ‘org.Hs.eg.db’ Undefined global functions or variables: org.Hs.eg.db * checking Rd files ... OK * checking Rd metadata ... OK * checking Rd cross-references ... OK * checking for missing documentation entries ... OK * checking for code/documentation mismatches ... OK * checking Rd \usage sections ... OK * checking Rd contents ... OK * checking for unstated dependencies in examples ... OK * checking contents of ‘data’ directory ... OK * checking data for non-ASCII characters ... OK * checking data for ASCII and uncompressed saves ... OK * checking files in ‘vignettes’ ... OK * checking examples ... OK Examples with CPU (user + system) or elapsed time > 5s user system elapsed one.step.pigengene 332.852 1.143 334.857 Pigengene-package 322.569 0.882 324.087 get.enriched.pw 90.917 2.499 93.814 module.heatmap 49.139 0.287 49.532 make.filter 28.449 0.072 28.580 apply.filter 26.860 0.092 26.991 project.eigen 24.447 0.203 24.695 plot.pigengene 24.406 0.116 24.565 pigengene 23.956 0.171 24.174 compute.pigengene 23.147 0.056 23.232 learn.bn 21.384 0.066 21.488 combine.networks 17.830 0.055 17.910 determine.modules 17.215 0.004 17.252 wgcna.one.step 16.405 0.016 16.454 compact.tree 16.296 0.096 16.423 make.decision.tree 16.105 0.072 16.208 gene.mapping 6.651 0.339 18.302 * checking for unstated dependencies in vignettes ... OK * checking package vignettes in ‘inst/doc’ ... OK * checking running R code from vignettes ... SKIPPED * checking re-building of vignette outputs ... SKIPPED * checking PDF version of manual ... OK * DONE Status: 2 NOTEs See ‘/home/biocbuild/bbs-3.18-bioc/meat/Pigengene.Rcheck/00check.log’ for details.
Pigengene.Rcheck/00install.out
############################################################################## ############################################################################## ### ### Running command: ### ### /home/biocbuild/R/R-4.3.1/bin/R CMD INSTALL Pigengene ### ############################################################################## ############################################################################## * installing to library ‘/home/biocbuild/R/R-4.3.1/site-library’ * installing *source* package ‘Pigengene’ ... ** using staged installation ** R ** data ** inst ** byte-compile and prepare package for lazy loading ** help *** installing help indices ** building package indices ** installing vignettes ** testing if installed package can be loaded from temporary location ** testing if installed package can be loaded from final location ** testing if installed package keeps a record of temporary installation path * DONE (Pigengene)
Pigengene.Rcheck/Pigengene-Ex.timings
name | user | system | elapsed | |
Pigengene-package | 322.569 | 0.882 | 324.087 | |
aml | 0.177 | 0.004 | 0.179 | |
apply.filter | 26.860 | 0.092 | 26.991 | |
balance | 0.701 | 0.023 | 0.725 | |
calculate.beta | 0.989 | 0.000 | 0.990 | |
check.nas | 0.048 | 0.000 | 0.047 | |
check.pigengene.input | 0.044 | 0.000 | 0.045 | |
combine.networks | 17.830 | 0.055 | 17.910 | |
compact.tree | 16.296 | 0.096 | 16.423 | |
compute.pigengene | 23.147 | 0.056 | 23.232 | |
dcor.matrix | 0.157 | 0.004 | 0.162 | |
determine.modules | 17.215 | 0.004 | 17.252 | |
draw.bn | 0 | 0 | 0 | |
eigengenes33 | 0.098 | 0.003 | 0.103 | |
gene.mapping | 6.651 | 0.339 | 18.302 | |
get.enriched.pw | 90.917 | 2.499 | 93.814 | |
get.fitted.leaf | 0.570 | 0.004 | 0.580 | |
get.genes | 0.554 | 0.000 | 0.557 | |
get.used.features | 0.541 | 0.008 | 0.551 | |
learn.bn | 21.384 | 0.066 | 21.488 | |
make.decision.tree | 16.105 | 0.072 | 16.208 | |
make.filter | 28.449 | 0.072 | 28.580 | |
mds | 0.109 | 0.000 | 0.110 | |
message.if | 0.000 | 0.000 | 0.001 | |
module.heatmap | 49.139 | 0.287 | 49.532 | |
one.step.pigengene | 332.852 | 1.143 | 334.857 | |
pheatmap.type | 0.249 | 0.008 | 0.259 | |
pigengene | 23.956 | 0.171 | 24.174 | |
plot.pigengene | 24.406 | 0.116 | 24.565 | |
preds.at | 0.731 | 0.004 | 0.738 | |
project.eigen | 24.447 | 0.203 | 24.695 | |
pvalues.manova | 0.079 | 0.000 | 0.079 | |
save.if | 0.996 | 0.000 | 0.997 | |
wgcna.one.step | 16.405 | 0.016 | 16.454 | |