| Back to Multiple platform build/check report for BioC 3.18: simplified long |
|
This page was generated on 2024-04-17 11:38:03 -0400 (Wed, 17 Apr 2024).
| Hostname | OS | Arch (*) | R version | Installed pkgs |
|---|---|---|---|---|
| nebbiolo2 | Linux (Ubuntu 22.04.3 LTS) | x86_64 | 4.3.3 (2024-02-29) -- "Angel Food Cake" | 4676 |
| palomino4 | Windows Server 2022 Datacenter | x64 | 4.3.3 (2024-02-29 ucrt) -- "Angel Food Cake" | 4414 |
| merida1 | macOS 12.7.1 Monterey | x86_64 | 4.3.3 (2024-02-29) -- "Angel Food Cake" | 4437 |
| Click on any hostname to see more info about the system (e.g. compilers) (*) as reported by 'uname -p', except on Windows and Mac OS X | ||||
| Package 1517/2266 | Hostname | OS / Arch | INSTALL | BUILD | CHECK | BUILD BIN | ||||||||
| PDATK 1.10.0 (landing page) Benjamin Haibe-Kains
| nebbiolo2 | Linux (Ubuntu 22.04.3 LTS) / x86_64 | OK | OK | WARNINGS | |||||||||
| palomino4 | Windows Server 2022 Datacenter / x64 | OK | OK | WARNINGS | OK | |||||||||
| merida1 | macOS 12.7.1 Monterey / x86_64 | OK | OK | WARNINGS | OK | |||||||||
| kjohnson1 | macOS 13.6.1 Ventura / arm64 | see weekly results here | ||||||||||||
|
To the developers/maintainers of the PDATK package: - Allow up to 24 hours (and sometimes 48 hours) for your latest push to git@git.bioconductor.org:packages/PDATK.git to reflect on this report. See Troubleshooting Build Report for more information. - Use the following Renviron settings to reproduce errors and warnings. - If 'R CMD check' started to fail recently on the Linux builder(s) over a missing dependency, add the missing dependency to 'Suggests:' in your DESCRIPTION file. See Renviron.bioc for more information. |
| Package: PDATK |
| Version: 1.10.0 |
| Command: rm -rf PDATK.buildbin-libdir && mkdir PDATK.buildbin-libdir && /Users/biocbuild/BBS/utils/build-universal.sh PDATK_1.10.0.tar.gz /Library/Frameworks/R.framework/Resources/bin/R PDATK.buildbin-libdir |
| StartedAt: 2024-04-16 12:24:25 -0400 (Tue, 16 Apr 2024) |
| EndedAt: 2024-04-16 12:26:03 -0400 (Tue, 16 Apr 2024) |
| EllapsedTime: 97.8 seconds |
| RetCode: 0 |
| Status: OK |
| PackageFile: PDATK_1.10.0.tgz |
| PackageFileSize: 3.854 MiB |
############################################################################## ############################################################################## ### ### Running command: ### ### rm -rf PDATK.buildbin-libdir && mkdir PDATK.buildbin-libdir && /Users/biocbuild/BBS/utils/build-universal.sh PDATK_1.10.0.tar.gz /Library/Frameworks/R.framework/Resources/bin/R PDATK.buildbin-libdir ### ############################################################################## ############################################################################## >>>>>>> >>>>>>> INSTALLATION WITH 'R CMD INSTALL --preclean --no-multiarch --library=PDATK.buildbin-libdir PDATK_1.10.0.tar.gz' >>>>>>> * installing *source* package ‘PDATK’ ... ** using staged installation ** R ** data ** inst ** byte-compile and prepare package for lazy loading Warning: replacing previous import ‘survival::brier’ by ‘verification::brier’ when loading ‘PDATK’ Warning: replacing previous import ‘limma::logsumexp’ by ‘mclust::logsumexp’ when loading ‘genefu’ ** help *** installing help indices ** building package indices ** installing vignettes ** testing if installed package can be loaded from temporary location Warning: replacing previous import ‘survival::brier’ by ‘verification::brier’ when loading ‘PDATK’ Warning: replacing previous import ‘limma::logsumexp’ by ‘mclust::logsumexp’ when loading ‘genefu’ ** testing if installed package can be loaded from final location Warning: replacing previous import ‘survival::brier’ by ‘verification::brier’ when loading ‘PDATK’ Warning: replacing previous import ‘limma::logsumexp’ by ‘mclust::logsumexp’ when loading ‘genefu’ ** testing if installed package keeps a record of temporary installation path * DONE (PDATK)