| Back to Multiple platform build/check report for BioC 3.18: simplified long |
|
This page was generated on 2024-04-17 11:36:12 -0400 (Wed, 17 Apr 2024).
| Hostname | OS | Arch (*) | R version | Installed pkgs |
|---|---|---|---|---|
| nebbiolo2 | Linux (Ubuntu 22.04.3 LTS) | x86_64 | 4.3.3 (2024-02-29) -- "Angel Food Cake" | 4676 |
| palomino4 | Windows Server 2022 Datacenter | x64 | 4.3.3 (2024-02-29 ucrt) -- "Angel Food Cake" | 4414 |
| merida1 | macOS 12.7.1 Monterey | x86_64 | 4.3.3 (2024-02-29) -- "Angel Food Cake" | 4437 |
| Click on any hostname to see more info about the system (e.g. compilers) (*) as reported by 'uname -p', except on Windows and Mac OS X | ||||
| Package 1496/2266 | Hostname | OS / Arch | INSTALL | BUILD | CHECK | BUILD BIN | ||||||||
| PANR 1.48.0 (landing page) Xin Wang
| nebbiolo2 | Linux (Ubuntu 22.04.3 LTS) / x86_64 | OK | OK | OK | |||||||||
| palomino4 | Windows Server 2022 Datacenter / x64 | OK | OK | OK | OK | |||||||||
| merida1 | macOS 12.7.1 Monterey / x86_64 | OK | OK | OK | OK | |||||||||
| kjohnson1 | macOS 13.6.1 Ventura / arm64 | see weekly results here | ||||||||||||
|
To the developers/maintainers of the PANR package: - Allow up to 24 hours (and sometimes 48 hours) for your latest push to git@git.bioconductor.org:packages/PANR.git to reflect on this report. See Troubleshooting Build Report for more information. - Use the following Renviron settings to reproduce errors and warnings. - If 'R CMD check' started to fail recently on the Linux builder(s) over a missing dependency, add the missing dependency to 'Suggests:' in your DESCRIPTION file. See Renviron.bioc for more information. |
| Package: PANR |
| Version: 1.48.0 |
| Command: /home/biocbuild/bbs-3.18-bioc/R/bin/R CMD check --install=check:PANR.install-out.txt --library=/home/biocbuild/bbs-3.18-bioc/R/site-library --timings PANR_1.48.0.tar.gz |
| StartedAt: 2024-04-16 02:05:30 -0400 (Tue, 16 Apr 2024) |
| EndedAt: 2024-04-16 02:06:39 -0400 (Tue, 16 Apr 2024) |
| EllapsedTime: 69.0 seconds |
| RetCode: 0 |
| Status: OK |
| CheckDir: PANR.Rcheck |
| Warnings: 0 |
##############################################################################
##############################################################################
###
### Running command:
###
### /home/biocbuild/bbs-3.18-bioc/R/bin/R CMD check --install=check:PANR.install-out.txt --library=/home/biocbuild/bbs-3.18-bioc/R/site-library --timings PANR_1.48.0.tar.gz
###
##############################################################################
##############################################################################
* using log directory ‘/home/biocbuild/bbs-3.18-bioc/meat/PANR.Rcheck’
* using R version 4.3.3 (2024-02-29)
* using platform: x86_64-pc-linux-gnu (64-bit)
* R was compiled by
gcc (Ubuntu 11.4.0-1ubuntu1~22.04) 11.4.0
GNU Fortran (Ubuntu 11.4.0-1ubuntu1~22.04) 11.4.0
* running under: Ubuntu 22.04.4 LTS
* using session charset: UTF-8
* checking for file ‘PANR/DESCRIPTION’ ... OK
* checking extension type ... Package
* this is package ‘PANR’ version ‘1.48.0’
* checking package namespace information ... OK
* checking package dependencies ... OK
* checking if this is a source package ... OK
* checking if there is a namespace ... OK
* checking for hidden files and directories ... OK
* checking for portable file names ... OK
* checking for sufficient/correct file permissions ... OK
* checking whether package ‘PANR’ can be installed ... OK
* checking installed package size ... OK
* checking package directory ... OK
* checking ‘build’ directory ... OK
* checking DESCRIPTION meta-information ... OK
* checking top-level files ... OK
* checking for left-over files ... OK
* checking index information ... OK
* checking package subdirectories ... OK
* checking R files for non-ASCII characters ... OK
* checking R files for syntax errors ... OK
* checking whether the package can be loaded ... OK
* checking whether the package can be loaded with stated dependencies ... OK
* checking whether the package can be unloaded cleanly ... OK
* checking whether the namespace can be loaded with stated dependencies ... OK
* checking whether the namespace can be unloaded cleanly ... OK
* checking loading without being on the library search path ... OK
* checking dependencies in R code ... OK
* checking S3 generic/method consistency ... OK
* checking replacement functions ... OK
* checking foreign function calls ... OK
* checking R code for possible problems ... NOTE
SNR2p,BetaMixture-numeric_Or_integer: no visible global function
definition for ‘runif’
SNR2p,BetaMixture-numeric_Or_integer: no visible global function
definition for ‘pbeta’
p2SNR,BetaMixture-numeric_Or_integer: no visible global function
definition for ‘qbeta’
Undefined global functions or variables:
pbeta qbeta runif
Consider adding
importFrom("stats", "pbeta", "qbeta", "runif")
to your NAMESPACE file.
* checking Rd files ... OK
* checking Rd metadata ... OK
* checking Rd cross-references ... OK
* checking for missing documentation entries ... OK
* checking for code/documentation mismatches ... OK
* checking Rd \usage sections ... OK
* checking Rd contents ... OK
* checking for unstated dependencies in examples ... OK
* checking contents of ‘data’ directory ... OK
* checking data for non-ASCII characters ... OK
* checking data for ASCII and uncompressed saves ... OK
* checking files in ‘vignettes’ ... OK
* checking examples ... OK
Examples with CPU (user + system) or elapsed time > 5s
user system elapsed
fitNULL 15.614 0.111 15.727
* checking for unstated dependencies in vignettes ... OK
* checking package vignettes in ‘inst/doc’ ... OK
* checking running R code from vignettes ...
‘PANR-Vignette.Rnw’... OK
OK
* checking re-building of vignette outputs ... OK
* checking PDF version of manual ... OK
* DONE
Status: 1 NOTE
See
‘/home/biocbuild/bbs-3.18-bioc/meat/PANR.Rcheck/00check.log’
for details.
PANR.Rcheck/00install.out
############################################################################## ############################################################################## ### ### Running command: ### ### /home/biocbuild/bbs-3.18-bioc/R/bin/R CMD INSTALL PANR ### ############################################################################## ############################################################################## * installing to library ‘/home/biocbuild/bbs-3.18-bioc/R/site-library’ * installing *source* package ‘PANR’ ... ** using staged installation ** R ** data ** inst ** byte-compile and prepare package for lazy loading ** help *** installing help indices ** building package indices ** installing vignettes ** testing if installed package can be loaded from temporary location ** testing if installed package can be loaded from final location ** testing if installed package keeps a record of temporary installation path * DONE (PANR)
PANR.Rcheck/PANR-Ex.timings
| name | user | system | elapsed | |
| BetaMixture-class | 0 | 0 | 0 | |
| PAN-class | 0 | 0 | 0 | |
| SNR2p | 0.001 | 0.000 | 0.000 | |
| assoScore | 0.006 | 0.000 | 0.006 | |
| buildPAN | 0.386 | 0.115 | 0.502 | |
| cosineSim | 0.003 | 0.001 | 0.003 | |
| data-Bakal2007 | 0.017 | 0.000 | 0.017 | |
| exportPAN | 0 | 0 | 0 | |
| fitBM | 0 | 0 | 0 | |
| fitNULL | 15.614 | 0.111 | 15.727 | |
| infer | 0.240 | 0.004 | 0.243 | |
| p2SNR | 0 | 0 | 0 | |
| permNULL | 0.014 | 0.000 | 0.015 | |
| pvclustModule | 0 | 0 | 0 | |
| sigModules | 0 | 0 | 0 | |
| summarize | 0.025 | 0.003 | 0.030 | |
| view | 0.179 | 0.013 | 0.191 | |
| viewLegend | 0 | 0 | 0 | |
| viewNestedModules | 0 | 0 | 0 | |
| viewPAN | 0 | 0 | 0 | |