| Back to Multiple platform build/check report for BioC 3.18: simplified long |
|
This page was generated on 2024-04-17 11:36:12 -0400 (Wed, 17 Apr 2024).
| Hostname | OS | Arch (*) | R version | Installed pkgs |
|---|---|---|---|---|
| nebbiolo2 | Linux (Ubuntu 22.04.3 LTS) | x86_64 | 4.3.3 (2024-02-29) -- "Angel Food Cake" | 4676 |
| palomino4 | Windows Server 2022 Datacenter | x64 | 4.3.3 (2024-02-29 ucrt) -- "Angel Food Cake" | 4414 |
| merida1 | macOS 12.7.1 Monterey | x86_64 | 4.3.3 (2024-02-29) -- "Angel Food Cake" | 4437 |
| Click on any hostname to see more info about the system (e.g. compilers) (*) as reported by 'uname -p', except on Windows and Mac OS X | ||||
| Package 1464/2266 | Hostname | OS / Arch | INSTALL | BUILD | CHECK | BUILD BIN | ||||||||
| OpenStats 1.14.0 (landing page) Hamed Haseli Mashhadi
| nebbiolo2 | Linux (Ubuntu 22.04.3 LTS) / x86_64 | OK | OK | OK | |||||||||
| palomino4 | Windows Server 2022 Datacenter / x64 | OK | OK | OK | OK | |||||||||
| merida1 | macOS 12.7.1 Monterey / x86_64 | OK | OK | OK | OK | |||||||||
| kjohnson1 | macOS 13.6.1 Ventura / arm64 | see weekly results here | ||||||||||||
|
To the developers/maintainers of the OpenStats package: - Allow up to 24 hours (and sometimes 48 hours) for your latest push to git@git.bioconductor.org:packages/OpenStats.git to reflect on this report. See Troubleshooting Build Report for more information. - Use the following Renviron settings to reproduce errors and warnings. - If 'R CMD check' started to fail recently on the Linux builder(s) over a missing dependency, add the missing dependency to 'Suggests:' in your DESCRIPTION file. See Renviron.bioc for more information. |
| Package: OpenStats |
| Version: 1.14.0 |
| Command: /home/biocbuild/bbs-3.18-bioc/R/bin/R CMD check --install=check:OpenStats.install-out.txt --library=/home/biocbuild/bbs-3.18-bioc/R/site-library --timings OpenStats_1.14.0.tar.gz |
| StartedAt: 2024-04-16 01:49:10 -0400 (Tue, 16 Apr 2024) |
| EndedAt: 2024-04-16 01:52:06 -0400 (Tue, 16 Apr 2024) |
| EllapsedTime: 176.1 seconds |
| RetCode: 0 |
| Status: OK |
| CheckDir: OpenStats.Rcheck |
| Warnings: 0 |
##############################################################################
##############################################################################
###
### Running command:
###
### /home/biocbuild/bbs-3.18-bioc/R/bin/R CMD check --install=check:OpenStats.install-out.txt --library=/home/biocbuild/bbs-3.18-bioc/R/site-library --timings OpenStats_1.14.0.tar.gz
###
##############################################################################
##############################################################################
* using log directory ‘/home/biocbuild/bbs-3.18-bioc/meat/OpenStats.Rcheck’
* using R version 4.3.3 (2024-02-29)
* using platform: x86_64-pc-linux-gnu (64-bit)
* R was compiled by
gcc (Ubuntu 11.4.0-1ubuntu1~22.04) 11.4.0
GNU Fortran (Ubuntu 11.4.0-1ubuntu1~22.04) 11.4.0
* running under: Ubuntu 22.04.4 LTS
* using session charset: UTF-8
* checking for file ‘OpenStats/DESCRIPTION’ ... OK
* checking extension type ... Package
* this is package ‘OpenStats’ version ‘1.14.0’
* package encoding: UTF-8
* checking package namespace information ... OK
* checking package dependencies ... OK
* checking if this is a source package ... OK
* checking if there is a namespace ... OK
* checking for hidden files and directories ... OK
* checking for portable file names ... OK
* checking for sufficient/correct file permissions ... OK
* checking whether package ‘OpenStats’ can be installed ... OK
* checking installed package size ... OK
* checking package directory ... OK
* checking ‘build’ directory ... OK
* checking DESCRIPTION meta-information ... OK
* checking top-level files ... OK
* checking for left-over files ... OK
* checking index information ... OK
* checking package subdirectories ... OK
* checking R files for non-ASCII characters ... OK
* checking R files for syntax errors ... OK
* checking whether the package can be loaded ... OK
* checking whether the package can be loaded with stated dependencies ... OK
* checking whether the package can be unloaded cleanly ... OK
* checking whether the namespace can be loaded with stated dependencies ... OK
* checking whether the namespace can be unloaded cleanly ... OK
* checking loading without being on the library search path ... OK
* checking startup messages can be suppressed ... OK
* checking dependencies in R code ... OK
* checking S3 generic/method consistency ... OK
* checking replacement functions ... OK
* checking foreign function calls ... OK
* checking R code for possible problems ... OK
* checking Rd files ... NOTE
checkRd: (-1) OpenStatsAnalysis.Rd:108: Escaped LaTeX specials: \& \& \& \& \&
* checking Rd metadata ... OK
* checking Rd cross-references ... OK
* checking for missing documentation entries ... OK
* checking for code/documentation mismatches ... OK
* checking Rd \usage sections ... OK
* checking Rd contents ... OK
* checking for unstated dependencies in examples ... OK
* checking files in ‘vignettes’ ... OK
* checking examples ... OK
* checking for unstated dependencies in vignettes ... OK
* checking package vignettes in ‘inst/doc’ ... OK
* checking running R code from vignettes ...
‘OpenStats.Rmd’ using ‘UTF-8’... OK
OK
* checking re-building of vignette outputs ... OK
* checking PDF version of manual ... OK
* DONE
Status: 1 NOTE
See
‘/home/biocbuild/bbs-3.18-bioc/meat/OpenStats.Rcheck/00check.log’
for details.
OpenStats.Rcheck/00install.out
############################################################################## ############################################################################## ### ### Running command: ### ### /home/biocbuild/bbs-3.18-bioc/R/bin/R CMD INSTALL OpenStats ### ############################################################################## ############################################################################## * installing to library ‘/home/biocbuild/bbs-3.18-bioc/R/site-library’ * installing *source* package ‘OpenStats’ ... ** using staged installation ** R ** inst ** byte-compile and prepare package for lazy loading ** help *** installing help indices ** building package indices ** installing vignettes ** testing if installed package can be loaded from temporary location ** testing if installed package can be loaded from final location ** testing if installed package keeps a record of temporary installation path * DONE (OpenStats)
OpenStats.Rcheck/OpenStats-Ex.timings
| name | user | system | elapsed | |
| OpenStatsAnalysis | 3.670 | 0.112 | 4.717 | |
| OpenStatsBuilder | 0 | 0 | 0 | |
| OpenStatsComplementarySplit | 2.633 | 0.040 | 2.673 | |
| OpenStatsList | 1.880 | 0.252 | 2.176 | |
| OpenStatsReport | 4.264 | 0.487 | 4.766 | |
| plot.OpenStats | 0.834 | 0.068 | 0.919 | |
| plot.OpenStatsComplementarySplit | 1.681 | 0.044 | 1.724 | |
| plot.OpenStatsFE | 0.068 | 0.004 | 0.072 | |
| plot.OpenStatsMM | 0.486 | 0.020 | 0.506 | |
| plot.OpenStatsRR | 0.258 | 0.048 | 0.306 | |
| print.OpenStats | 0.404 | 0.020 | 0.444 | |
| print.OpenStatsComplementarySplit | 1.311 | 0.040 | 1.351 | |
| print.OpenStatsFE | 0.065 | 0.000 | 0.065 | |
| print.OpenStatsMM | 0.459 | 0.004 | 0.463 | |
| print.OpenStatsRR | 0.245 | 0.008 | 0.253 | |
| summary.OpenStats | 0.404 | 0.044 | 0.460 | |
| summary.OpenStatsComplementarySplit | 1.388 | 0.040 | 1.428 | |
| summary.OpenStatsFE | 0.064 | 0.000 | 0.064 | |
| summary.OpenStatsMM | 0.474 | 0.028 | 0.502 | |
| summary.OpenStatsRR | 0.244 | 0.016 | 0.260 | |