Back to Multiple platform build/check report for BioC 3.18: simplified long |
|
This page was generated on 2023-11-02 11:41:01 -0400 (Thu, 02 Nov 2023).
Hostname | OS | Arch (*) | R version | Installed pkgs |
---|---|---|---|---|
nebbiolo2 | Linux (Ubuntu 22.04.2 LTS) | x86_64 | 4.3.1 (2023-06-16) -- "Beagle Scouts" | 4729 |
palomino4 | Windows Server 2022 Datacenter | x64 | 4.3.1 (2023-06-16 ucrt) -- "Beagle Scouts" | 4463 |
lconway | macOS 12.6.5 Monterey | x86_64 | 4.3.1 Patched (2023-06-17 r84564) -- "Beagle Scouts" | 4478 |
kunpeng2 | Linux (openEuler 22.03 LTS-SP1) | aarch64 | 4.3.1 (2023-06-16) -- "Beagle Scouts" | 4464 |
Click on any hostname to see more info about the system (e.g. compilers) (*) as reported by 'uname -p', except on Windows and Mac OS X |
Package 1431/2266 | Hostname | OS / Arch | INSTALL | BUILD | CHECK | BUILD BIN | ||||||||
NuPoP 2.10.0 (landing page) Ji-Ping Wang
| nebbiolo2 | Linux (Ubuntu 22.04.2 LTS) / x86_64 | OK | OK | OK | ![]() | ||||||||
palomino4 | Windows Server 2022 Datacenter / x64 | OK | OK | OK | OK | ![]() | ||||||||
lconway | macOS 12.6.5 Monterey / x86_64 | OK | OK | OK | OK | ![]() | ||||||||
kjohnson1 | macOS 13.6.1 Ventura / arm64 | see weekly results here | ||||||||||||
kunpeng2 | Linux (openEuler 22.03 LTS-SP1) / aarch64 | OK | OK | OK | ||||||||||
To the developers/maintainers of the NuPoP package: - Allow up to 24 hours (and sometimes 48 hours) for your latest push to git@git.bioconductor.org:packages/NuPoP.git to reflect on this report. See Troubleshooting Build Report for more information. - Use the following Renviron settings to reproduce errors and warnings. - If 'R CMD check' started to fail recently on the Linux builder(s) over a missing dependency, add the missing dependency to 'Suggests:' in your DESCRIPTION file. See Renviron.bioc for more information. - See Martin Grigorov's blog post for how to debug Linux ARM64 related issues on a x86_64 host. |
Package: NuPoP |
Version: 2.10.0 |
Command: /home/biocbuild/R/R-4.3.1/bin/R CMD INSTALL NuPoP |
StartedAt: 2023-11-01 20:42:29 -0000 (Wed, 01 Nov 2023) |
EndedAt: 2023-11-01 20:42:44 -0000 (Wed, 01 Nov 2023) |
EllapsedTime: 14.3 seconds |
RetCode: 0 |
Status: OK |
############################################################################## ############################################################################## ### ### Running command: ### ### /home/biocbuild/R/R-4.3.1/bin/R CMD INSTALL NuPoP ### ############################################################################## ############################################################################## * installing to library ‘/home/biocbuild/R/R-4.3.1/site-library’ * installing *source* package ‘NuPoP’ ... ** using staged installation ** libs using Fortran compiler: ‘GNU Fortran (GCC) 10.3.1’ gfortran -fPIC -g -O2 -Wall -c cvtbfb.f90 -o cvtbfb.o gfortran -fPIC -g -O2 -Wall -c cvtbfbNL4.f90 -o cvtbfbNL4.o cvtbfbNL4.f90:13:51: 13 | real*8 freqN4(4,4,4,4),tranN4(5:147,4,4,4,4,4),freqL4(4,4,4,4) | 1 Warning: Array ‘trann4’ at (1) is larger than limit set by ‘-fmax-stack-var-size=’, moved from stack to static storage. This makes the procedure unsafe when called recursively, or concurrently from multiple threads. Consider using ‘-frecursive’, or increase the ‘-fmax-stack-var-size=’ limit, or change the code to use an ALLOCATABLE array. [-Wsurprising] gfortran -fPIC -g -O2 -Wall -c vtbfb.f90 -o vtbfb.o gfortran -fPIC -g -O2 -Wall -c vtbfbNL4.f90 -o vtbfbNL4.o vtbfbNL4.f90:13:51: 13 | real*8 freqN4(4,4,4,4),tranN4(5:147,4,4,4,4,4),freqL4(4,4,4,4) | 1 Warning: Array ‘trann4’ at (1) is larger than limit set by ‘-fmax-stack-var-size=’, moved from stack to static storage. This makes the procedure unsafe when called recursively, or concurrently from multiple threads. Consider using ‘-frecursive’, or increase the ‘-fmax-stack-var-size=’ limit, or change the code to use an ALLOCATABLE array. [-Wsurprising] gcc -shared -L/home/biocbuild/R/R-4.3.1/lib -L/usr/local/lib -o NuPoP.so cvtbfb.o cvtbfbNL4.o vtbfb.o vtbfbNL4.o -lgfortran -lm -L/home/biocbuild/R/R-4.3.1/lib -lR installing to /home/biocbuild/R/R-4.3.1/site-library/00LOCK-NuPoP/00new/NuPoP/libs ** R ** inst ** byte-compile and prepare package for lazy loading ** help *** installing help indices ** building package indices ** installing vignettes ** testing if installed package can be loaded from temporary location ** checking absolute paths in shared objects and dynamic libraries ** testing if installed package can be loaded from final location ** testing if installed package keeps a record of temporary installation path * DONE (NuPoP)