Back to Multiple platform build/check report for BioC 3.18: simplified long |
|
This page was generated on 2023-11-02 11:40:59 -0400 (Thu, 02 Nov 2023).
Hostname | OS | Arch (*) | R version | Installed pkgs |
---|---|---|---|---|
nebbiolo2 | Linux (Ubuntu 22.04.2 LTS) | x86_64 | 4.3.1 (2023-06-16) -- "Beagle Scouts" | 4729 |
palomino4 | Windows Server 2022 Datacenter | x64 | 4.3.1 (2023-06-16 ucrt) -- "Beagle Scouts" | 4463 |
lconway | macOS 12.6.5 Monterey | x86_64 | 4.3.1 Patched (2023-06-17 r84564) -- "Beagle Scouts" | 4478 |
kunpeng2 | Linux (openEuler 22.03 LTS-SP1) | aarch64 | 4.3.1 (2023-06-16) -- "Beagle Scouts" | 4464 |
Click on any hostname to see more info about the system (e.g. compilers) (*) as reported by 'uname -p', except on Windows and Mac OS X |
Package 1366/2266 | Hostname | OS / Arch | INSTALL | BUILD | CHECK | BUILD BIN | ||||||||
MultiRNAflow 1.0.0 (landing page) Rodolphe Loubaton
| nebbiolo2 | Linux (Ubuntu 22.04.2 LTS) / x86_64 | OK | OK | OK | |||||||||
palomino4 | Windows Server 2022 Datacenter / x64 | OK | OK | OK | OK | |||||||||
lconway | macOS 12.6.5 Monterey / x86_64 | OK | OK | OK | OK | |||||||||
kjohnson1 | macOS 13.6.1 Ventura / arm64 | see weekly results here | ||||||||||||
kunpeng2 | Linux (openEuler 22.03 LTS-SP1) / aarch64 | OK | OK | OK | ||||||||||
To the developers/maintainers of the MultiRNAflow package: - Allow up to 24 hours (and sometimes 48 hours) for your latest push to git@git.bioconductor.org:packages/MultiRNAflow.git to reflect on this report. See Troubleshooting Build Report for more information. - Use the following Renviron settings to reproduce errors and warnings. - If 'R CMD check' started to fail recently on the Linux builder(s) over a missing dependency, add the missing dependency to 'Suggests:' in your DESCRIPTION file. See Renviron.bioc for more information. - See Martin Grigorov's blog post for how to debug Linux ARM64 related issues on a x86_64 host. |
Package: MultiRNAflow |
Version: 1.0.0 |
Command: /home/biocbuild/R/R-4.3.1/bin/R CMD check --install=check:MultiRNAflow.install-out.txt --library=/home/biocbuild/R/R-4.3.1/site-library --no-vignettes --timings MultiRNAflow_1.0.0.tar.gz |
StartedAt: 2023-11-02 12:34:05 -0000 (Thu, 02 Nov 2023) |
EndedAt: 2023-11-02 12:42:57 -0000 (Thu, 02 Nov 2023) |
EllapsedTime: 531.6 seconds |
RetCode: 0 |
Status: OK |
CheckDir: MultiRNAflow.Rcheck |
Warnings: 0 |
############################################################################## ############################################################################## ### ### Running command: ### ### /home/biocbuild/R/R-4.3.1/bin/R CMD check --install=check:MultiRNAflow.install-out.txt --library=/home/biocbuild/R/R-4.3.1/site-library --no-vignettes --timings MultiRNAflow_1.0.0.tar.gz ### ############################################################################## ############################################################################## * using log directory ‘/home/biocbuild/bbs-3.18-bioc/meat/MultiRNAflow.Rcheck’ * using R version 4.3.1 (2023-06-16) * using platform: aarch64-unknown-linux-gnu (64-bit) * R was compiled by gcc (GCC) 10.3.1 GNU Fortran (GCC) 10.3.1 * running under: openEuler 22.03 (LTS-SP1) * using session charset: UTF-8 * using option ‘--no-vignettes’ * checking for file ‘MultiRNAflow/DESCRIPTION’ ... OK * this is package ‘MultiRNAflow’ version ‘1.0.0’ * package encoding: UTF-8 * checking package namespace information ... OK * checking package dependencies ... OK * checking if this is a source package ... OK * checking if there is a namespace ... OK * checking for hidden files and directories ... OK * checking for portable file names ... OK * checking for sufficient/correct file permissions ... OK * checking whether package ‘MultiRNAflow’ can be installed ... OK * checking installed package size ... OK * checking package directory ... OK * checking ‘build’ directory ... OK * checking DESCRIPTION meta-information ... OK * checking top-level files ... OK * checking for left-over files ... OK * checking index information ... OK * checking package subdirectories ... OK * checking R files for non-ASCII characters ... OK * checking R files for syntax errors ... OK * checking whether the package can be loaded ... OK * checking whether the package can be loaded with stated dependencies ... OK * checking whether the package can be unloaded cleanly ... OK * checking whether the namespace can be loaded with stated dependencies ... OK * checking whether the namespace can be unloaded cleanly ... OK * checking loading without being on the library search path ... OK * checking dependencies in R code ... OK * checking S3 generic/method consistency ... OK * checking replacement functions ... OK * checking foreign function calls ... OK * checking R code for possible problems ... OK * checking Rd files ... OK * checking Rd metadata ... OK * checking Rd cross-references ... OK * checking for missing documentation entries ... OK * checking for code/documentation mismatches ... OK * checking Rd \usage sections ... OK * checking Rd contents ... OK * checking for unstated dependencies in examples ... OK * checking contents of ‘data’ directory ... OK * checking data for non-ASCII characters ... OK * checking data for ASCII and uncompressed saves ... OK * checking files in ‘vignettes’ ... OK * checking examples ... OK Examples with CPU (user + system) or elapsed time > 5s user system elapsed DEanalysisTimeAndGroup 13.299 0.372 13.697 DEplotHeatmaps 11.367 0.451 11.842 DEanalysisTime 6.227 0.247 6.489 GSEApreprocessing 4.929 0.247 5.187 * checking for unstated dependencies in ‘tests’ ... OK * checking tests ... Running ‘testthat.R’ OK * checking for unstated dependencies in vignettes ... OK * checking package vignettes in ‘inst/doc’ ... OK * checking running R code from vignettes ... SKIPPED * checking re-building of vignette outputs ... SKIPPED * checking PDF version of manual ... OK * DONE Status: OK
MultiRNAflow.Rcheck/00install.out
############################################################################## ############################################################################## ### ### Running command: ### ### /home/biocbuild/R/R-4.3.1/bin/R CMD INSTALL MultiRNAflow ### ############################################################################## ############################################################################## * installing to library ‘/home/biocbuild/R/R-4.3.1/site-library’ * installing *source* package ‘MultiRNAflow’ ... ** using staged installation ** R ** data ** inst ** byte-compile and prepare package for lazy loading ** help *** installing help indices ** building package indices ** installing vignettes ** testing if installed package can be loaded from temporary location ** testing if installed package can be loaded from final location ** testing if installed package keeps a record of temporary installation path * DONE (MultiRNAflow)
MultiRNAflow.Rcheck/tests/testthat.Rout
R version 4.3.1 (2023-06-16) -- "Beagle Scouts" Copyright (C) 2023 The R Foundation for Statistical Computing Platform: aarch64-unknown-linux-gnu (64-bit) R is free software and comes with ABSOLUTELY NO WARRANTY. You are welcome to redistribute it under certain conditions. Type 'license()' or 'licence()' for distribution details. R is a collaborative project with many contributors. Type 'contributors()' for more information and 'citation()' on how to cite R or R packages in publications. Type 'demo()' for some demos, 'help()' for on-line help, or 'help.start()' for an HTML browser interface to help. Type 'q()' to quit R. > # This file is part of the standard setup for testthat. > # It is recommended that you do not modify it. > # > # Where should you do additional test configuration? > # Learn more about the roles of various files in: > # * https://r-pkgs.org/tests.html > # * https://testthat.r-lib.org/reference/test_package.html#special-files > > library(testthat) > library(MultiRNAflow) Loading required package: Mfuzz Loading required package: Biobase Loading required package: BiocGenerics Attaching package: 'BiocGenerics' The following objects are masked from 'package:stats': IQR, mad, sd, var, xtabs The following objects are masked from 'package:base': Filter, Find, Map, Position, Reduce, anyDuplicated, aperm, append, as.data.frame, basename, cbind, colnames, dirname, do.call, duplicated, eval, evalq, get, grep, grepl, intersect, is.unsorted, lapply, mapply, match, mget, order, paste, pmax, pmax.int, pmin, pmin.int, rank, rbind, rownames, sapply, setdiff, sort, table, tapply, union, unique, unsplit, which.max, which.min Welcome to Bioconductor Vignettes contain introductory material; view with 'browseVignettes()'. To cite Bioconductor, see 'citation("Biobase")', and for packages 'citation("pkgname")'. Loading required package: e1071 Attaching package: 'DynDoc' The following object is masked from 'package:BiocGenerics': path > > test_check("MultiRNAflow") converting counts to integer mode converting counts to integer mode converting counts to integer mode converting counts to integer mode [1] "Preprocessing" [1] "Differential expression step with DESeq2::DESeq()" estimating size factors estimating dispersions gene-wise dispersion estimates mean-dispersion relationship final dispersion estimates fitting model and testing [1] "Case 2 analysis : Biological conditions only" estimating size factors estimating dispersions gene-wise dispersion estimates mean-dispersion relationship final dispersion estimates fitting model and testing [1] "DE time analysis for each biological condition." [1] "DE group analysis for each time measurement." [1] "Combined time and group results." [1] "DE time analysis for each biological condition." [1] "DE group analysis for each time measurement." [1] "Combined time and group results." estimating size factors estimating dispersions gene-wise dispersion estimates mean-dispersion relationship final dispersion estimates fitting model and testing converting counts to integer mode 0 genes excluded. 1 genes excluded. 0 genes excluded. 1 genes excluded. 0 genes excluded. 3 genes excluded. 0 genes excluded. 4 genes excluded. 0 genes excluded. 3 genes excluded. 0 genes excluded. 4 genes excluded. 0 genes excluded. 3 genes excluded. 0 genes excluded. 4 genes excluded. 0 genes excluded. 3 genes excluded. 0 genes excluded. 4 genes excluded. converting counts to integer mode converting counts to integer mode converting counts to integer mode [ FAIL 0 | WARN 0 | SKIP 0 | PASS 197 ] > > proc.time() user system elapsed 139.299 8.330 149.646
MultiRNAflow.Rcheck/MultiRNAflow-Ex.timings
name | user | system | elapsed | |
CharacterNumbers | 0.001 | 0.000 | 0.001 | |
ColnamesToFactors | 0.018 | 0.000 | 0.018 | |
DATAnormalization | 1.823 | 0.123 | 1.950 | |
DATAplotBoxplotSamples | 1.669 | 0.064 | 1.737 | |
DATAplotExpression1Gene | 0.943 | 0.124 | 1.069 | |
DATAplotExpressionGenes | 1.793 | 0.060 | 1.856 | |
DATAprepSE | 0.331 | 0.004 | 0.336 | |
DEanalysisGlobal | 3.876 | 0.191 | 4.076 | |
DEanalysisGroup | 3.385 | 0.196 | 3.589 | |
DEanalysisSubData | 0.825 | 0.040 | 0.866 | |
DEanalysisTime | 6.227 | 0.247 | 6.489 | |
DEanalysisTimeAndGroup | 13.299 | 0.372 | 13.697 | |
DEplotAlluvial | 1.048 | 0.008 | 1.057 | |
DEplotBarplot | 0.554 | 0.000 | 0.555 | |
DEplotBarplotFacetGrid | 1.269 | 0.008 | 1.279 | |
DEplotBarplotTime | 0.422 | 0.004 | 0.427 | |
DEplotHeatmaps | 11.367 | 0.451 | 11.842 | |
DEplotVennBarplotGroup | 1.425 | 0.032 | 1.461 | |
DEplotVennBarplotTime | 1.503 | 0.028 | 1.535 | |
DEplotVolcanoMA | 4.200 | 0.148 | 4.358 | |
DEresultGroup | 2.960 | 0.167 | 3.134 | |
DEresultGroupPerTime | 4.648 | 0.216 | 4.874 | |
GSEAQuickAnalysis | 0.302 | 0.016 | 0.320 | |
GSEApreprocessing | 4.929 | 0.247 | 5.187 | |
HCPCanalysis | 3.319 | 0.072 | 3.429 | |
MFUZZanalysis | 1.141 | 0.036 | 1.180 | |
MFUZZclustersNumber | 0.939 | 0.020 | 0.961 | |
PCAanalysis | 2.757 | 0.096 | 2.858 | |
PCAgraphics | 1.595 | 0.052 | 1.650 | |
PCApreprocessing | 0.806 | 0.028 | 0.835 | |
PCArealization | 0.844 | 0.044 | 0.889 | |
RawCountsSimulation | 0.047 | 0.016 | 0.062 | |
RawCounts_Antoszewski2022_MOUSEsub500 | 0.003 | 0.000 | 0.004 | |
RawCounts_Leong2014_FISSIONsub500wt | 0.005 | 0.000 | 0.005 | |
RawCounts_Schleiss2021_CLLsub500 | 0.005 | 0.003 | 0.009 | |
RawCounts_Weger2021_MOUSEsub500 | 0.017 | 0.000 | 0.018 | |
Results_DEanalysis_sub500 | 0.109 | 0.004 | 0.114 | |