| Back to Multiple platform build/check report for BioC 3.18: simplified long |
|
This page was generated on 2023-11-02 11:40:56 -0400 (Thu, 02 Nov 2023).
| Hostname | OS | Arch (*) | R version | Installed pkgs |
|---|---|---|---|---|
| nebbiolo2 | Linux (Ubuntu 22.04.2 LTS) | x86_64 | 4.3.1 (2023-06-16) -- "Beagle Scouts" | 4729 |
| palomino4 | Windows Server 2022 Datacenter | x64 | 4.3.1 (2023-06-16 ucrt) -- "Beagle Scouts" | 4463 |
| lconway | macOS 12.6.5 Monterey | x86_64 | 4.3.1 Patched (2023-06-17 r84564) -- "Beagle Scouts" | 4478 |
| kunpeng2 | Linux (openEuler 22.03 LTS-SP1) | aarch64 | 4.3.1 (2023-06-16) -- "Beagle Scouts" | 4464 |
| Click on any hostname to see more info about the system (e.g. compilers) (*) as reported by 'uname -p', except on Windows and Mac OS X | ||||
| Package 1251/2266 | Hostname | OS / Arch | INSTALL | BUILD | CHECK | BUILD BIN | ||||||||
| MicrobiomeProfiler 1.8.0 (landing page) Meijun Chen
| nebbiolo2 | Linux (Ubuntu 22.04.2 LTS) / x86_64 | OK | OK | OK | |||||||||
| palomino4 | Windows Server 2022 Datacenter / x64 | OK | OK | OK | OK | |||||||||
| lconway | macOS 12.6.5 Monterey / x86_64 | OK | OK | OK | OK | |||||||||
| kjohnson1 | macOS 13.6.1 Ventura / arm64 | see weekly results here | ||||||||||||
| kunpeng2 | Linux (openEuler 22.03 LTS-SP1) / aarch64 | OK | OK | OK | ||||||||||
|
To the developers/maintainers of the MicrobiomeProfiler package: - Allow up to 24 hours (and sometimes 48 hours) for your latest push to git@git.bioconductor.org:packages/MicrobiomeProfiler.git to reflect on this report. See Troubleshooting Build Report for more information. - Use the following Renviron settings to reproduce errors and warnings. - If 'R CMD check' started to fail recently on the Linux builder(s) over a missing dependency, add the missing dependency to 'Suggests:' in your DESCRIPTION file. See Renviron.bioc for more information. - See Martin Grigorov's blog post for how to debug Linux ARM64 related issues on a x86_64 host. |
| Package: MicrobiomeProfiler |
| Version: 1.8.0 |
| Command: /home/biocbuild/R/R-4.3.1/bin/R CMD check --install=check:MicrobiomeProfiler.install-out.txt --library=/home/biocbuild/R/R-4.3.1/site-library --no-vignettes --timings MicrobiomeProfiler_1.8.0.tar.gz |
| StartedAt: 2023-11-02 12:08:54 -0000 (Thu, 02 Nov 2023) |
| EndedAt: 2023-11-02 12:17:46 -0000 (Thu, 02 Nov 2023) |
| EllapsedTime: 532.0 seconds |
| RetCode: 0 |
| Status: OK |
| CheckDir: MicrobiomeProfiler.Rcheck |
| Warnings: 0 |
##############################################################################
##############################################################################
###
### Running command:
###
### /home/biocbuild/R/R-4.3.1/bin/R CMD check --install=check:MicrobiomeProfiler.install-out.txt --library=/home/biocbuild/R/R-4.3.1/site-library --no-vignettes --timings MicrobiomeProfiler_1.8.0.tar.gz
###
##############################################################################
##############################################################################
* using log directory ‘/home/biocbuild/bbs-3.18-bioc/meat/MicrobiomeProfiler.Rcheck’
* using R version 4.3.1 (2023-06-16)
* using platform: aarch64-unknown-linux-gnu (64-bit)
* R was compiled by
gcc (GCC) 10.3.1
GNU Fortran (GCC) 10.3.1
* running under: openEuler 22.03 (LTS-SP1)
* using session charset: UTF-8
* using option ‘--no-vignettes’
* checking for file ‘MicrobiomeProfiler/DESCRIPTION’ ... OK
* this is package ‘MicrobiomeProfiler’ version ‘1.8.0’
* package encoding: UTF-8
* checking package namespace information ... OK
* checking package dependencies ... OK
* checking if this is a source package ... OK
* checking if there is a namespace ... OK
* checking for hidden files and directories ... OK
* checking for portable file names ... OK
* checking for sufficient/correct file permissions ... OK
* checking whether package ‘MicrobiomeProfiler’ can be installed ... OK
* checking installed package size ... OK
* checking package directory ... OK
* checking ‘build’ directory ... OK
* checking DESCRIPTION meta-information ... OK
* checking top-level files ... OK
* checking for left-over files ... OK
* checking index information ... OK
* checking package subdirectories ... OK
* checking R files for non-ASCII characters ... OK
* checking R files for syntax errors ... OK
* checking whether the package can be loaded ... OK
* checking whether the package can be loaded with stated dependencies ... OK
* checking whether the package can be unloaded cleanly ... OK
* checking whether the namespace can be loaded with stated dependencies ... OK
* checking whether the namespace can be unloaded cleanly ... OK
* checking loading without being on the library search path ... OK
* checking dependencies in R code ... OK
* checking S3 generic/method consistency ... OK
* checking replacement functions ... OK
* checking foreign function calls ... OK
* checking R code for possible problems ... OK
* checking Rd files ... OK
* checking Rd metadata ... OK
* checking Rd cross-references ... OK
* checking for missing documentation entries ... OK
* checking for code/documentation mismatches ... OK
* checking Rd \usage sections ... OK
* checking Rd contents ... OK
* checking for unstated dependencies in examples ... OK
* checking contents of ‘data’ directory ... OK
* checking data for non-ASCII characters ... OK
* checking data for ASCII and uncompressed saves ... OK
* checking R/sysdata.rda ... OK
* checking files in ‘vignettes’ ... OK
* checking examples ... OK
* checking for unstated dependencies in ‘tests’ ... OK
* checking tests ...
Running ‘testthat.R’
OK
* checking for unstated dependencies in vignettes ... OK
* checking package vignettes in ‘inst/doc’ ... OK
* checking running R code from vignettes ... SKIPPED
* checking re-building of vignette outputs ... SKIPPED
* checking PDF version of manual ... OK
* DONE
Status: OK
MicrobiomeProfiler.Rcheck/00install.out
############################################################################## ############################################################################## ### ### Running command: ### ### /home/biocbuild/R/R-4.3.1/bin/R CMD INSTALL MicrobiomeProfiler ### ############################################################################## ############################################################################## * installing to library ‘/home/biocbuild/R/R-4.3.1/site-library’ * installing *source* package ‘MicrobiomeProfiler’ ... ** using staged installation ** R ** data ** inst ** byte-compile and prepare package for lazy loading ** help *** installing help indices ** building package indices ** installing vignettes ** testing if installed package can be loaded from temporary location ** testing if installed package can be loaded from final location ** testing if installed package keeps a record of temporary installation path * DONE (MicrobiomeProfiler)
MicrobiomeProfiler.Rcheck/tests/testthat.Rout
R version 4.3.1 (2023-06-16) -- "Beagle Scouts"
Copyright (C) 2023 The R Foundation for Statistical Computing
Platform: aarch64-unknown-linux-gnu (64-bit)
R is free software and comes with ABSOLUTELY NO WARRANTY.
You are welcome to redistribute it under certain conditions.
Type 'license()' or 'licence()' for distribution details.
R is a collaborative project with many contributors.
Type 'contributors()' for more information and
'citation()' on how to cite R or R packages in publications.
Type 'demo()' for some demos, 'help()' for on-line help, or
'help.start()' for an HTML browser interface to help.
Type 'q()' to quit R.
> library(testthat)
> library(MicrobiomeProfiler)
> test_check("MicrobiomeProfiler")
--> No gene can be mapped....
--> Expected input gene ID: 5.3.1.1,4.1.2.13,1.1.2.7,2.3.3.3,6.2.1.5,1.3.5.1
--> return NULL...
--> No gene can be mapped....
--> Expected input gene ID: COG0007,COG0066,COG0029,COG0022,COG0049,COG0005
--> return NULL...
--> No gene can be mapped....
--> Expected input gene ID: 41211,904,53246,218538,46506,821
--> return NULL...
--> No gene can be mapped....
--> Expected input gene ID: PW_C001104,PW_C001441,PW_C000040,PW_C001148,PW_C000134,PW_C000029
--> return NULL...
--> No gene can be mapped....
--> Expected input gene ID: C00036,C05378,C00216,C15972,C00221,C00231
--> return NULL...
--> No gene can be mapped....
--> Expected input gene ID: HMDB0000208,HMDB0001554,HMDB0001303,HMDB0001377,HMDB0000045,HMDB0011111
--> return NULL...
[ FAIL 0 | WARN 0 | SKIP 0 | PASS 12 ]
>
>
> proc.time()
user system elapsed
17.603 1.365 25.099
MicrobiomeProfiler.Rcheck/MicrobiomeProfiler-Ex.timings
| name | user | system | elapsed | |
| Psoriasis_data | 0.003 | 0.000 | 0.003 | |
| Rat_data | 0.001 | 0.000 | 0.002 | |
| enrichCOG | 0.262 | 0.011 | 0.276 | |
| enrichHMDB | 0.045 | 0.003 | 0.050 | |
| enrichKO | 1.143 | 0.019 | 1.171 | |
| enrichMBKEGG | 0.137 | 0.000 | 0.139 | |
| enrichMDA | 0.194 | 0.000 | 0.195 | |
| enrichModule | 0.054 | 0.003 | 0.057 | |
| enrichSMPDB | 0.152 | 0.000 | 0.153 | |
| microbiota_taxlist | 0.001 | 0.000 | 0.001 | |
| run_MicrobiomeProfiler | 0 | 0 | 0 | |