| Back to Multiple platform build/check report for BioC 3.18: simplified long |
|
This page was generated on 2024-04-17 11:37:54 -0400 (Wed, 17 Apr 2024).
| Hostname | OS | Arch (*) | R version | Installed pkgs |
|---|---|---|---|---|
| nebbiolo2 | Linux (Ubuntu 22.04.3 LTS) | x86_64 | 4.3.3 (2024-02-29) -- "Angel Food Cake" | 4676 |
| palomino4 | Windows Server 2022 Datacenter | x64 | 4.3.3 (2024-02-29 ucrt) -- "Angel Food Cake" | 4414 |
| merida1 | macOS 12.7.1 Monterey | x86_64 | 4.3.3 (2024-02-29) -- "Angel Food Cake" | 4437 |
| Click on any hostname to see more info about the system (e.g. compilers) (*) as reported by 'uname -p', except on Windows and Mac OS X | ||||
| Package 1159/2266 | Hostname | OS / Arch | INSTALL | BUILD | CHECK | BUILD BIN | ||||||||
| MatrixGenerics 1.14.0 (landing page) Peter Hickey
| nebbiolo2 | Linux (Ubuntu 22.04.3 LTS) / x86_64 | OK | OK | OK | |||||||||
| palomino4 | Windows Server 2022 Datacenter / x64 | OK | OK | OK | OK | |||||||||
| merida1 | macOS 12.7.1 Monterey / x86_64 | OK | OK | OK | OK | |||||||||
| kjohnson1 | macOS 13.6.1 Ventura / arm64 | see weekly results here | ||||||||||||
|
To the developers/maintainers of the MatrixGenerics package: - Allow up to 24 hours (and sometimes 48 hours) for your latest push to git@git.bioconductor.org:packages/MatrixGenerics.git to reflect on this report. See Troubleshooting Build Report for more information. - Use the following Renviron settings to reproduce errors and warnings. - If 'R CMD check' started to fail recently on the Linux builder(s) over a missing dependency, add the missing dependency to 'Suggests:' in your DESCRIPTION file. See Renviron.bioc for more information. |
| Package: MatrixGenerics |
| Version: 1.14.0 |
| Command: /Library/Frameworks/R.framework/Resources/bin/R CMD check --install=check:MatrixGenerics.install-out.txt --library=/Library/Frameworks/R.framework/Resources/library --no-vignettes --timings MatrixGenerics_1.14.0.tar.gz |
| StartedAt: 2024-04-16 04:52:02 -0400 (Tue, 16 Apr 2024) |
| EndedAt: 2024-04-16 04:53:13 -0400 (Tue, 16 Apr 2024) |
| EllapsedTime: 71.1 seconds |
| RetCode: 0 |
| Status: OK |
| CheckDir: MatrixGenerics.Rcheck |
| Warnings: 0 |
##############################################################################
##############################################################################
###
### Running command:
###
### /Library/Frameworks/R.framework/Resources/bin/R CMD check --install=check:MatrixGenerics.install-out.txt --library=/Library/Frameworks/R.framework/Resources/library --no-vignettes --timings MatrixGenerics_1.14.0.tar.gz
###
##############################################################################
##############################################################################
* using log directory ‘/Users/biocbuild/bbs-3.18-bioc/meat/MatrixGenerics.Rcheck’
* using R version 4.3.3 (2024-02-29)
* using platform: x86_64-apple-darwin20 (64-bit)
* R was compiled by
Apple clang version 14.0.0 (clang-1400.0.29.202)
GNU Fortran (GCC) 12.2.0
* running under: macOS Monterey 12.7.1
* using session charset: UTF-8
* using option ‘--no-vignettes’
* checking for file ‘MatrixGenerics/DESCRIPTION’ ... OK
* this is package ‘MatrixGenerics’ version ‘1.14.0’
* package encoding: UTF-8
* checking package namespace information ... OK
* checking package dependencies ... OK
* checking if this is a source package ... OK
* checking if there is a namespace ... OK
* checking for hidden files and directories ... OK
* checking for portable file names ... OK
* checking for sufficient/correct file permissions ... OK
* checking whether package ‘MatrixGenerics’ can be installed ... OK
* checking installed package size ... OK
* checking package directory ... OK
* checking DESCRIPTION meta-information ... OK
* checking top-level files ... OK
* checking for left-over files ... OK
* checking index information ... OK
* checking package subdirectories ... OK
* checking R files for non-ASCII characters ... OK
* checking R files for syntax errors ... OK
* checking whether the package can be loaded ... OK
* checking whether the package can be loaded with stated dependencies ... OK
* checking whether the package can be unloaded cleanly ... OK
* checking whether the namespace can be loaded with stated dependencies ... OK
* checking whether the namespace can be unloaded cleanly ... OK
* checking dependencies in R code ... NOTE
Unexported objects imported by ':::' calls:
‘methods:::fromNextMethod’ ‘methods:::getGenericFromCall’
See the note in ?`:::` about the use of this operator.
There are ::: calls to the package's namespace in its code. A package
almost never needs to use ::: for its own objects:
‘.load_next_suggested_package_to_search’
* checking S3 generic/method consistency ... OK
* checking replacement functions ... OK
* checking foreign function calls ... OK
* checking R code for possible problems ... OK
* checking Rd files ... OK
* checking Rd metadata ... OK
* checking Rd cross-references ... OK
* checking for missing documentation entries ... OK
* checking for code/documentation mismatches ... OK
* checking Rd \usage sections ... OK
* checking Rd contents ... OK
* checking for unstated dependencies in examples ... OK
* checking examples ... OK
* checking for unstated dependencies in ‘tests’ ... OK
* checking tests ...
Running ‘testthat.R’
OK
* checking PDF version of manual ... OK
* DONE
Status: 1 NOTE
See
‘/Users/biocbuild/bbs-3.18-bioc/meat/MatrixGenerics.Rcheck/00check.log’
for details.
MatrixGenerics.Rcheck/00install.out
############################################################################## ############################################################################## ### ### Running command: ### ### /Library/Frameworks/R.framework/Resources/bin/R CMD INSTALL MatrixGenerics ### ############################################################################## ############################################################################## * installing to library ‘/Library/Frameworks/R.framework/Versions/4.3-x86_64/Resources/library’ * installing *source* package ‘MatrixGenerics’ ... ** using staged installation ** R ** inst ** byte-compile and prepare package for lazy loading Creating a new generic function for ‘rowAlls’ in package ‘MatrixGenerics’ Creating a new generic function for ‘colAlls’ in package ‘MatrixGenerics’ Creating a new generic function for ‘rowAnyNAs’ in package ‘MatrixGenerics’ Creating a new generic function for ‘colAnyNAs’ in package ‘MatrixGenerics’ Creating a new generic function for ‘rowAnys’ in package ‘MatrixGenerics’ Creating a new generic function for ‘colAnys’ in package ‘MatrixGenerics’ Creating a new generic function for ‘rowAvgsPerColSet’ in package ‘MatrixGenerics’ Creating a new generic function for ‘colAvgsPerRowSet’ in package ‘MatrixGenerics’ Creating a new generic function for ‘rowCollapse’ in package ‘MatrixGenerics’ Creating a new generic function for ‘colCollapse’ in package ‘MatrixGenerics’ Creating a new generic function for ‘rowCounts’ in package ‘MatrixGenerics’ Creating a new generic function for ‘colCounts’ in package ‘MatrixGenerics’ Creating a new generic function for ‘rowCummaxs’ in package ‘MatrixGenerics’ Creating a new generic function for ‘colCummaxs’ in package ‘MatrixGenerics’ Creating a new generic function for ‘rowCummins’ in package ‘MatrixGenerics’ Creating a new generic function for ‘colCummins’ in package ‘MatrixGenerics’ Creating a new generic function for ‘rowCumprods’ in package ‘MatrixGenerics’ Creating a new generic function for ‘colCumprods’ in package ‘MatrixGenerics’ Creating a new generic function for ‘rowCumsums’ in package ‘MatrixGenerics’ Creating a new generic function for ‘colCumsums’ in package ‘MatrixGenerics’ Creating a new generic function for ‘rowDiffs’ in package ‘MatrixGenerics’ Creating a new generic function for ‘colDiffs’ in package ‘MatrixGenerics’ Creating a new generic function for ‘rowIQRDiffs’ in package ‘MatrixGenerics’ Creating a new generic function for ‘colIQRDiffs’ in package ‘MatrixGenerics’ Creating a new generic function for ‘rowIQRs’ in package ‘MatrixGenerics’ Creating a new generic function for ‘colIQRs’ in package ‘MatrixGenerics’ Creating a new generic function for ‘rowLogSumExps’ in package ‘MatrixGenerics’ Creating a new generic function for ‘colLogSumExps’ in package ‘MatrixGenerics’ Creating a new generic function for ‘rowMadDiffs’ in package ‘MatrixGenerics’ Creating a new generic function for ‘colMadDiffs’ in package ‘MatrixGenerics’ Creating a new generic function for ‘rowMads’ in package ‘MatrixGenerics’ Creating a new generic function for ‘colMads’ in package ‘MatrixGenerics’ Creating a new generic function for ‘rowMaxs’ in package ‘MatrixGenerics’ Creating a new generic function for ‘colMaxs’ in package ‘MatrixGenerics’ Creating a new generic function for ‘rowMeans2’ in package ‘MatrixGenerics’ Creating a new generic function for ‘colMeans2’ in package ‘MatrixGenerics’ Creating a new generic function for ‘rowMedians’ in package ‘MatrixGenerics’ Creating a new generic function for ‘colMedians’ in package ‘MatrixGenerics’ Creating a new generic function for ‘rowMins’ in package ‘MatrixGenerics’ Creating a new generic function for ‘colMins’ in package ‘MatrixGenerics’ Creating a new generic function for ‘rowOrderStats’ in package ‘MatrixGenerics’ Creating a new generic function for ‘colOrderStats’ in package ‘MatrixGenerics’ Creating a new generic function for ‘rowProds’ in package ‘MatrixGenerics’ Creating a new generic function for ‘colProds’ in package ‘MatrixGenerics’ Creating a new generic function for ‘rowQuantiles’ in package ‘MatrixGenerics’ Creating a new generic function for ‘colQuantiles’ in package ‘MatrixGenerics’ Creating a new generic function for ‘rowRanges’ in package ‘MatrixGenerics’ Creating a new generic function for ‘colRanges’ in package ‘MatrixGenerics’ Creating a new generic function for ‘rowRanks’ in package ‘MatrixGenerics’ Creating a new generic function for ‘colRanks’ in package ‘MatrixGenerics’ Creating a new generic function for ‘rowSdDiffs’ in package ‘MatrixGenerics’ Creating a new generic function for ‘colSdDiffs’ in package ‘MatrixGenerics’ Creating a new generic function for ‘rowSds’ in package ‘MatrixGenerics’ Creating a new generic function for ‘colSds’ in package ‘MatrixGenerics’ Creating a new generic function for ‘rowSums2’ in package ‘MatrixGenerics’ Creating a new generic function for ‘colSums2’ in package ‘MatrixGenerics’ Creating a new generic function for ‘rowTabulates’ in package ‘MatrixGenerics’ Creating a new generic function for ‘colTabulates’ in package ‘MatrixGenerics’ Creating a new generic function for ‘rowVarDiffs’ in package ‘MatrixGenerics’ Creating a new generic function for ‘colVarDiffs’ in package ‘MatrixGenerics’ Creating a new generic function for ‘rowVars’ in package ‘MatrixGenerics’ Creating a new generic function for ‘colVars’ in package ‘MatrixGenerics’ Creating a new generic function for ‘rowWeightedMads’ in package ‘MatrixGenerics’ Creating a new generic function for ‘colWeightedMads’ in package ‘MatrixGenerics’ Creating a new generic function for ‘rowWeightedMeans’ in package ‘MatrixGenerics’ Creating a new generic function for ‘colWeightedMeans’ in package ‘MatrixGenerics’ Creating a new generic function for ‘rowWeightedMedians’ in package ‘MatrixGenerics’ Creating a new generic function for ‘colWeightedMedians’ in package ‘MatrixGenerics’ Creating a new generic function for ‘rowWeightedSds’ in package ‘MatrixGenerics’ Creating a new generic function for ‘colWeightedSds’ in package ‘MatrixGenerics’ Creating a new generic function for ‘rowWeightedVars’ in package ‘MatrixGenerics’ Creating a new generic function for ‘colWeightedVars’ in package ‘MatrixGenerics’ ** help *** installing help indices ** building package indices ** testing if installed package can be loaded from temporary location ** testing if installed package can be loaded from final location ** testing if installed package keeps a record of temporary installation path * DONE (MatrixGenerics)
MatrixGenerics.Rcheck/tests/testthat.Rout
R version 4.3.3 (2024-02-29) -- "Angel Food Cake"
Copyright (C) 2024 The R Foundation for Statistical Computing
Platform: x86_64-apple-darwin20 (64-bit)
R is free software and comes with ABSOLUTELY NO WARRANTY.
You are welcome to redistribute it under certain conditions.
Type 'license()' or 'licence()' for distribution details.
R is a collaborative project with many contributors.
Type 'contributors()' for more information and
'citation()' on how to cite R or R packages in publications.
Type 'demo()' for some demos, 'help()' for on-line help, or
'help.start()' for an HTML browser interface to help.
Type 'q()' to quit R.
> library(testthat)
> library(MatrixGenerics)
Loading required package: matrixStats
Attaching package: 'MatrixGenerics'
The following objects are masked from 'package:matrixStats':
colAlls, colAnyNAs, colAnys, colAvgsPerRowSet, colCollapse,
colCounts, colCummaxs, colCummins, colCumprods, colCumsums,
colDiffs, colIQRDiffs, colIQRs, colLogSumExps, colMadDiffs,
colMads, colMaxs, colMeans2, colMedians, colMins, colOrderStats,
colProds, colQuantiles, colRanges, colRanks, colSdDiffs, colSds,
colSums2, colTabulates, colVarDiffs, colVars, colWeightedMads,
colWeightedMeans, colWeightedMedians, colWeightedSds,
colWeightedVars, rowAlls, rowAnyNAs, rowAnys, rowAvgsPerColSet,
rowCollapse, rowCounts, rowCummaxs, rowCummins, rowCumprods,
rowCumsums, rowDiffs, rowIQRDiffs, rowIQRs, rowLogSumExps,
rowMadDiffs, rowMads, rowMaxs, rowMeans2, rowMedians, rowMins,
rowOrderStats, rowProds, rowQuantiles, rowRanges, rowRanks,
rowSdDiffs, rowSds, rowSums2, rowTabulates, rowVarDiffs, rowVars,
rowWeightedMads, rowWeightedMeans, rowWeightedMedians,
rowWeightedSds, rowWeightedVars
>
> test_check("MatrixGenerics")
[ FAIL 0 | WARN 0 | SKIP 0 | PASS 382 ]
>
> proc.time()
user system elapsed
6.269 0.495 7.302
MatrixGenerics.Rcheck/MatrixGenerics-Ex.timings
| name | user | system | elapsed | |
| rowAlls | 0.004 | 0.002 | 0.008 | |
| rowAnyNAs | 0.003 | 0.002 | 0.005 | |
| rowAnys | 0.002 | 0.001 | 0.003 | |
| rowAvgsPerColSet | 0.004 | 0.002 | 0.008 | |
| rowCollapse | 0.002 | 0.001 | 0.004 | |
| rowCounts | 0.002 | 0.001 | 0.004 | |
| rowCummaxs | 0.002 | 0.001 | 0.004 | |
| rowCummins | 0.002 | 0.002 | 0.004 | |
| rowCumprods | 0.002 | 0.001 | 0.004 | |
| rowCumsums | 0.002 | 0.001 | 0.004 | |
| rowDiffs | 0.002 | 0.002 | 0.005 | |
| rowIQRDiffs | 0.006 | 0.002 | 0.008 | |
| rowIQRs | 0.005 | 0.002 | 0.007 | |
| rowLogSumExps | 0.002 | 0.001 | 0.004 | |
| rowMadDiffs | 0.005 | 0.002 | 0.009 | |
| rowMads | 0.002 | 0.002 | 0.003 | |
| rowMaxs | 0.002 | 0.002 | 0.004 | |
| rowMeans | 0.001 | 0.001 | 0.003 | |
| rowMeans2 | 0.002 | 0.001 | 0.004 | |
| rowMedians | 0.002 | 0.001 | 0.004 | |
| rowMins | 0.002 | 0.001 | 0.003 | |
| rowOrderStats | 0.002 | 0.001 | 0.003 | |
| rowProds | 0.002 | 0.002 | 0.003 | |
| rowQuantiles | 0.005 | 0.002 | 0.007 | |
| rowRanges | 0.002 | 0.001 | 0.003 | |
| rowRanks | 0.002 | 0.001 | 0.003 | |
| rowSdDiffs | 0.003 | 0.001 | 0.004 | |
| rowSds | 0.002 | 0.001 | 0.004 | |
| rowSums | 0.002 | 0.001 | 0.003 | |
| rowSums2 | 0.002 | 0.001 | 0.004 | |
| rowTabulates | 0.004 | 0.002 | 0.008 | |
| rowVarDiffs | 0.004 | 0.001 | 0.004 | |
| rowVars | 0.001 | 0.001 | 0.003 | |
| rowWeightedMads | 0.003 | 0.001 | 0.004 | |
| rowWeightedMeans | 0.003 | 0.001 | 0.004 | |
| rowWeightedMedians | 0.003 | 0.001 | 0.004 | |
| rowWeightedSds | 0.003 | 0.002 | 0.005 | |
| rowWeightedVars | 0.003 | 0.002 | 0.004 | |