| Back to Multiple platform build/check report for BioC 3.18: simplified long |
|
This page was generated on 2024-04-17 11:36:57 -0400 (Wed, 17 Apr 2024).
| Hostname | OS | Arch (*) | R version | Installed pkgs |
|---|---|---|---|---|
| nebbiolo2 | Linux (Ubuntu 22.04.3 LTS) | x86_64 | 4.3.3 (2024-02-29) -- "Angel Food Cake" | 4676 |
| palomino4 | Windows Server 2022 Datacenter | x64 | 4.3.3 (2024-02-29 ucrt) -- "Angel Food Cake" | 4414 |
| merida1 | macOS 12.7.1 Monterey | x86_64 | 4.3.3 (2024-02-29) -- "Angel Food Cake" | 4437 |
| Click on any hostname to see more info about the system (e.g. compilers) (*) as reported by 'uname -p', except on Windows and Mac OS X | ||||
| Package 1155/2266 | Hostname | OS / Arch | INSTALL | BUILD | CHECK | BUILD BIN | ||||||||
| MassSpecWavelet 1.68.0 (landing page) Sergio Oller Moreno
| nebbiolo2 | Linux (Ubuntu 22.04.3 LTS) / x86_64 | OK | OK | OK | |||||||||
| palomino4 | Windows Server 2022 Datacenter / x64 | OK | OK | OK | OK | |||||||||
| merida1 | macOS 12.7.1 Monterey / x86_64 | OK | OK | OK | OK | |||||||||
| kjohnson1 | macOS 13.6.1 Ventura / arm64 | see weekly results here | ||||||||||||
|
To the developers/maintainers of the MassSpecWavelet package: - Allow up to 24 hours (and sometimes 48 hours) for your latest push to git@git.bioconductor.org:packages/MassSpecWavelet.git to reflect on this report. See Troubleshooting Build Report for more information. - Use the following Renviron settings to reproduce errors and warnings. - If 'R CMD check' started to fail recently on the Linux builder(s) over a missing dependency, add the missing dependency to 'Suggests:' in your DESCRIPTION file. See Renviron.bioc for more information. |
| Package: MassSpecWavelet |
| Version: 1.68.0 |
| Command: rm -rf MassSpecWavelet.buildbin-libdir && mkdir MassSpecWavelet.buildbin-libdir && F:\biocbuild\bbs-3.18-bioc\R\bin\R.exe CMD INSTALL --build --library=MassSpecWavelet.buildbin-libdir MassSpecWavelet_1.68.0.tar.gz |
| StartedAt: 2024-04-16 07:14:03 -0400 (Tue, 16 Apr 2024) |
| EndedAt: 2024-04-16 07:14:16 -0400 (Tue, 16 Apr 2024) |
| EllapsedTime: 13.1 seconds |
| RetCode: 0 |
| Status: OK |
| PackageFile: MassSpecWavelet_1.68.0.zip |
| PackageFileSize: 1.169 MiB |
##############################################################################
##############################################################################
###
### Running command:
###
### rm -rf MassSpecWavelet.buildbin-libdir && mkdir MassSpecWavelet.buildbin-libdir && F:\biocbuild\bbs-3.18-bioc\R\bin\R.exe CMD INSTALL --build --library=MassSpecWavelet.buildbin-libdir MassSpecWavelet_1.68.0.tar.gz
###
##############################################################################
##############################################################################
* installing *source* package 'MassSpecWavelet' ...
** using staged installation
** libs
using C compiler: 'gcc.exe (GCC) 12.3.0'
gcc -I"F:/biocbuild/bbs-3.18-bioc/R/include" -DNDEBUG -I"C:/rtools43/x86_64-w64-mingw32.static.posix/include" -O2 -Wall -mfpmath=sse -msse2 -mstackrealign -c find_local_maximum.c -o find_local_maximum.o
find_local_maximum.c: In function 'localMaximumSlidingWindow':
find_local_maximum.c:493:17: warning: 'kmax' may be used uninitialized [-Wmaybe-uninitialized]
493 | outi[kmax] = 1;
| ^
find_local_maximum.c:479:13: note: 'kmax' was declared here
479 | int kmax;
| ^~~~
find_local_maximum.c:471:17: warning: 'kmax' may be used uninitialized [-Wmaybe-uninitialized]
471 | outi[kmax] = 1;
| ^
find_local_maximum.c:461:13: note: 'kmax' was declared here
461 | int kmax;
| ^~~~
gcc -I"F:/biocbuild/bbs-3.18-bioc/R/include" -DNDEBUG -I"C:/rtools43/x86_64-w64-mingw32.static.posix/include" -O2 -Wall -mfpmath=sse -msse2 -mstackrealign -c init.c -o init.o
gcc -shared -s -static-libgcc -o MassSpecWavelet.dll tmp.def find_local_maximum.o init.o -LC:/rtools43/x86_64-w64-mingw32.static.posix/lib/x64 -LC:/rtools43/x86_64-w64-mingw32.static.posix/lib -LF:/biocbuild/bbs-3.18-bioc/R/bin/x64 -lR
installing to F:/biocbuild/bbs-3.18-bioc/meat/MassSpecWavelet.buildbin-libdir/00LOCK-MassSpecWavelet/00new/MassSpecWavelet/libs/x64
** R
** data
** inst
** byte-compile and prepare package for lazy loading
** help
*** installing help indices
** building package indices
** installing vignettes
** testing if installed package can be loaded from temporary location
** testing if installed package can be loaded from final location
** testing if installed package keeps a record of temporary installation path
* MD5 sums
packaged installation of 'MassSpecWavelet' as MassSpecWavelet_1.68.0.zip
* DONE (MassSpecWavelet)