| Back to Multiple platform build/check report for BioC 3.18: simplified long | 
  | 
This page was generated on 2024-03-04 11:37:36 -0500 (Mon, 04 Mar 2024).
| Hostname | OS | Arch (*) | R version | Installed pkgs | 
|---|---|---|---|---|
| nebbiolo2 | Linux (Ubuntu 22.04.3 LTS) | x86_64 | 4.3.2 Patched (2023-11-13 r85521) -- "Eye Holes" | 4692 | 
| palomino4 | Windows Server 2022 Datacenter | x64 | 4.3.2 (2023-10-31 ucrt) -- "Eye Holes" | 4445 | 
| lconway | macOS 12.7.1 Monterey | x86_64 | 4.3.2 Patched (2023-11-01 r85457) -- "Eye Holes" | 4466 | 
| Click on any hostname to see more info about the system (e.g. compilers) (*) as reported by 'uname -p', except on Windows and Mac OS X | ||||
| Package 1347/2266 | Hostname | OS / Arch | INSTALL | BUILD | CHECK | BUILD BIN | ||||||||
| MSstatsPTM 2.4.4  (landing page) Devon Kohler 
  | nebbiolo2 | Linux (Ubuntu 22.04.3 LTS) / x86_64 | OK | OK | OK | |||||||||
| palomino4 | Windows Server 2022 Datacenter / x64 | OK | OK | OK | OK | |||||||||
| lconway | macOS 12.7.1 Monterey / x86_64 | OK | OK | OK | OK | |||||||||
| kjohnson1 | macOS 13.6.1 Ventura / arm64 | see weekly results here | ||||||||||||
| 
To the developers/maintainers of the MSstatsPTM package: - Allow up to 24 hours (and sometimes 48 hours) for your latest push to git@git.bioconductor.org:packages/MSstatsPTM.git to reflect on this report. See Troubleshooting Build Report for more information. - Use the following Renviron settings to reproduce errors and warnings. - If 'R CMD check' started to fail recently on the Linux builder(s) over a missing dependency, add the missing dependency to 'Suggests:' in your DESCRIPTION file. See Renviron.bioc for more information.  | 
| Package: MSstatsPTM | 
| Version: 2.4.4 | 
| Command: /Library/Frameworks/R.framework/Resources/bin/R CMD check --install=check:MSstatsPTM.install-out.txt --library=/Library/Frameworks/R.framework/Resources/library --no-vignettes --timings MSstatsPTM_2.4.4.tar.gz | 
| StartedAt: 2024-03-03 22:03:23 -0500 (Sun, 03 Mar 2024) | 
| EndedAt: 2024-03-03 22:07:26 -0500 (Sun, 03 Mar 2024) | 
| EllapsedTime: 243.0 seconds | 
| RetCode: 0 | 
| Status: OK | 
| CheckDir: MSstatsPTM.Rcheck | 
| Warnings: 0 | 
##############################################################################
##############################################################################
###
### Running command:
###
###   /Library/Frameworks/R.framework/Resources/bin/R CMD check --install=check:MSstatsPTM.install-out.txt --library=/Library/Frameworks/R.framework/Resources/library --no-vignettes --timings MSstatsPTM_2.4.4.tar.gz
###
##############################################################################
##############################################################################
* using log directory ‘/Users/biocbuild/bbs-3.18-bioc/meat/MSstatsPTM.Rcheck’
* using R version 4.3.2 Patched (2023-11-01 r85457)
* using platform: x86_64-apple-darwin20 (64-bit)
* R was compiled by
    Apple clang version 14.0.3 (clang-1403.0.22.14.1)
    GNU Fortran (GCC) 12.2.0
* running under: macOS Monterey 12.7.1
* using session charset: UTF-8
* using option ‘--no-vignettes’
* checking for file ‘MSstatsPTM/DESCRIPTION’ ... OK
* checking extension type ... Package
* this is package ‘MSstatsPTM’ version ‘2.4.4’
* package encoding: UTF-8
* checking package namespace information ... OK
* checking package dependencies ... OK
* checking if this is a source package ... OK
* checking if there is a namespace ... OK
* checking for hidden files and directories ... NOTE
Found the following hidden files and directories:
  .travis.yml
These were most likely included in error. See section ‘Package
structure’ in the ‘Writing R Extensions’ manual.
* checking for portable file names ... OK
* checking for sufficient/correct file permissions ... OK
* checking whether package ‘MSstatsPTM’ can be installed ... OK
* used C++ compiler: ‘Apple clang version 14.0.0 (clang-1400.0.29.202)’
* used SDK: ‘MacOSX11.3.sdk’
* checking installed package size ... OK
* checking package directory ... OK
* checking ‘build’ directory ... OK
* checking DESCRIPTION meta-information ... OK
* checking top-level files ... OK
* checking for left-over files ... OK
* checking index information ... OK
* checking package subdirectories ... OK
* checking R files for non-ASCII characters ... OK
* checking R files for syntax errors ... OK
* checking whether the package can be loaded ... OK
* checking whether the package can be loaded with stated dependencies ... OK
* checking whether the package can be unloaded cleanly ... OK
* checking whether the namespace can be loaded with stated dependencies ... OK
* checking whether the namespace can be unloaded cleanly ... OK
* checking dependencies in R code ... NOTE
Unexported objects imported by ':::' calls:
  ‘MSstats:::.getMedianSigmaSubject’ ‘MSstats:::.getVarComponent’
  ‘MSstatsConvert:::.filterFewMeasurements’
  ‘MSstatsConvert:::.filterManyColumns’
  ‘MSstatsConvert:::.getChannelColumns’
  ‘MSstatsConvert:::.standardizeColnames’
  See the note in ?`:::` about the use of this operator.
* checking S3 generic/method consistency ... OK
* checking replacement functions ... OK
* checking foreign function calls ... OK
* checking R code for possible problems ... NOTE
.extract_pd_mods: no visible binding for global variable
  ‘..sequence_col’
.format.data.process.plots: no visible binding for global variable
  ‘ABUNDANCE’
.pivotPS: no visible binding for global variable ‘..keep_cols’
.plot.model.volcano: no visible binding for global variable
  ‘text.angle’
.progensis.add.sites: no visible binding for global variable
  ‘..col_order’
.qc.all.plot.lf: no visible binding for global variable ‘text.angle’
.qc.single.plot.lf: no visible binding for global variable ‘text.angle’
.removeCutoffSites: no visible binding for global variable
  ‘..mod_pep_col’
.rmConfounded: no visible binding for global variable ‘..col_res’
DIANNtoMSstatsPTMFormat: no visible binding for global variable
  ‘..protein_id_col’
FragPipetoMSstatsPTMFormat: no visible binding for global variable
  ‘..msstats_cols’
MSstatsPTMSiteLocator: no visible binding for global variable
  ‘..mod_pep_col’
MaxQtoMSstatsPTMFormat: no visible binding for global variable
  ‘TMT.keyword’
MaxQtoMSstatsPTMFormat: no visible binding for global variable
  ‘ptm.keyword’
MaxQtoMSstatsPTMFormat: no visible binding for global variable
  ‘mod.num’
MaxQtoMSstatsPTMFormat: no visible binding for global variable
  ‘which.proteinid.ptm’
MaxQtoMSstatsPTMFormat: no visible binding for global variable
  ‘PeptideSequence’
PStoMSstatsPTMFormat: no visible binding for global variable
  ‘Intensity’
ProgenesistoMSstatsPTMFormat: no visible binding for global variable
  ‘Type’
SkylinetoMSstatsPTMFormat: no visible binding for global variable
  ‘annotation_prot’
dataProcessPlotsPTM: no visible binding for global variable
  ‘PROTEINNAME’
dataProcessPlotsPTM: no visible binding for global variable
  ‘GLOBALPROTEIN’
dataSummarizationPTM: no visible binding for global variable ‘address’
locatePTM: no visible binding for global variable ‘..col_seq’
locatePTM: no visible binding for global variable ‘..col_fasta’
Undefined global functions or variables:
  ..col_fasta ..col_order ..col_res ..col_seq ..keep_cols ..mod_pep_col
  ..msstats_cols ..protein_id_col ..sequence_col ABUNDANCE
  GLOBALPROTEIN Intensity PROTEINNAME PeptideSequence TMT.keyword Type
  address annotation_prot mod.num ptm.keyword text.angle
  which.proteinid.ptm
* checking Rd files ... OK
* checking Rd metadata ... OK
* checking Rd cross-references ... OK
* checking for missing documentation entries ... OK
* checking for code/documentation mismatches ... OK
* checking Rd \usage sections ... OK
* checking Rd contents ... OK
* checking for unstated dependencies in examples ... OK
* checking contents of ‘data’ directory ... OK
* checking data for non-ASCII characters ... OK
* checking LazyData ... OK
* checking data for ASCII and uncompressed saves ... OK
* checking line endings in C/C++/Fortran sources/headers ... OK
* checking compiled code ... NOTE
Note: information on .o files is not available
* checking files in ‘vignettes’ ... OK
* checking examples ... OK
Examples with CPU (user + system) or elapsed time > 5s
                          user system elapsed
groupComparisonPlotsPTM 13.661  0.172  13.961
* checking for unstated dependencies in ‘tests’ ... OK
* checking tests ...
  Running ‘tinytest.R’
 OK
* checking for unstated dependencies in vignettes ... OK
* checking package vignettes in ‘inst/doc’ ... OK
* checking running R code from vignettes ... SKIPPED
* checking re-building of vignette outputs ... SKIPPED
* checking PDF version of manual ... OK
* DONE
Status: 4 NOTEs
See
  ‘/Users/biocbuild/bbs-3.18-bioc/meat/MSstatsPTM.Rcheck/00check.log’
for details.
MSstatsPTM.Rcheck/00install.out
############################################################################## ############################################################################## ### ### Running command: ### ### /Library/Frameworks/R.framework/Resources/bin/R CMD INSTALL MSstatsPTM ### ############################################################################## ############################################################################## * installing to library ‘/Library/Frameworks/R.framework/Versions/4.3-x86_64/Resources/library’ * installing *source* package ‘MSstatsPTM’ ... ** using staged installation ** libs using C++ compiler: ‘Apple clang version 14.0.0 (clang-1400.0.29.202)’ using SDK: ‘MacOSX11.3.sdk’ clang++ -arch x86_64 -std=gnu++17 -I"/Library/Frameworks/R.framework/Resources/include" -DNDEBUG -I'/Library/Frameworks/R.framework/Versions/4.3-x86_64/Resources/library/Rcpp/include' -I/opt/R/x86_64/include -fPIC -falign-functions=64 -Wall -g -O2 -c RcppExports.cpp -o RcppExports.o clang++ -arch x86_64 -std=gnu++17 -I"/Library/Frameworks/R.framework/Resources/include" -DNDEBUG -I'/Library/Frameworks/R.framework/Versions/4.3-x86_64/Resources/library/Rcpp/include' -I/opt/R/x86_64/include -fPIC -falign-functions=64 -Wall -g -O2 -c model_adjustment.cpp -o model_adjustment.o clang++ -arch x86_64 -std=gnu++17 -dynamiclib -Wl,-headerpad_max_install_names -undefined dynamic_lookup -L/Library/Frameworks/R.framework/Resources/lib -L/opt/R/x86_64/lib -o MSstatsPTM.so RcppExports.o model_adjustment.o -F/Library/Frameworks/R.framework/.. -framework R -Wl,-framework -Wl,CoreFoundation installing to /Library/Frameworks/R.framework/Versions/4.3-x86_64/Resources/library/00LOCK-MSstatsPTM/00new/MSstatsPTM/libs ** R ** data *** moving datasets to lazyload DB ** inst ** byte-compile and prepare package for lazy loading ** help *** installing help indices ** building package indices ** installing vignettes ** testing if installed package can be loaded from temporary location ** checking absolute paths in shared objects and dynamic libraries ** testing if installed package can be loaded from final location ** testing if installed package keeps a record of temporary installation path * DONE (MSstatsPTM)
MSstatsPTM.Rcheck/tests/tinytest.Rout
R version 4.3.2 Patched (2023-11-01 r85457) -- "Eye Holes"
Copyright (C) 2023 The R Foundation for Statistical Computing
Platform: x86_64-apple-darwin20 (64-bit)
R is free software and comes with ABSOLUTELY NO WARRANTY.
You are welcome to redistribute it under certain conditions.
Type 'license()' or 'licence()' for distribution details.
R is a collaborative project with many contributors.
Type 'contributors()' for more information and
'citation()' on how to cite R or R packages in publications.
Type 'demo()' for some demos, 'help()' for on-line help, or
'help.start()' for an HTML browser interface to help.
Type 'q()' to quit R.
> 
> if ( requireNamespace("tinytest", quietly=TRUE) ){
+   tinytest::test_package("MSstatsPTM")
+ }
test_converters.R.............    0 tests    
test_converters.R.............    0 tests    
test_converters.R.............    1 tests [0;32mOK[0m 
test_converters.R.............    2 tests [0;32mOK[0m 
test_converters.R.............    3 tests [0;32mOK[0m 
test_converters.R.............    4 tests [0;32mOK[0m 
test_converters.R.............    5 tests [0;32mOK[0m 
test_converters.R.............    5 tests [0;32mOK[0m 
test_converters.R.............    5 tests [0;32mOK[0m 
test_converters.R.............    6 tests [0;32mOK[0m 
test_converters.R.............    7 tests [0;32mOK[0m 
test_converters.R.............    8 tests [0;32mOK[0m 
test_converters.R.............    9 tests [0;32mOK[0m 
test_converters.R.............   10 tests [0;32mOK[0m 
test_converters.R.............   10 tests [0;32mOK[0m 
test_converters.R.............   10 tests [0;32mOK[0m 
test_converters.R.............   11 tests [0;32mOK[0m 
test_converters.R.............   12 tests [0;32mOK[0m 
test_converters.R.............   13 tests [0;32mOK[0m 
test_converters.R.............   14 tests [0;32mOK[0m 
test_converters.R.............   14 tests [0;32mOK[0m 
test_converters.R.............   14 tests [0;32mOK[0m 
test_converters.R.............   14 tests [0;32mOK[0m INFO  [2024-03-03 22:06:51] ** Raw data from ProteomeDiscoverer imported successfully.
INFO  [2024-03-03 22:06:51] ** Raw data from ProteomeDiscoverer cleaned successfully.
INFO  [2024-03-03 22:06:51] ** Using provided annotation.
INFO  [2024-03-03 22:06:51] ** Run labels were standardized to remove symbols such as '.' or '%'.
INFO  [2024-03-03 22:06:51] ** The following options are used:
  - Features will be defined by the columns: PeptideSequence, PrecursorCharge
  - Shared peptides will be removed.
  - Proteins with single feature will not be removed.
  - Features with less than 3 measurements across runs will be removed.
INFO  [2024-03-03 22:06:51] ** Features with all missing measurements across runs are removed.
INFO  [2024-03-03 22:06:51] ** Shared peptides are removed.
INFO  [2024-03-03 22:06:51] ** Multiple measurements in a feature and a run are summarized by summaryforMultipleRows: max
INFO  [2024-03-03 22:06:51] ** Features with one or two measurements across runs are removed.
INFO  [2024-03-03 22:06:51] ** Run annotation merged with quantification data.
INFO  [2024-03-03 22:06:51] ** Features with one or two measurements across runs are removed.
INFO  [2024-03-03 22:06:51] ** Fractionation handled.
INFO  [2024-03-03 22:06:51] ** Updated quantification data to make balanced design. Missing values are marked by NA
INFO  [2024-03-03 22:06:51] ** Finished preprocessing. The dataset is ready to be processed by the dataProcess function.
test_converters.R.............   15 tests [0;32mOK[0m INFO: Extracting modifications
INFO  [2024-03-03 22:06:52] ** Raw data from ProteomeDiscoverer imported successfully.
INFO  [2024-03-03 22:06:52] ** Raw data from ProteomeDiscoverer cleaned successfully.
INFO  [2024-03-03 22:06:52] ** Using provided annotation.
INFO  [2024-03-03 22:06:52] ** Run labels were standardized to remove symbols such as '.' or '%'.
INFO  [2024-03-03 22:06:52] ** The following options are used:
  - Features will be defined by the columns: PeptideSequence, PrecursorCharge
  - Shared peptides will be removed.
  - Proteins with single feature will not be removed.
  - Features with less than 3 measurements across runs will be removed.
INFO  [2024-03-03 22:06:52] ** Features with all missing measurements across runs are removed.
INFO  [2024-03-03 22:06:52] ** Shared peptides are removed.
INFO  [2024-03-03 22:06:52] ** Multiple measurements in a feature and a run are summarized by summaryforMultipleRows: max
INFO  [2024-03-03 22:06:52] ** Features with one or two measurements across runs are removed.
INFO  [2024-03-03 22:06:52] ** Run annotation merged with quantification data.
INFO  [2024-03-03 22:06:52] ** Features with one or two measurements across runs are removed.
INFO  [2024-03-03 22:06:52] ** Fractionation handled.
INFO  [2024-03-03 22:06:52] ** Updated quantification data to make balanced design. Missing values are marked by NA
INFO  [2024-03-03 22:06:52] ** Finished preprocessing. The dataset is ready to be processed by the dataProcess function.
test_converters.R.............   16 tests [0;32mOK[0m INFO: Extracting modifications
INFO  [2024-03-03 22:06:53] ** Raw data from ProteomeDiscoverer imported successfully.
INFO  [2024-03-03 22:06:53] ** Raw data from ProteomeDiscoverer cleaned successfully.
INFO  [2024-03-03 22:06:53] ** Using provided annotation.
INFO  [2024-03-03 22:06:53] ** Run labels were standardized to remove symbols such as '.' or '%'.
INFO  [2024-03-03 22:06:53] ** The following options are used:
  - Features will be defined by the columns: PeptideSequence, PrecursorCharge
  - Shared peptides will be removed.
  - Proteins with single feature will not be removed.
  - Features with less than 3 measurements across runs will be removed.
INFO  [2024-03-03 22:06:53] ** Features with all missing measurements across runs are removed.
INFO  [2024-03-03 22:06:53] ** Shared peptides are removed.
INFO  [2024-03-03 22:06:53] ** Multiple measurements in a feature and a run are summarized by summaryforMultipleRows: max
INFO  [2024-03-03 22:06:53] ** Features with one or two measurements across runs are removed.
INFO  [2024-03-03 22:06:53] ** Run annotation merged with quantification data.
INFO  [2024-03-03 22:06:53] ** Features with one or two measurements across runs are removed.
INFO  [2024-03-03 22:06:53] ** Fractionation handled.
INFO  [2024-03-03 22:06:53] ** Updated quantification data to make balanced design. Missing values are marked by NA
INFO  [2024-03-03 22:06:53] ** Finished preprocessing. The dataset is ready to be processed by the dataProcess function.
test_converters.R.............   17 tests [0;32mOK[0m INFO  [2024-03-03 22:06:54] ** Raw data from ProteomeDiscoverer imported successfully.
INFO  [2024-03-03 22:06:54] ** Raw data from ProteomeDiscoverer cleaned successfully.
INFO  [2024-03-03 22:06:54] ** Using provided annotation.
INFO  [2024-03-03 22:06:54] ** Run labels were standardized to remove symbols such as '.' or '%'.
INFO  [2024-03-03 22:06:54] ** The following options are used:
  - Features will be defined by the columns: PeptideSequence, PrecursorCharge
  - Shared peptides will be removed.
  - Proteins with single feature will not be removed.
  - Features with less than 3 measurements across runs will be removed.
INFO  [2024-03-03 22:06:54] ** Features with all missing measurements across runs are removed.
INFO  [2024-03-03 22:06:54] ** Shared peptides are removed.
INFO  [2024-03-03 22:06:54] ** Multiple measurements in a feature and a run are summarized by summaryforMultipleRows: max
INFO  [2024-03-03 22:06:54] ** Features with one or two measurements across runs are removed.
INFO  [2024-03-03 22:06:54] ** Run annotation merged with quantification data.
INFO  [2024-03-03 22:06:54] ** Features with one or two measurements across runs are removed.
INFO  [2024-03-03 22:06:54] ** Fractionation handled.
INFO  [2024-03-03 22:06:54] ** Updated quantification data to make balanced design. Missing values are marked by NA
INFO  [2024-03-03 22:06:54] ** Finished preprocessing. The dataset is ready to be processed by the dataProcess function.
test_converters.R.............   18 tests [0;32mOK[0m 
test_converters.R.............   19 tests [0;32mOK[0m INFO  [2024-03-03 22:06:55] ** Raw data from ProteomeDiscoverer imported successfully.
INFO  [2024-03-03 22:06:55] ** Raw data from ProteomeDiscoverer cleaned successfully.
INFO  [2024-03-03 22:06:55] ** Using provided annotation.
INFO  [2024-03-03 22:06:55] ** Run labels were standardized to remove symbols such as '.' or '%'.
INFO  [2024-03-03 22:06:55] ** The following options are used:
  - Features will be defined by the columns: PeptideSequence, PrecursorCharge
  - Shared peptides will be removed.
  - Proteins with single feature will not be removed.
  - Features with less than 3 measurements across runs will be removed.
INFO  [2024-03-03 22:06:55] ** Features with all missing measurements across runs are removed.
INFO  [2024-03-03 22:06:55] ** Shared peptides are removed.
INFO  [2024-03-03 22:06:55] ** Multiple measurements in a feature and a run are summarized by summaryforMultipleRows: max
INFO  [2024-03-03 22:06:55] ** Features with one or two measurements across runs are removed.
INFO  [2024-03-03 22:06:55] ** Run annotation merged with quantification data.
INFO  [2024-03-03 22:06:55] ** Features with one or two measurements across runs are removed.
INFO  [2024-03-03 22:06:55] ** Fractionation handled.
INFO  [2024-03-03 22:06:55] ** Updated quantification data to make balanced design. Missing values are marked by NA
INFO  [2024-03-03 22:06:55] ** Finished preprocessing. The dataset is ready to be processed by the dataProcess function.
test_converters.R.............   20 tests [0;32mOK[0m 
test_converters.R.............   21 tests [0;32mOK[0m 
test_converters.R.............   22 tests [0;32mOK[0m [0;34m9.7s[0m
test_dataSummarizationPTM.R...    0 tests    
test_dataSummarizationPTM.R...    1 tests [0;32mOK[0m 
test_dataSummarizationPTM.R...    2 tests [0;32mOK[0m 
test_dataSummarizationPTM.R...    3 tests [0;32mOK[0m 
test_dataSummarizationPTM.R...    4 tests [0;32mOK[0m 
test_dataSummarizationPTM.R...    5 tests [0;32mOK[0m 
test_dataSummarizationPTM.R...    6 tests [0;32mOK[0m 
test_dataSummarizationPTM.R...    7 tests [0;32mOK[0m 
test_dataSummarizationPTM.R...    8 tests [0;32mOK[0m 
test_dataSummarizationPTM.R...    9 tests [0;32mOK[0m 
test_dataSummarizationPTM.R...   10 tests [0;32mOK[0m 
test_dataSummarizationPTM.R...   11 tests [0;32mOK[0m 
test_dataSummarizationPTM.R...   12 tests [0;32mOK[0m 
test_dataSummarizationPTM.R...   13 tests [0;32mOK[0m 
test_dataSummarizationPTM.R...   14 tests [0;32mOK[0m 
test_dataSummarizationPTM.R...   15 tests [0;32mOK[0m 
test_dataSummarizationPTM.R...   16 tests [0;32mOK[0m 
test_dataSummarizationPTM.R...   17 tests [0;32mOK[0m 
test_dataSummarizationPTM.R...   18 tests [0;32mOK[0m 
test_dataSummarizationPTM.R...   19 tests [0;32mOK[0m 
test_dataSummarizationPTM.R...   20 tests [0;32mOK[0m 
test_dataSummarizationPTM.R...   21 tests [0;32mOK[0m 
test_dataSummarizationPTM.R...   22 tests [0;32mOK[0m 
test_dataSummarizationPTM.R...   23 tests [0;32mOK[0m 
test_dataSummarizationPTM.R...   24 tests [0;32mOK[0m 
test_dataSummarizationPTM.R...   25 tests [0;32mOK[0m 
test_dataSummarizationPTM.R...   26 tests [0;32mOK[0m 
test_dataSummarizationPTM.R...   27 tests [0;32mOK[0m 
test_dataSummarizationPTM.R...   28 tests [0;32mOK[0m 
test_dataSummarizationPTM.R...   29 tests [0;32mOK[0m 
test_dataSummarizationPTM.R...   30 tests [0;32mOK[0m Starting PTM summarization...
test_dataSummarizationPTM.R...   31 tests [0;32mOK[0m [0;34m0.3s[0m
test_dataSummarizationPTM_TMT.R    0 tests    
test_dataSummarizationPTM_TMT.R    1 tests [0;32mOK[0m 
test_dataSummarizationPTM_TMT.R    2 tests [0;32mOK[0m 
test_dataSummarizationPTM_TMT.R    3 tests [0;32mOK[0m 
test_dataSummarizationPTM_TMT.R    4 tests [0;32mOK[0m 
test_dataSummarizationPTM_TMT.R    5 tests [0;32mOK[0m 
test_dataSummarizationPTM_TMT.R    6 tests [0;32mOK[0m 
test_dataSummarizationPTM_TMT.R    7 tests [0;32mOK[0m 
test_dataSummarizationPTM_TMT.R    8 tests [0;32mOK[0m 
test_dataSummarizationPTM_TMT.R    9 tests [0;32mOK[0m 
test_dataSummarizationPTM_TMT.R   10 tests [0;32mOK[0m 
test_dataSummarizationPTM_TMT.R   11 tests [0;32mOK[0m 
test_dataSummarizationPTM_TMT.R   12 tests [0;32mOK[0m 
test_dataSummarizationPTM_TMT.R   13 tests [0;32mOK[0m 
test_dataSummarizationPTM_TMT.R   14 tests [0;32mOK[0m 
test_dataSummarizationPTM_TMT.R   15 tests [0;32mOK[0m 
test_dataSummarizationPTM_TMT.R   16 tests [0;32mOK[0m 
test_dataSummarizationPTM_TMT.R   17 tests [0;32mOK[0m 
test_dataSummarizationPTM_TMT.R   18 tests [0;32mOK[0m 
test_dataSummarizationPTM_TMT.R   19 tests [0;32mOK[0m 
test_dataSummarizationPTM_TMT.R   20 tests [0;32mOK[0m 
test_dataSummarizationPTM_TMT.R   21 tests [0;32mOK[0m 
test_dataSummarizationPTM_TMT.R   22 tests [0;32mOK[0m 
test_dataSummarizationPTM_TMT.R   23 tests [0;32mOK[0m 
test_dataSummarizationPTM_TMT.R   24 tests [0;32mOK[0m 
test_dataSummarizationPTM_TMT.R   25 tests [0;32mOK[0m 
test_dataSummarizationPTM_TMT.R   26 tests [0;32mOK[0m 
test_dataSummarizationPTM_TMT.R   27 tests [0;32mOK[0m 
test_dataSummarizationPTM_TMT.R   28 tests [0;32mOK[0m 
test_dataSummarizationPTM_TMT.R   29 tests [0;32mOK[0m 
test_dataSummarizationPTM_TMT.R   30 tests [0;32mOK[0m 
test_dataSummarizationPTM_TMT.R   31 tests [0;32mOK[0m [0;34m0.3s[0m
test_groupComparisonPTM.R.....    0 tests    
test_groupComparisonPTM.R.....    0 tests    
test_groupComparisonPTM.R.....    1 tests [0;32mOK[0m 
test_groupComparisonPTM.R.....    2 tests [0;32mOK[0m Starting PTM modeling...
test_groupComparisonPTM.R.....    3 tests [0;32mOK[0m Starting PTM modeling...
INFO  [2024-03-03 22:07:00]  == Start to test and get inference in whole plot ...
  |                                                                            
  |                                                                      |   0%
  |                                                                            
  |=                                                                     |   1%
  |                                                                            
  |=                                                                     |   2%
  |                                                                            
  |==                                                                    |   2%
  |                                                                            
  |==                                                                    |   3%
  |                                                                            
  |===                                                                   |   4%
  |                                                                            
  |===                                                                   |   5%
  |                                                                            
  |====                                                                  |   6%
  |                                                                            
  |=====                                                                 |   7%
  |                                                                            
  |======                                                                |   8%
  |                                                                            
  |======                                                                |   9%
  |                                                                            
  |=======                                                               |  10%
  |                                                                            
  |========                                                              |  11%
  |                                                                            
  |========                                                              |  12%
  |                                                                            
  |=========                                                             |  13%
  |                                                                            
  |==========                                                            |  14%
  |                                                                            
  |===========                                                           |  15%
  |                                                                            
  |===========                                                           |  16%
  |                                                                            
  |============                                                          |  17%
  |                                                                            
  |============                                                          |  18%
  |                                                                            
  |=============                                                         |  18%
  |                                                                            
  |=============                                                         |  19%
  |                                                                            
  |==============                                                        |  20%
  |                                                                            
  |===============                                                       |  21%
  |                                                                            
  |===============                                                       |  22%
  |                                                                            
  |================                                                      |  22%
  |                                                                            
  |================                                                      |  23%
  |                                                                            
  |=================                                                     |  24%
  |                                                                            
  |=================                                                     |  25%
  |                                                                            
  |==================                                                    |  26%
  |                                                                            
  |===================                                                   |  27%
  |                                                                            
  |====================                                                  |  28%
  |                                                                            
  |====================                                                  |  29%
  |                                                                            
  |=====================                                                 |  30%
  |                                                                            
  |======================                                                |  31%
  |                                                                            
  |======================                                                |  32%
  |                                                                            
  |=======================                                               |  33%
  |                                                                            
  |========================                                              |  34%
  |                                                                            
  |=========================                                             |  35%
  |                                                                            
  |=========================                                             |  36%
  |                                                                            
  |==========================                                            |  37%
  |                                                                            
  |==========================                                            |  38%
  |                                                                            
  |===========================                                           |  38%
  |                                                                            
  |===========================                                           |  39%
  |                                                                            
  |============================                                          |  40%
  |                                                                            
  |=============================                                         |  41%
  |                                                                            
  |=============================                                         |  42%
  |                                                                            
  |==============================                                        |  42%
  |                                                                            
  |==============================                                        |  43%
  |                                                                            
  |===============================                                       |  44%
  |                                                                            
  |===============================                                       |  45%
  |                                                                            
  |================================                                      |  46%
  |                                                                            
  |=================================                                     |  47%
  |                                                                            
  |==================================                                    |  48%
  |                                                                            
  |==================================                                    |  49%
  |                                                                            
  |===================================                                   |  50%
  |                                                                            
  |====================================                                  |  51%
  |                                                                            
  |====================================                                  |  52%
  |                                                                            
  |=====================================                                 |  53%
  |                                                                            
  |======================================                                |  54%
  |                                                                            
  |=======================================                               |  55%
  |                                                                            
  |=======================================                               |  56%
  |                                                                            
  |========================================                              |  57%
  |                                                                            
  |========================================                              |  58%
  |                                                                            
  |=========================================                             |  58%
  |                                                                            
  |=========================================                             |  59%
  |                                                                            
  |==========================================                            |  60%
  |                                                                            
  |===========================================                           |  61%
  |                                                                            
  |===========================================                           |  62%
  |                                                                            
  |============================================                          |  62%
  |                                                                            
  |============================================                          |  63%
  |                                                                            
  |=============================================                         |  64%
  |                                                                            
  |=============================================                         |  65%
  |                                                                            
  |==============================================                        |  66%
  |                                                                            
  |===============================================                       |  67%
  |                                                                            
  |================================================                      |  68%
  |                                                                            
  |================================================                      |  69%
  |                                                                            
  |=================================================                     |  70%
  |                                                                            
  |==================================================                    |  71%
  |                                                                            
  |==================================================                    |  72%
  |                                                                            
  |===================================================                   |  73%
  |                                                                            
  |====================================================                  |  74%
  |                                                                            
  |=====================================================                 |  75%
  |                                                                            
  |=====================================================                 |  76%
  |                                                                            
  |======================================================                |  77%
  |                                                                            
  |======================================================                |  78%
  |                                                                            
  |=======================================================               |  78%
  |                                                                            
  |=======================================================               |  79%
  |                                                                            
  |========================================================              |  80%
  |                                                                            
  |=========================================================             |  81%
  |                                                                            
  |=========================================================             |  82%
  |                                                                            
  |==========================================================            |  82%
  |                                                                            
  |==========================================================            |  83%
  |                                                                            
  |===========================================================           |  84%
  |                                                                            
  |===========================================================           |  85%
  |                                                                            
  |============================================================          |  86%
  |                                                                            
  |=============================================================         |  87%
  |                                                                            
  |==============================================================        |  88%
  |                                                                            
  |==============================================================        |  89%
  |                                                                            
  |===============================================================       |  90%
  |                                                                            
  |================================================================      |  91%
  |                                                                            
  |================================================================      |  92%
  |                                                                            
  |=================================================================     |  93%
  |                                                                            
  |==================================================================    |  94%
  |                                                                            
  |===================================================================   |  95%
  |                                                                            
  |===================================================================   |  96%
  |                                                                            
  |====================================================================  |  97%
  |                                                                            
  |====================================================================  |  98%
  |                                                                            
  |===================================================================== |  98%
  |                                                                            
  |===================================================================== |  99%
  |                                                                            
  |======================================================================| 100%
INFO  [2024-03-03 22:07:04]  == Comparisons for all proteins are done.
Starting Protein modeling...
INFO  [2024-03-03 22:07:04]  == Start to test and get inference in whole plot ...
  |                                                                            
  |                                                                      |   0%
  |                                                                            
  |===                                                                   |   4%
  |                                                                            
  |=====                                                                 |   8%
  |                                                                            
  |========                                                              |  12%
  |                                                                            
  |===========                                                           |  15%
  |                                                                            
  |=============                                                         |  19%
  |                                                                            
  |================                                                      |  23%
  |                                                                            
  |===================                                                   |  27%
  |                                                                            
  |======================                                                |  31%
  |                                                                            
  |========================                                              |  35%
  |                                                                            
  |===========================                                           |  38%
  |                                                                            
  |==============================                                        |  42%
  |                                                                            
  |================================                                      |  46%
  |                                                                            
  |===================================                                   |  50%
  |                                                                            
  |======================================                                |  54%
  |                                                                            
  |========================================                              |  58%
  |                                                                            
  |===========================================                           |  62%
  |                                                                            
  |==============================================                        |  65%
  |                                                                            
  |================================================                      |  69%
  |                                                                            
  |===================================================                   |  73%
  |                                                                            
  |======================================================                |  77%
  |                                                                            
  |=========================================================             |  81%
  |                                                                            
  |===========================================================           |  85%
  |                                                                            
  |==============================================================        |  88%
  |                                                                            
  |=================================================================     |  92%
  |                                                                            
  |===================================================================   |  96%
  |                                                                            
  |======================================================================| 100%
INFO  [2024-03-03 22:07:05]  == Comparisons for all proteins are done.
Starting adjustment...
test_groupComparisonPTM.R.....    3 tests [0;32mOK[0m 
test_groupComparisonPTM.R.....    4 tests [0;32mOK[0m 
test_groupComparisonPTM.R.....    5 tests [0;32mOK[0m 
test_groupComparisonPTM.R.....    6 tests [0;32mOK[0m 
test_groupComparisonPTM.R.....    7 tests [0;32mOK[0m 
test_groupComparisonPTM.R.....    8 tests [0;32mOK[0m 
test_groupComparisonPTM.R.....    9 tests [0;32mOK[0m 
test_groupComparisonPTM.R.....   10 tests [0;32mOK[0m Starting PTM modeling...
INFO  [2024-03-03 22:07:05] Design: 2 mixtures.
INFO  [2024-03-03 22:07:05] Design: 1 MS run per mixture.
INFO  [2024-03-03 22:07:05] Design: group comparison design (Different conditions contains different biological subjects).
INFO  [2024-03-03 22:07:05] Model fitting for 90 proteins.
  |                                                                            
  |                                                                      |   0%
  |                                                                            
  |=                                                                     |   1%
  |                                                                            
  |==                                                                    |   2%
  |                                                                            
  |==                                                                    |   3%
  |                                                                            
  |===                                                                   |   4%
  |                                                                            
  |====                                                                  |   6%
  |                                                                            
  |=====                                                                 |   7%
  |                                                                            
  |=====                                                                 |   8%
  |                                                                            
  |======                                                                |   9%
  |                                                                            
  |=======                                                               |  10%
  |                                                                            
  |========                                                              |  11%
  |                                                                            
  |=========                                                             |  12%
  |                                                                            
  |=========                                                             |  13%
  |                                                                            
  |==========                                                            |  14%
  |                                                                            
  |===========                                                           |  16%
  |                                                                            
  |============                                                          |  17%
  |                                                                            
  |============                                                          |  18%
  |                                                                            
  |=============                                                         |  19%
  |                                                                            
  |==============                                                        |  20%
  |                                                                            
  |===============                                                       |  21%
  |                                                                            
  |================                                                      |  22%
  |                                                                            
  |================                                                      |  23%
  |                                                                            
  |=================                                                     |  24%
  |                                                                            
  |==================                                                    |  26%
  |                                                                            
  |===================                                                   |  27%
  |                                                                            
  |===================                                                   |  28%
  |                                                                            
  |====================                                                  |  29%
  |                                                                            
  |=====================                                                 |  30%
  |                                                                            
  |======================                                                |  31%
  |                                                                            
  |=======================                                               |  32%
  |                                                                            
  |=======================                                               |  33%
  |                                                                            
  |========================                                              |  34%
  |                                                                            
  |=========================                                             |  36%
  |                                                                            
  |==========================                                            |  37%
  |                                                                            
  |==========================                                            |  38%
  |                                                                            
  |===========================                                           |  39%
  |                                                                            
  |============================                                          |  40%
  |                                                                            
  |=============================                                         |  41%
  |                                                                            
  |==============================                                        |  42%
  |                                                                            
  |==============================                                        |  43%
  |                                                                            
  |===============================                                       |  44%
  |                                                                            
  |================================                                      |  46%
  |                                                                            
  |=================================                                     |  47%
  |                                                                            
  |=================================                                     |  48%
  |                                                                            
  |==================================                                    |  49%
  |                                                                            
  |===================================                                   |  50%
  |                                                                            
  |====================================                                  |  51%
  |                                                                            
  |=====================================                                 |  52%
  |                                                                            
  |=====================================                                 |  53%
  |                                                                            
  |======================================                                |  54%
  |                                                                            
  |=======================================                               |  56%
  |                                                                            
  |========================================                              |  57%
  |                                                                            
  |========================================                              |  58%
  |                                                                            
  |=========================================                             |  59%
  |                                                                            
  |==========================================                            |  60%
  |                                                                            
  |===========================================                           |  61%
  |                                                                            
  |============================================                          |  62%
  |                                                                            
  |============================================                          |  63%
  |                                                                            
  |=============================================                         |  64%
  |                                                                            
  |==============================================                        |  66%
  |                                                                            
  |===============================================                       |  67%
  |                                                                            
  |===============================================                       |  68%
  |                                                                            
  |================================================                      |  69%
  |                                                                            
  |=================================================                     |  70%
  |                                                                            
  |==================================================                    |  71%
  |                                                                            
  |===================================================                   |  72%
  |                                                                            
  |===================================================                   |  73%
  |                                                                            
  |====================================================                  |  74%
  |                                                                            
  |=====================================================                 |  76%
  |                                                                            
  |======================================================                |  77%
  |                                                                            
  |======================================================                |  78%
  |                                                                            
  |=======================================================               |  79%
  |                                                                            
  |========================================================              |  80%
  |                                                                            
  |=========================================================             |  81%
  |                                                                            
  |==========================================================            |  82%
  |                                                                            
  |==========================================================            |  83%
  |                                                                            
  |===========================================================           |  84%
  |                                                                            
  |============================================================          |  86%
  |                                                                            
  |=============================================================         |  87%
  |                                                                            
  |=============================================================         |  88%
  |                                                                            
  |==============================================================        |  89%
  |                                                                            
  |===============================================================       |  90%
  |                                                                            
  |================================================================      |  91%
  |                                                                            
  |=================================================================     |  92%
  |                                                                            
  |=================================================================     |  93%
  |                                                                            
  |==================================================================    |  94%
  |                                                                            
  |===================================================================   |  96%
  |                                                                            
  |====================================================================  |  97%
  |                                                                            
  |====================================================================  |  98%
  |                                                                            
  |===================================================================== |  99%
  |                                                                            
  |======================================================================| 100%
INFO  [2024-03-03 22:07:08] Testing for 90 proteins:
  |                                                                            
  |                                                                      |   0%
  |                                                                            
  |=                                                                     |   1%
  |                                                                            
  |==                                                                    |   2%
  |                                                                            
  |==                                                                    |   3%
  |                                                                            
  |===                                                                   |   4%
  |                                                                            
  |====                                                                  |   6%
  |                                                                            
  |=====                                                                 |   7%
  |                                                                            
  |=====                                                                 |   8%
  |                                                                            
  |======                                                                |   9%
  |                                                                            
  |=======                                                               |  10%
  |                                                                            
  |========                                                              |  11%
  |                                                                            
  |=========                                                             |  12%
  |                                                                            
  |=========                                                             |  13%
  |                                                                            
  |==========                                                            |  14%
  |                                                                            
  |===========                                                           |  16%
  |                                                                            
  |============                                                          |  17%
  |                                                                            
  |============                                                          |  18%
  |                                                                            
  |=============                                                         |  19%
  |                                                                            
  |==============                                                        |  20%
  |                                                                            
  |===============                                                       |  21%
  |                                                                            
  |================                                                      |  22%
  |                                                                            
  |================                                                      |  23%
  |                                                                            
  |=================                                                     |  24%
  |                                                                            
  |==================                                                    |  26%
  |                                                                            
  |===================                                                   |  27%
  |                                                                            
  |===================                                                   |  28%
  |                                                                            
  |====================                                                  |  29%
  |                                                                            
  |=====================                                                 |  30%
  |                                                                            
  |======================                                                |  31%
  |                                                                            
  |=======================                                               |  32%
  |                                                                            
  |=======================                                               |  33%
  |                                                                            
  |========================                                              |  34%
  |                                                                            
  |=========================                                             |  36%
  |                                                                            
  |==========================                                            |  37%
  |                                                                            
  |==========================                                            |  38%
  |                                                                            
  |===========================                                           |  39%
  |                                                                            
  |============================                                          |  40%
  |                                                                            
  |=============================                                         |  41%
  |                                                                            
  |==============================                                        |  42%
  |                                                                            
  |==============================                                        |  43%
  |                                                                            
  |===============================                                       |  44%
  |                                                                            
  |================================                                      |  46%
  |                                                                            
  |=================================                                     |  47%
  |                                                                            
  |=================================                                     |  48%
  |                                                                            
  |==================================                                    |  49%
  |                                                                            
  |===================================                                   |  50%
  |                                                                            
  |====================================                                  |  51%
  |                                                                            
  |=====================================                                 |  52%
  |                                                                            
  |=====================================                                 |  53%
  |                                                                            
  |======================================                                |  54%
  |                                                                            
  |=======================================                               |  56%
  |                                                                            
  |========================================                              |  57%
  |                                                                            
  |========================================                              |  58%
  |                                                                            
  |=========================================                             |  59%
  |                                                                            
  |==========================================                            |  60%
  |                                                                            
  |===========================================                           |  61%
  |                                                                            
  |============================================                          |  62%
  |                                                                            
  |============================================                          |  63%
  |                                                                            
  |=============================================                         |  64%
  |                                                                            
  |==============================================                        |  66%
  |                                                                            
  |===============================================                       |  67%
  |                                                                            
  |===============================================                       |  68%
  |                                                                            
  |================================================                      |  69%
  |                                                                            
  |=================================================                     |  70%
  |                                                                            
  |==================================================                    |  71%
  |                                                                            
  |===================================================                   |  72%
  |                                                                            
  |===================================================                   |  73%
  |                                                                            
  |====================================================                  |  74%
  |                                                                            
  |=====================================================                 |  76%
  |                                                                            
  |======================================================                |  77%
  |                                                                            
  |======================================================                |  78%
  |                                                                            
  |=======================================================               |  79%
  |                                                                            
  |========================================================              |  80%
  |                                                                            
  |=========================================================             |  81%
  |                                                                            
  |==========================================================            |  82%
  |                                                                            
  |==========================================================            |  83%
  |                                                                            
  |===========================================================           |  84%
  |                                                                            
  |============================================================          |  86%
  |                                                                            
  |=============================================================         |  87%
  |                                                                            
  |=============================================================         |  88%
  |                                                                            
  |==============================================================        |  89%
  |                                                                            
  |===============================================================       |  90%
  |                                                                            
  |================================================================      |  91%
  |                                                                            
  |=================================================================     |  92%
  |                                                                            
  |=================================================================     |  93%
  |                                                                            
  |==================================================================    |  94%
  |                                                                            
  |===================================================================   |  96%
  |                                                                            
  |====================================================================  |  97%
  |                                                                            
  |====================================================================  |  98%
  |                                                                            
  |===================================================================== |  99%
  |                                                                            
  |======================================================================| 100%
Starting Protein modeling...
INFO  [2024-03-03 22:07:08] Design: 2 mixtures.
INFO  [2024-03-03 22:07:08] Design: 1 MS run per mixture.
INFO  [2024-03-03 22:07:08] Design: group comparison design (Different conditions contains different biological subjects).
INFO  [2024-03-03 22:07:08] Model fitting for 85 proteins.
  |                                                                            
  |                                                                      |   0%
  |                                                                            
  |=                                                                     |   1%
  |                                                                            
  |==                                                                    |   2%
  |                                                                            
  |==                                                                    |   4%
  |                                                                            
  |===                                                                   |   5%
  |                                                                            
  |====                                                                  |   6%
  |                                                                            
  |=====                                                                 |   7%
  |                                                                            
  |======                                                                |   8%
  |                                                                            
  |=======                                                               |   9%
  |                                                                            
  |=======                                                               |  11%
  |                                                                            
  |========                                                              |  12%
  |                                                                            
  |=========                                                             |  13%
  |                                                                            
  |==========                                                            |  14%
  |                                                                            
  |===========                                                           |  15%
  |                                                                            
  |============                                                          |  16%
  |                                                                            
  |============                                                          |  18%
  |                                                                            
  |=============                                                         |  19%
  |                                                                            
  |==============                                                        |  20%
  |                                                                            
  |===============                                                       |  21%
  |                                                                            
  |================                                                      |  22%
  |                                                                            
  |================                                                      |  24%
  |                                                                            
  |=================                                                     |  25%
  |                                                                            
  |==================                                                    |  26%
  |                                                                            
  |===================                                                   |  27%
  |                                                                            
  |====================                                                  |  28%
  |                                                                            
  |=====================                                                 |  29%
  |                                                                            
  |=====================                                                 |  31%
  |                                                                            
  |======================                                                |  32%
  |                                                                            
  |=======================                                               |  33%
  |                                                                            
  |========================                                              |  34%
  |                                                                            
  |=========================                                             |  35%
  |                                                                            
  |==========================                                            |  36%
  |                                                                            
  |==========================                                            |  38%
  |                                                                            
  |===========================                                           |  39%
  |                                                                            
  |============================                                          |  40%
  |                                                                            
  |=============================                                         |  41%
  |                                                                            
  |==============================                                        |  42%
  |                                                                            
  |==============================                                        |  44%
  |                                                                            
  |===============================                                       |  45%
  |                                                                            
  |================================                                      |  46%
  |                                                                            
  |=================================                                     |  47%
  |                                                                            
  |==================================                                    |  48%
  |                                                                            
  |===================================                                   |  49%
  |                                                                            
  |===================================                                   |  51%
  |                                                                            
  |====================================                                  |  52%
  |                                                                            
  |=====================================                                 |  53%
  |                                                                            
  |======================================                                |  54%
  |                                                                            
  |=======================================                               |  55%
  |                                                                            
  |========================================                              |  56%
  |                                                                            
  |========================================                              |  58%
  |                                                                            
  |=========================================                             |  59%
  |                                                                            
  |==========================================                            |  60%
  |                                                                            
  |===========================================                           |  61%
  |                                                                            
  |============================================                          |  62%
  |                                                                            
  |============================================                          |  64%
  |                                                                            
  |=============================================                         |  65%
  |                                                                            
  |==============================================                        |  66%
  |                                                                            
  |===============================================                       |  67%
  |                                                                            
  |================================================                      |  68%
  |                                                                            
  |=================================================                     |  69%
  |                                                                            
  |=================================================                     |  71%
  |                                                                            
  |==================================================                    |  72%
  |                                                                            
  |===================================================                   |  73%
  |                                                                            
  |====================================================                  |  74%
  |                                                                            
  |=====================================================                 |  75%
  |                                                                            
  |======================================================                |  76%
  |                                                                            
  |======================================================                |  78%
  |                                                                            
  |=======================================================               |  79%
  |                                                                            
  |========================================================              |  80%
  |                                                                            
  |=========================================================             |  81%
  |                                                                            
  |==========================================================            |  82%
  |                                                                            
  |==========================================================            |  84%
  |                                                                            
  |===========================================================           |  85%
  |                                                                            
  |============================================================          |  86%
  |                                                                            
  |=============================================================         |  87%
  |                                                                            
  |==============================================================        |  88%
  |                                                                            
  |===============================================================       |  89%
  |                                                                            
  |===============================================================       |  91%
  |                                                                            
  |================================================================      |  92%
  |                                                                            
  |=================================================================     |  93%
  |                                                                            
  |==================================================================    |  94%
  |                                                                            
  |===================================================================   |  95%
  |                                                                            
  |====================================================================  |  96%
  |                                                                            
  |====================================================================  |  98%
  |                                                                            
  |===================================================================== |  99%
  |                                                                            
  |======================================================================| 100%
INFO  [2024-03-03 22:07:14] Testing for 85 proteins:
  |                                                                            
  |                                                                      |   0%
  |                                                                            
  |=                                                                     |   1%
  |                                                                            
  |==                                                                    |   2%
  |                                                                            
  |==                                                                    |   4%
  |                                                                            
  |===                                                                   |   5%
  |                                                                            
  |====                                                                  |   6%
  |                                                                            
  |=====                                                                 |   7%
  |                                                                            
  |======                                                                |   8%
  |                                                                            
  |=======                                                               |   9%
  |                                                                            
  |=======                                                               |  11%
  |                                                                            
  |========                                                              |  12%
  |                                                                            
  |=========                                                             |  13%
  |                                                                            
  |==========                                                            |  14%
  |                                                                            
  |===========                                                           |  15%
  |                                                                            
  |============                                                          |  16%
  |                                                                            
  |============                                                          |  18%
  |                                                                            
  |=============                                                         |  19%
  |                                                                            
  |==============                                                        |  20%
  |                                                                            
  |===============                                                       |  21%
  |                                                                            
  |================                                                      |  22%
  |                                                                            
  |================                                                      |  24%
  |                                                                            
  |=================                                                     |  25%
  |                                                                            
  |==================                                                    |  26%
  |                                                                            
  |===================                                                   |  27%
  |                                                                            
  |====================                                                  |  28%
  |                                                                            
  |=====================                                                 |  29%
  |                                                                            
  |=====================                                                 |  31%
  |                                                                            
  |======================                                                |  32%
  |                                                                            
  |=======================                                               |  33%
  |                                                                            
  |========================                                              |  34%
  |                                                                            
  |=========================                                             |  35%
  |                                                                            
  |==========================                                            |  36%
  |                                                                            
  |==========================                                            |  38%
  |                                                                            
  |===========================                                           |  39%
  |                                                                            
  |============================                                          |  40%
  |                                                                            
  |=============================                                         |  41%
  |                                                                            
  |==============================                                        |  42%
  |                                                                            
  |==============================                                        |  44%
  |                                                                            
  |===============================                                       |  45%
  |                                                                            
  |================================                                      |  46%
  |                                                                            
  |=================================                                     |  47%
  |                                                                            
  |==================================                                    |  48%
  |                                                                            
  |===================================                                   |  49%
  |                                                                            
  |===================================                                   |  51%
  |                                                                            
  |====================================                                  |  52%
  |                                                                            
  |=====================================                                 |  53%
  |                                                                            
  |======================================                                |  54%
  |                                                                            
  |=======================================                               |  55%
  |                                                                            
  |========================================                              |  56%
  |                                                                            
  |========================================                              |  58%
  |                                                                            
  |=========================================                             |  59%
  |                                                                            
  |==========================================                            |  60%
  |                                                                            
  |===========================================                           |  61%
  |                                                                            
  |============================================                          |  62%
  |                                                                            
  |============================================                          |  64%
  |                                                                            
  |=============================================                         |  65%
  |                                                                            
  |==============================================                        |  66%
  |                                                                            
  |===============================================                       |  67%
  |                                                                            
  |================================================                      |  68%
  |                                                                            
  |=================================================                     |  69%
  |                                                                            
  |=================================================                     |  71%
  |                                                                            
  |==================================================                    |  72%
  |                                                                            
  |===================================================                   |  73%
  |                                                                            
  |====================================================                  |  74%
  |                                                                            
  |=====================================================                 |  75%
  |                                                                            
  |======================================================                |  76%
  |                                                                            
  |======================================================                |  78%
  |                                                                            
  |=======================================================               |  79%
  |                                                                            
  |========================================================              |  80%
  |                                                                            
  |=========================================================             |  81%
  |                                                                            
  |==========================================================            |  82%
  |                                                                            
  |==========================================================            |  84%
  |                                                                            
  |===========================================================           |  85%
  |                                                                            
  |============================================================          |  86%
  |                                                                            
  |=============================================================         |  87%
  |                                                                            
  |==============================================================        |  88%
  |                                                                            
  |===============================================================       |  89%
  |                                                                            
  |===============================================================       |  91%
  |                                                                            
  |================================================================      |  92%
  |                                                                            
  |=================================================================     |  93%
  |                                                                            
  |==================================================================    |  94%
  |                                                                            
  |===================================================================   |  95%
  |                                                                            
  |====================================================================  |  96%
  |                                                                            
  |====================================================================  |  98%
  |                                                                            
  |===================================================================== |  99%
  |                                                                            
  |======================================================================| 100%
Starting adjustment...
test_groupComparisonPTM.R.....   10 tests [0;32mOK[0m 
test_groupComparisonPTM.R.....   11 tests [0;32mOK[0m 
test_groupComparisonPTM.R.....   12 tests [0;32mOK[0m 
test_groupComparisonPTM.R.....   13 tests [0;32mOK[0m 
test_groupComparisonPTM.R.....   14 tests [0;32mOK[0m 
test_groupComparisonPTM.R.....   15 tests [0;32mOK[0m 
test_groupComparisonPTM.R.....   16 tests [0;32mOK[0m 
test_groupComparisonPTM.R.....   17 tests [0;32mOK[0m [0;34m19.2s[0m
All ok, 101 results (29.4s)
There were 50 or more warnings (use warnings() to see the first 50)
> 
> proc.time()
   user  system elapsed 
 35.449   1.201  37.107 
MSstatsPTM.Rcheck/MSstatsPTM-Ex.timings
| name | user | system | elapsed | |
| DIANNtoMSstatsPTMFormat | 0 | 0 | 0 | |
| FragPipetoMSstatsPTMFormat | 0.535 | 0.038 | 0.581 | |
| MSstatsPTMSiteLocator | 0.000 | 0.000 | 0.001 | |
| MaxQtoMSstatsPTMFormat | 0.865 | 0.039 | 0.915 | |
| PDtoMSstatsPTMFormat | 0.838 | 0.064 | 0.912 | |
| PStoMSstatsPTMFormat | 0.076 | 0.002 | 0.079 | |
| ProgenesistoMSstatsPTMFormat | 0.062 | 0.001 | 0.063 | |
| SkylinetoMSstatsPTMFormat | 0.063 | 0.002 | 0.065 | |
| SpectronauttoMSstatsPTMFormat | 0.740 | 0.036 | 0.785 | |
| annotSite | 0.000 | 0.000 | 0.001 | |
| dataProcessPlotsPTM | 2.588 | 0.035 | 2.641 | |
| dataSummarizationPTM | 2.403 | 0.061 | 2.479 | |
| dataSummarizationPTM_TMT | 4.804 | 0.117 | 4.943 | |
| designSampleSizePTM | 4.725 | 0.074 | 4.829 | |
| fragpipe_annotation | 0.002 | 0.001 | 0.002 | |
| fragpipe_annotation_protein | 0.001 | 0.001 | 0.002 | |
| fragpipe_input | 0.006 | 0.002 | 0.007 | |
| fragpipe_input_protein | 0.006 | 0.002 | 0.007 | |
| groupComparisonPTM | 4.543 | 0.063 | 4.645 | |
| groupComparisonPlotsPTM | 13.661 | 0.172 | 13.961 | |
| locateMod | 0.001 | 0.000 | 0.000 | |
| locatePTM | 0.019 | 0.003 | 0.024 | |
| maxq_lf_annotation | 0.001 | 0.001 | 0.003 | |
| maxq_lf_evidence | 0.011 | 0.005 | 0.022 | |
| maxq_tmt_annotation | 0.002 | 0.001 | 0.003 | |
| maxq_tmt_evidence | 0.016 | 0.009 | 0.025 | |
| pd_annotation | 0.001 | 0.000 | 0.002 | |
| pd_psm_input | 0.012 | 0.006 | 0.034 | |
| pd_testing_output | 0.173 | 0.321 | 0.624 | |
| raw.input | 0.068 | 0.000 | 0.068 | |
| raw.input.tmt | 0.006 | 0.004 | 0.010 | |
| spectronaut_annotation | 0.002 | 0.002 | 0.004 | |
| spectronaut_input | 0.006 | 0.004 | 0.010 | |
| summary.data | 0.363 | 0.902 | 1.468 | |
| summary.data.tmt | 0.658 | 1.539 | 2.441 | |
| tidyFasta | 0.011 | 0.002 | 0.013 | |