| Back to Multiple platform build/check report for BioC 3.18: simplified long | 
 | 
This page was generated on 2024-04-17 11:37:54 -0400 (Wed, 17 Apr 2024).
| Hostname | OS | Arch (*) | R version | Installed pkgs | 
|---|---|---|---|---|
| nebbiolo2 | Linux (Ubuntu 22.04.3 LTS) | x86_64 | 4.3.3 (2024-02-29) -- "Angel Food Cake" | 4676 | 
| palomino4 | Windows Server 2022 Datacenter | x64 | 4.3.3 (2024-02-29 ucrt) -- "Angel Food Cake" | 4414 | 
| merida1 | macOS 12.7.1 Monterey | x86_64 | 4.3.3 (2024-02-29) -- "Angel Food Cake" | 4437 | 
| Click on any hostname to see more info about the system (e.g. compilers) (*) as reported by 'uname -p', except on Windows and Mac OS X | ||||
| Package 1166/2266 | Hostname | OS / Arch | INSTALL | BUILD | CHECK | BUILD BIN | ||||||||
| MBECS 1.6.0  (landing page) Michael Olbrich 
 | nebbiolo2 | Linux (Ubuntu 22.04.3 LTS) / x86_64 | OK | OK | OK |  | ||||||||
| palomino4 | Windows Server 2022 Datacenter / x64 | OK | OK | OK | OK |  | ||||||||
| merida1 | macOS 12.7.1 Monterey / x86_64 | OK | OK | OK | OK |  | ||||||||
| kjohnson1 | macOS 13.6.1 Ventura / arm64 | see weekly results here | ||||||||||||
| To the developers/maintainers of the MBECS package: - Allow up to 24 hours (and sometimes 48 hours) for your latest push to git@git.bioconductor.org:packages/MBECS.git to reflect on this report. See Troubleshooting Build Report for more information. - Use the following Renviron settings to reproduce errors and warnings. - If 'R CMD check' started to fail recently on the Linux builder(s) over a missing dependency, add the missing dependency to 'Suggests:' in your DESCRIPTION file. See Renviron.bioc for more information. | 
| Package: MBECS | 
| Version: 1.6.0 | 
| Command: /Library/Frameworks/R.framework/Resources/bin/R CMD check --install=check:MBECS.install-out.txt --library=/Library/Frameworks/R.framework/Resources/library --no-vignettes --timings MBECS_1.6.0.tar.gz | 
| StartedAt: 2024-04-16 04:53:57 -0400 (Tue, 16 Apr 2024) | 
| EndedAt: 2024-04-16 05:02:42 -0400 (Tue, 16 Apr 2024) | 
| EllapsedTime: 525.8 seconds | 
| RetCode: 0 | 
| Status: OK | 
| CheckDir: MBECS.Rcheck | 
| Warnings: 0 | 
##############################################################################
##############################################################################
###
### Running command:
###
###   /Library/Frameworks/R.framework/Resources/bin/R CMD check --install=check:MBECS.install-out.txt --library=/Library/Frameworks/R.framework/Resources/library --no-vignettes --timings MBECS_1.6.0.tar.gz
###
##############################################################################
##############################################################################
* using log directory ‘/Users/biocbuild/bbs-3.18-bioc/meat/MBECS.Rcheck’
* using R version 4.3.3 (2024-02-29)
* using platform: x86_64-apple-darwin20 (64-bit)
* R was compiled by
    Apple clang version 14.0.0 (clang-1400.0.29.202)
    GNU Fortran (GCC) 12.2.0
* running under: macOS Monterey 12.7.1
* using session charset: UTF-8
* using option ‘--no-vignettes’
* checking for file ‘MBECS/DESCRIPTION’ ... OK
* this is package ‘MBECS’ version ‘1.6.0’
* package encoding: UTF-8
* checking package namespace information ... OK
* checking package dependencies ... OK
* checking if this is a source package ... OK
* checking if there is a namespace ... OK
* checking for hidden files and directories ... OK
* checking for portable file names ... OK
* checking for sufficient/correct file permissions ... OK
* checking whether package ‘MBECS’ can be installed ... OK
* checking installed package size ... OK
* checking package directory ... OK
* checking ‘build’ directory ... OK
* checking DESCRIPTION meta-information ... OK
* checking top-level files ... OK
* checking for left-over files ... OK
* checking index information ... OK
* checking package subdirectories ... OK
* checking R files for non-ASCII characters ... OK
* checking R files for syntax errors ... OK
* checking whether the package can be loaded ... OK
* checking whether the package can be loaded with stated dependencies ... OK
* checking whether the package can be unloaded cleanly ... OK
* checking whether the namespace can be loaded with stated dependencies ... OK
* checking whether the namespace can be unloaded cleanly ... OK
* checking dependencies in R code ... OK
* checking S3 generic/method consistency ... OK
* checking replacement functions ... OK
* checking foreign function calls ... OK
* checking R code for possible problems ... OK
* checking Rd files ... OK
* checking Rd metadata ... OK
* checking Rd cross-references ... OK
* checking for missing documentation entries ... OK
* checking for code/documentation mismatches ... OK
* checking Rd \usage sections ... OK
* checking Rd contents ... OK
* checking for unstated dependencies in examples ... OK
* checking contents of ‘data’ directory ... OK
* checking data for non-ASCII characters ... OK
* checking data for ASCII and uncompressed saves ... OK
* checking files in ‘vignettes’ ... OK
* checking examples ... OK
Examples with CPU (user + system) or elapsed time > 5s
                        user system elapsed
mbecModelVariance     11.198  0.075  11.894
mbecCorrection        10.000  0.303  10.746
mbecVarianceStatsPlot  8.955  0.045   9.159
mbecReportPost         6.756  0.071   7.093
mbecBox                6.126  0.098   6.534
* checking for unstated dependencies in ‘tests’ ... OK
* checking tests ...
  Running ‘testthat.R’
 OK
* checking for unstated dependencies in vignettes ... OK
* checking package vignettes in ‘inst/doc’ ... OK
* checking running R code from vignettes ... SKIPPED
* checking re-building of vignette outputs ... SKIPPED
* checking PDF version of manual ... OK
* DONE
Status: OK
MBECS.Rcheck/00install.out
############################################################################## ############################################################################## ### ### Running command: ### ### /Library/Frameworks/R.framework/Resources/bin/R CMD INSTALL MBECS ### ############################################################################## ############################################################################## * installing to library ‘/Library/Frameworks/R.framework/Versions/4.3-x86_64/Resources/library’ * installing *source* package ‘MBECS’ ... ** using staged installation ** R ** data ** inst ** byte-compile and prepare package for lazy loading ** help *** installing help indices ** building package indices ** installing vignettes ** testing if installed package can be loaded from temporary location ** testing if installed package can be loaded from final location ** testing if installed package keeps a record of temporary installation path * DONE (MBECS)
MBECS.Rcheck/tests/testthat.Rout
R version 4.3.3 (2024-02-29) -- "Angel Food Cake"
Copyright (C) 2024 The R Foundation for Statistical Computing
Platform: x86_64-apple-darwin20 (64-bit)
R is free software and comes with ABSOLUTELY NO WARRANTY.
You are welcome to redistribute it under certain conditions.
Type 'license()' or 'licence()' for distribution details.
R is a collaborative project with many contributors.
Type 'contributors()' for more information and
'citation()' on how to cite R or R packages in publications.
Type 'demo()' for some demos, 'help()' for on-line help, or
'help.start()' for an HTML browser interface to help.
Type 'q()' to quit R.
> library(testthat)
> library(MBECS)
> 
> test_check("MBECS")
Set tss-transformed counts.
Found zeros, function will add a small pseudo-count
                (1/#features) for log-ratio transformation.
Set tss-transformed counts.
Found zeros, function will add a small pseudo-count
                (1/#features) for log-ratio transformation.
Set tss-transformed counts.
Found zeros, function will add a small pseudo-count
                (1/#features) for log-ratio transformation.
Set tss-transformed counts.
Found zeros, function will add a small pseudo-count
                (1/#features) for log-ratio transformation.
Set tss-transformed counts.
Found zeros, function will add a small pseudo-count
                (1/#features) for log-ratio transformation.
No negative control features provided.
                Using pseudo-negative controls.
Applying Remove Unwanted Variantion v3 (RUV-III).
No 'sID' column present, creating from rownames now.
No 'sID' column present, creating from rownames now.
Set tss-transformed counts.
No 'sID' column present, creating from rownames now.
Set tss-transformed counts.
Construct lm-formula from covariates.
Construct lm-formula from covariates.
There is a problem with the estimatibility of your model.
            Check out covariate: 'sIDS40'
Found zeros, function will add a small pseudo-count
                (1/#features) for log-ratio transformation.
Set tss-transformed counts.
Found zeros, function will add a small pseudo-count
                (1/#features) for log-ratio transformation.
Set tss-transformed counts.
Found zeros, function will add a small pseudo-count
                (1/#features) for log-ratio transformation.
Set tss-transformed counts.
Found zeros, function will add a small pseudo-count
                (1/#features) for log-ratio transformation.
Calculating RLE for group: A
Calculating RLE for group: B
Fitting linear model to every feature and extract proportion of
          variance explained by covariates.
Construct formula from covariates.
  |                                                                                      
  |                                                                                |   0%
  |                                                                                      
  |====                                                                            |   5%
  |                                                                                      
  |========                                                                        |  10%
  |                                                                                      
  |============                                                                    |  15%
  |                                                                                      
  |================                                                                |  20%
  |                                                                                      
  |====================                                                            |  25%
  |                                                                                      
  |========================                                                        |  30%
  |                                                                                      
  |============================                                                    |  35%
  |                                                                                      
  |================================                                                |  40%
  |                                                                                      
  |====================================                                            |  45%
  |                                                                                      
  |========================================                                        |  50%
  |                                                                                      
  |============================================                                    |  55%
  |                                                                                      
  |================================================                                |  60%
  |                                                                                      
  |====================================================                            |  65%
  |                                                                                      
  |========================================================                        |  70%
  |                                                                                      
  |============================================================                    |  75%
  |                                                                                      
  |================================================================                |  80%
  |                                                                                      
  |====================================================================            |  85%
  |                                                                                      
  |========================================================================        |  90%
  |                                                                                      
  |============================================================================    |  95%
  |                                                                                      
  |================================================================================| 100%
Fitting linear-mixed model to every feature and extract proportion
            of variance explained by covariates.
Construct formula from covariates.
  |                                                                                      
  |                                                                                |   0%boundary (singular) fit: see help('isSingular')
  |                                                                                      
  |====                                                                            |   5%boundary (singular) fit: see help('isSingular')
  |                                                                                      
  |========                                                                        |  10%
  |                                                                                      
  |============                                                                    |  15%boundary (singular) fit: see help('isSingular')
  |                                                                                      
  |================                                                                |  20%
  |                                                                                      
  |====================                                                            |  25%
  |                                                                                      
  |========================                                                        |  30%boundary (singular) fit: see help('isSingular')
  |                                                                                      
  |============================                                                    |  35%
  |                                                                                      
  |================================                                                |  40%
  |                                                                                      
  |====================================                                            |  45%boundary (singular) fit: see help('isSingular')
  |                                                                                      
  |========================================                                        |  50%boundary (singular) fit: see help('isSingular')
  |                                                                                      
  |============================================                                    |  55%boundary (singular) fit: see help('isSingular')
  |                                                                                      
  |================================================                                |  60%boundary (singular) fit: see help('isSingular')
  |                                                                                      
  |====================================================                            |  65%boundary (singular) fit: see help('isSingular')
  |                                                                                      
  |========================================================                        |  70%boundary (singular) fit: see help('isSingular')
  |                                                                                      
  |============================================================                    |  75%boundary (singular) fit: see help('isSingular')
  |                                                                                      
  |================================================================                |  80%boundary (singular) fit: see help('isSingular')
  |                                                                                      
  |====================================================================            |  85%
  |                                                                                      
  |========================================================================        |  90%boundary (singular) fit: see help('isSingular')
  |                                                                                      
  |============================================================================    |  95%boundary (singular) fit: see help('isSingular')
  |                                                                                      
  |================================================================================| 100%
  |                                                                                      
  |                                                                                |   0%
  |                                                                                      
  |========================================                                        |  50%
  |                                                                                      
  |================================================================================| 100%
boundary (singular) fit: see help('isSingular')
boundary (singular) fit: see help('isSingular')
boundary (singular) fit: see help('isSingular')
boundary (singular) fit: see help('isSingular')
boundary (singular) fit: see help('isSingular')
boundary (singular) fit: see help('isSingular')
[1] "batch"
[1] "group"
Set tss-transformed counts.
Found zeros, function will add a small pseudo-count
                (1/#features) for log-ratio transformation.
Applying ComBat (sva) for batch-correction.
Found2batches
Adjusting for1covariate(s) or covariate level(s)
Standardizing Data across genes
Fitting L/S model and finding priors
Finding nonparametric adjustments
Adjusting the Data
[ FAIL 0 | WARN 101 | SKIP 0 | PASS 282 ]
[ FAIL 0 | WARN 101 | SKIP 0 | PASS 282 ]
> 
> proc.time()
   user  system elapsed 
129.668   2.829 139.607 
MBECS.Rcheck/MBECS-Ex.timings
| name | user | system | elapsed | |
| MbecData | 0.202 | 0.011 | 0.223 | |
| colinScore | 0.712 | 0.075 | 0.794 | |
| dot-mbecGetData | 0.055 | 0.007 | 0.063 | |
| dot-mbecGetPhyloseq | 0.075 | 0.006 | 0.082 | |
| dot-mbecSetData | 0.082 | 0.007 | 0.093 | |
| dummy.list | 0.009 | 0.003 | 0.012 | |
| dummy.mbec | 0.040 | 0.004 | 0.044 | |
| dummy.ps | 0.008 | 0.003 | 0.010 | |
| mbecBox | 6.126 | 0.098 | 6.534 | |
| mbecBoxPlot | 4.614 | 0.022 | 4.781 | |
| mbecCorrection | 10.000 | 0.303 | 10.746 | |
| mbecDummy | 0.358 | 0.007 | 0.401 | |
| mbecGetData-MbecData-method | 0.054 | 0.007 | 0.073 | |
| mbecGetData | 0.050 | 0.006 | 0.061 | |
| mbecGetPhyloseq-MbecData-method | 0.081 | 0.008 | 0.096 | |
| mbecGetPhyloseq | 0.072 | 0.004 | 0.078 | |
| mbecHeat | 0.365 | 0.017 | 0.414 | |
| mbecHeatPlot | 0.381 | 0.014 | 0.404 | |
| mbecHelpFactor | 0.009 | 0.004 | 0.012 | |
| mbecLM | 2.036 | 0.047 | 2.227 | |
| mbecMixedVariance | 0.132 | 0.011 | 0.148 | |
| mbecModelVariance | 11.198 | 0.075 | 11.894 | |
| mbecMosaic | 1.816 | 0.015 | 1.912 | |
| mbecMosaicPlot | 1.666 | 0.017 | 1.728 | |
| mbecPCA-MbecData-method | 1.851 | 0.020 | 1.955 | |
| mbecPCA | 1.832 | 0.019 | 1.924 | |
| mbecPCAPlot | 1.649 | 0.021 | 1.751 | |
| mbecPVCAStatsPlot | 2.166 | 0.018 | 2.267 | |
| mbecProcessInput-MbecData-method | 0.039 | 0.005 | 0.046 | |
| mbecProcessInput-list-method | 0.041 | 0.006 | 0.049 | |
| mbecProcessInput-phyloseq-method | 0.056 | 0.003 | 0.061 | |
| mbecProcessInput | 0.040 | 0.004 | 0.045 | |
| mbecRDAStatsPlot | 0.180 | 0.007 | 0.194 | |
| mbecRLE | 0.509 | 0.010 | 0.558 | |
| mbecRLEPlot | 0.430 | 0.020 | 0.461 | |
| mbecReportPost | 6.756 | 0.071 | 7.093 | |
| mbecReportPrelim | 3.365 | 0.022 | 3.477 | |
| mbecRunCorrections | 4.343 | 0.059 | 4.576 | |
| mbecSCOEFStatsPlot | 0.112 | 0.007 | 0.120 | |
| mbecSetData-MbecData-method | 0.083 | 0.009 | 0.092 | |
| mbecSetData | 0.081 | 0.007 | 0.090 | |
| mbecTestModel | 0.052 | 0.004 | 0.058 | |
| mbecTransform | 0.413 | 0.012 | 0.430 | |
| mbecValidateModel | 0.059 | 0.004 | 0.073 | |
| mbecVarianceStats | 0.026 | 0.004 | 0.033 | |
| mbecVarianceStatsPlot | 8.955 | 0.045 | 9.159 | |
| percentileNorm | 4.750 | 0.039 | 4.993 | |
| poscore | 0.000 | 0.001 | 0.000 | |