| Back to Multiple platform build/check report for BioC 3.18: simplified long |
|
This page was generated on 2024-04-17 11:36:04 -0400 (Wed, 17 Apr 2024).
| Hostname | OS | Arch (*) | R version | Installed pkgs |
|---|---|---|---|---|
| nebbiolo2 | Linux (Ubuntu 22.04.3 LTS) | x86_64 | 4.3.3 (2024-02-29) -- "Angel Food Cake" | 4676 |
| palomino4 | Windows Server 2022 Datacenter | x64 | 4.3.3 (2024-02-29 ucrt) -- "Angel Food Cake" | 4414 |
| merida1 | macOS 12.7.1 Monterey | x86_64 | 4.3.3 (2024-02-29) -- "Angel Food Cake" | 4437 |
| Click on any hostname to see more info about the system (e.g. compilers) (*) as reported by 'uname -p', except on Windows and Mac OS X | ||||
| Package 1073/2266 | Hostname | OS / Arch | INSTALL | BUILD | CHECK | BUILD BIN | ||||||||
| KBoost 1.10.0 (landing page) Luis F. Iglesias-Martinez
| nebbiolo2 | Linux (Ubuntu 22.04.3 LTS) / x86_64 | OK | OK | OK | |||||||||
| palomino4 | Windows Server 2022 Datacenter / x64 | OK | OK | OK | OK | |||||||||
| merida1 | macOS 12.7.1 Monterey / x86_64 | OK | OK | OK | OK | |||||||||
| kjohnson1 | macOS 13.6.1 Ventura / arm64 | see weekly results here | ||||||||||||
|
To the developers/maintainers of the KBoost package: - Allow up to 24 hours (and sometimes 48 hours) for your latest push to git@git.bioconductor.org:packages/KBoost.git to reflect on this report. See Troubleshooting Build Report for more information. - Use the following Renviron settings to reproduce errors and warnings. - If 'R CMD check' started to fail recently on the Linux builder(s) over a missing dependency, add the missing dependency to 'Suggests:' in your DESCRIPTION file. See Renviron.bioc for more information. |
| Package: KBoost |
| Version: 1.10.0 |
| Command: /home/biocbuild/bbs-3.18-bioc/R/bin/R CMD check --install=check:KBoost.install-out.txt --library=/home/biocbuild/bbs-3.18-bioc/R/site-library --timings KBoost_1.10.0.tar.gz |
| StartedAt: 2024-04-16 00:13:16 -0400 (Tue, 16 Apr 2024) |
| EndedAt: 2024-04-16 00:13:50 -0400 (Tue, 16 Apr 2024) |
| EllapsedTime: 34.4 seconds |
| RetCode: 0 |
| Status: OK |
| CheckDir: KBoost.Rcheck |
| Warnings: 0 |
##############################################################################
##############################################################################
###
### Running command:
###
### /home/biocbuild/bbs-3.18-bioc/R/bin/R CMD check --install=check:KBoost.install-out.txt --library=/home/biocbuild/bbs-3.18-bioc/R/site-library --timings KBoost_1.10.0.tar.gz
###
##############################################################################
##############################################################################
* using log directory ‘/home/biocbuild/bbs-3.18-bioc/meat/KBoost.Rcheck’
* using R version 4.3.3 (2024-02-29)
* using platform: x86_64-pc-linux-gnu (64-bit)
* R was compiled by
gcc (Ubuntu 11.4.0-1ubuntu1~22.04) 11.4.0
GNU Fortran (Ubuntu 11.4.0-1ubuntu1~22.04) 11.4.0
* running under: Ubuntu 22.04.4 LTS
* using session charset: UTF-8
* checking for file ‘KBoost/DESCRIPTION’ ... OK
* checking extension type ... Package
* this is package ‘KBoost’ version ‘1.10.0’
* package encoding: UTF-8
* checking package namespace information ... OK
* checking package dependencies ... OK
* checking if this is a source package ... OK
* checking if there is a namespace ... OK
* checking for hidden files and directories ... OK
* checking for portable file names ... OK
* checking for sufficient/correct file permissions ... OK
* checking whether package ‘KBoost’ can be installed ... OK
* checking installed package size ... OK
* checking package directory ... OK
* checking ‘build’ directory ... OK
* checking DESCRIPTION meta-information ... OK
* checking top-level files ... OK
* checking for left-over files ... OK
* checking index information ... OK
* checking package subdirectories ... NOTE
Problems with news in ‘NEWS.md’:
No news entries found.
* checking R files for non-ASCII characters ... OK
* checking R files for syntax errors ... OK
* checking whether the package can be loaded ... OK
* checking whether the package can be loaded with stated dependencies ... OK
* checking whether the package can be unloaded cleanly ... OK
* checking whether the namespace can be loaded with stated dependencies ... OK
* checking whether the namespace can be unloaded cleanly ... OK
* checking loading without being on the library search path ... OK
* checking dependencies in R code ... OK
* checking S3 generic/method consistency ... OK
* checking replacement functions ... OK
* checking foreign function calls ... OK
* checking R code for possible problems ... NOTE
check_input: no visible global function definition for ‘is’
net_summary_bin: no visible global function definition for ‘is’
Undefined global functions or variables:
is
Consider adding
importFrom("methods", "is")
to your NAMESPACE file (and ensure that your DESCRIPTION Imports field
contains 'methods').
* checking Rd files ... OK
* checking Rd metadata ... OK
* checking Rd cross-references ... OK
* checking for missing documentation entries ... OK
* checking for code/documentation mismatches ... OK
* checking Rd \usage sections ... OK
* checking Rd contents ... OK
* checking for unstated dependencies in examples ... OK
* checking contents of ‘data’ directory ... OK
* checking data for non-ASCII characters ... OK
* checking LazyData ... OK
* checking data for ASCII and uncompressed saves ... OK
* checking files in ‘vignettes’ ... OK
* checking examples ... OK
Examples with CPU (user + system) or elapsed time > 5s
user system elapsed
d4_mfac 5.746 0.004 5.749
* checking for unstated dependencies in ‘tests’ ... OK
* checking tests ...
Running ‘testthat.R’
OK
* checking for unstated dependencies in vignettes ... OK
* checking package vignettes in ‘inst/doc’ ... OK
* checking running R code from vignettes ...
‘KBoost.Rmd’ using ‘UTF-8’... OK
OK
* checking re-building of vignette outputs ... OK
* checking PDF version of manual ... OK
* DONE
Status: 2 NOTEs
See
‘/home/biocbuild/bbs-3.18-bioc/meat/KBoost.Rcheck/00check.log’
for details.
KBoost.Rcheck/00install.out
############################################################################## ############################################################################## ### ### Running command: ### ### /home/biocbuild/bbs-3.18-bioc/R/bin/R CMD INSTALL KBoost ### ############################################################################## ############################################################################## * installing to library ‘/home/biocbuild/bbs-3.18-bioc/R/site-library’ * installing *source* package ‘KBoost’ ... ** using staged installation ** R ** data *** moving datasets to lazyload DB ** byte-compile and prepare package for lazy loading ** help *** installing help indices ** building package indices ** installing vignettes ** testing if installed package can be loaded from temporary location ** testing if installed package can be loaded from final location ** testing if installed package keeps a record of temporary installation path * DONE (KBoost)
KBoost.Rcheck/tests/testthat.Rout
R version 4.3.3 (2024-02-29) -- "Angel Food Cake"
Copyright (C) 2024 The R Foundation for Statistical Computing
Platform: x86_64-pc-linux-gnu (64-bit)
R is free software and comes with ABSOLUTELY NO WARRANTY.
You are welcome to redistribute it under certain conditions.
Type 'license()' or 'licence()' for distribution details.
R is a collaborative project with many contributors.
Type 'contributors()' for more information and
'citation()' on how to cite R or R packages in publications.
Type 'demo()' for some demos, 'help()' for on-line help, or
'help.start()' for an HTML browser interface to help.
Type 'q()' to quit R.
> library(testthat)
> library(KBoost)
>
> test_check("KBoost")
[ FAIL 0 | WARN 0 | SKIP 0 | PASS 7 ]
>
> proc.time()
user system elapsed
0.673 0.049 0.711
KBoost.Rcheck/KBoost-Ex.timings
| name | user | system | elapsed | |
| AUPR_AUROC_matrix | 1.197 | 0.052 | 1.250 | |
| D4_multi_1 | 0.001 | 0.000 | 0.001 | |
| D4_multi_2 | 0.001 | 0.000 | 0.001 | |
| D4_multi_3 | 0.000 | 0.000 | 0.001 | |
| D4_multi_4 | 0.000 | 0.000 | 0.001 | |
| D4_multi_5 | 0.000 | 0.000 | 0.001 | |
| G_D4_multi_1 | 0.000 | 0.000 | 0.001 | |
| G_D4_multi_2 | 0.001 | 0.000 | 0.000 | |
| G_D4_multi_3 | 0.001 | 0.000 | 0.000 | |
| G_D4_multi_4 | 0.001 | 0.000 | 0.000 | |
| G_D4_multi_5 | 0.001 | 0.000 | 0.000 | |
| Gerstein_Prior_ENET_2 | 0.001 | 0.000 | 0.000 | |
| Human_TFs | 0 | 0 | 0 | |
| IRMA_Gold | 0.000 | 0.001 | 0.001 | |
| KBoost_human_symbol | 0.016 | 0.003 | 0.018 | |
| KPC | 0.000 | 0.003 | 0.003 | |
| RBF_K | 0 | 0 | 0 | |
| add_names | 0.500 | 0.001 | 0.500 | |
| d4_mfac | 5.746 | 0.004 | 5.749 | |
| get_prior_Gerstein | 0.002 | 0.000 | 0.003 | |
| get_tfs_human | 0.000 | 0.000 | 0.001 | |
| grid_search_kboost | 0.13 | 0.00 | 0.13 | |
| irma_check | 0.011 | 0.000 | 0.011 | |
| irma_off | 0.001 | 0.000 | 0.001 | |
| irma_on | 0.000 | 0.000 | 0.001 | |
| kboost | 0.470 | 0.011 | 0.481 | |
| kernel_normal | 0.000 | 0.000 | 0.001 | |
| kernel_pc_boosting | 0.331 | 0.007 | 0.340 | |
| net_dist_bin | 0.489 | 0.000 | 0.489 | |
| net_refine | 0.003 | 0.000 | 0.003 | |
| net_summary_bin | 0.512 | 0.000 | 0.512 | |
| tab_2_matrix_D4 | 0.001 | 0.000 | 0.000 | |
| write_GRN_D4 | 0.626 | 0.168 | 0.794 | |