Back to Multiple platform build/check report for BioC 3.18: simplified long |
|
This page was generated on 2023-11-02 11:40:50 -0400 (Thu, 02 Nov 2023).
Hostname | OS | Arch (*) | R version | Installed pkgs |
---|---|---|---|---|
nebbiolo2 | Linux (Ubuntu 22.04.2 LTS) | x86_64 | 4.3.1 (2023-06-16) -- "Beagle Scouts" | 4729 |
palomino4 | Windows Server 2022 Datacenter | x64 | 4.3.1 (2023-06-16 ucrt) -- "Beagle Scouts" | 4463 |
lconway | macOS 12.6.5 Monterey | x86_64 | 4.3.1 Patched (2023-06-17 r84564) -- "Beagle Scouts" | 4478 |
kunpeng2 | Linux (openEuler 22.03 LTS-SP1) | aarch64 | 4.3.1 (2023-06-16) -- "Beagle Scouts" | 4464 |
Click on any hostname to see more info about the system (e.g. compilers) (*) as reported by 'uname -p', except on Windows and Mac OS X |
Package 1037/2266 | Hostname | OS / Arch | INSTALL | BUILD | CHECK | BUILD BIN | ||||||||
InterMineR 1.24.0 (landing page) InterMine Team
| nebbiolo2 | Linux (Ubuntu 22.04.2 LTS) / x86_64 | OK | OK | ERROR | |||||||||
palomino4 | Windows Server 2022 Datacenter / x64 | OK | OK | ERROR | OK | |||||||||
lconway | macOS 12.6.5 Monterey / x86_64 | OK | OK | ERROR | OK | |||||||||
kjohnson1 | macOS 13.6.1 Ventura / arm64 | see weekly results here | ||||||||||||
kunpeng2 | Linux (openEuler 22.03 LTS-SP1) / aarch64 | OK | OK | ERROR | ||||||||||
To the developers/maintainers of the InterMineR package: - Allow up to 24 hours (and sometimes 48 hours) for your latest push to git@git.bioconductor.org:packages/InterMineR.git to reflect on this report. See Troubleshooting Build Report for more information. - Use the following Renviron settings to reproduce errors and warnings. - If 'R CMD check' started to fail recently on the Linux builder(s) over a missing dependency, add the missing dependency to 'Suggests:' in your DESCRIPTION file. See Renviron.bioc for more information. - See Martin Grigorov's blog post for how to debug Linux ARM64 related issues on a x86_64 host. |
Package: InterMineR |
Version: 1.24.0 |
Command: /home/biocbuild/R/R-4.3.1/bin/R CMD build --keep-empty-dirs --no-resave-data InterMineR |
StartedAt: 2023-11-02 02:24:58 -0000 (Thu, 02 Nov 2023) |
EndedAt: 2023-11-02 02:26:37 -0000 (Thu, 02 Nov 2023) |
EllapsedTime: 98.1 seconds |
RetCode: 0 |
Status: OK |
PackageFile: InterMineR_1.24.0.tar.gz |
PackageFileSize: 4.94 MiB |
############################################################################## ############################################################################## ### ### Running command: ### ### /home/biocbuild/R/R-4.3.1/bin/R CMD build --keep-empty-dirs --no-resave-data InterMineR ### ############################################################################## ############################################################################## * checking for file ‘InterMineR/DESCRIPTION’ ... OK * preparing ‘InterMineR’: * checking DESCRIPTION meta-information ... OK Warning: ListManager-methods.Rd:41: unexpected section header '\arguments' Warning: ListManager-methods.Rd:42: unknown macro '\item' Warning: ListManager-methods.Rd:50: unexpected section header '\arguments' Warning: ListManager-methods.Rd:51: unknown macro '\item' Warning: ListManager-methods.Rd:59: unexpected section header '\arguments' Warning: ListManager-methods.Rd:60: unknown macro '\item' Warning: ListManager-methods.Rd:63: unknown macro '\item' Warning: ListManager-methods.Rd:66: unknown macro '\item' Warning: ListManager-methods.Rd:69: unknown macro '\item' Warning: ListManager-methods.Rd:72: unknown macro '\item' Warning: ListManager-methods.Rd:80: unexpected section header '\arguments' Warning: ListManager-methods.Rd:81: unknown macro '\item' Warning: ListManager-methods.Rd:84: unknown macro '\item' Warning: ListManager-methods.Rd:87: unknown macro '\item' Warning: ListManager-methods.Rd:90: unknown macro '\item' Warning: ListManager-methods.Rd:98: unexpected section header '\arguments' Warning: ListManager-methods.Rd:99: unknown macro '\item' Warning: ListManager-methods.Rd:102: unknown macro '\item' Warning: ListManager-methods.Rd:105: unknown macro '\item' Warning: ListManager-methods.Rd:108: unknown macro '\item' Warning: ListManager-methods.Rd:116: unexpected section header '\arguments' Warning: ListManager-methods.Rd:117: unknown macro '\item' Warning: ListManager-methods.Rd:120: unknown macro '\item' Warning: ListManager-methods.Rd:123: unknown macro '\item' Warning: ListManager-methods.Rd:126: unknown macro '\item' Warning: ListManager-methods.Rd:134: unexpected section header '\arguments' Warning: ListManager-methods.Rd:135: unknown macro '\item' Warning: ListManager-methods.Rd:138: unknown macro '\item' Warning: ListManager-methods.Rd:141: unknown macro '\item' Warning: ListManager-methods.Rd:144: unknown macro '\item' Warning: ListManager-methods.Rd:147: unknown macro '\item' * installing the package to build vignettes * creating vignettes ... OK * checking for LF line-endings in source and make files and shell scripts * checking for empty or unneeded directories * building ‘InterMineR_1.24.0.tar.gz’