| Back to Multiple platform build/check report for BioC 3.18: simplified long |
|
This page was generated on 2023-11-07 11:35:51 -0500 (Tue, 07 Nov 2023).
| Hostname | OS | Arch (*) | R version | Installed pkgs |
|---|---|---|---|---|
| nebbiolo2 | Linux (Ubuntu 22.04.2 LTS) | x86_64 | 4.3.2 (2023-10-31) -- "Eye Holes" | 4443 |
| palomino4 | Windows Server 2022 Datacenter | x64 | 4.3.2 (2023-10-31 ucrt) -- "Eye Holes" | 4393 |
| lconway | macOS 12.6.5 Monterey | x86_64 | 4.3.2 Patched (2023-11-01 r85457) -- "Eye Holes" | 4411 |
| Click on any hostname to see more info about the system (e.g. compilers) (*) as reported by 'uname -p', except on Windows and Mac OS X | ||||
| Package 1014/2266 | Hostname | OS / Arch | INSTALL | BUILD | CHECK | BUILD BIN | ||||||||
| ImmuneSpaceR 1.30.0 (landing page) ImmuneSpace Package Maintainer
| nebbiolo2 | Linux (Ubuntu 22.04.2 LTS) / x86_64 | OK | OK | OK | |||||||||
| palomino4 | Windows Server 2022 Datacenter / x64 | OK | OK | OK | OK | |||||||||
| lconway | macOS 12.6.5 Monterey / x86_64 | OK | OK | OK | OK | |||||||||
| kjohnson1 | macOS 13.6.1 Ventura / arm64 | see weekly results here | ||||||||||||
|
To the developers/maintainers of the ImmuneSpaceR package: - Allow up to 24 hours (and sometimes 48 hours) for your latest push to git@git.bioconductor.org:packages/ImmuneSpaceR.git to reflect on this report. See Troubleshooting Build Report for more information. - Use the following Renviron settings to reproduce errors and warnings. - If 'R CMD check' started to fail recently on the Linux builder(s) over a missing dependency, add the missing dependency to 'Suggests:' in your DESCRIPTION file. See Renviron.bioc for more information. |
| Package: ImmuneSpaceR |
| Version: 1.30.0 |
| Command: /home/biocbuild/bbs-3.18-bioc/R/bin/R CMD check --install=check:ImmuneSpaceR.install-out.txt --library=/home/biocbuild/bbs-3.18-bioc/R/site-library --timings ImmuneSpaceR_1.30.0.tar.gz |
| StartedAt: 2023-11-06 22:21:41 -0500 (Mon, 06 Nov 2023) |
| EndedAt: 2023-11-06 22:25:59 -0500 (Mon, 06 Nov 2023) |
| EllapsedTime: 257.6 seconds |
| RetCode: 0 |
| Status: OK |
| CheckDir: ImmuneSpaceR.Rcheck |
| Warnings: 0 |
##############################################################################
##############################################################################
###
### Running command:
###
### /home/biocbuild/bbs-3.18-bioc/R/bin/R CMD check --install=check:ImmuneSpaceR.install-out.txt --library=/home/biocbuild/bbs-3.18-bioc/R/site-library --timings ImmuneSpaceR_1.30.0.tar.gz
###
##############################################################################
##############################################################################
* using log directory ‘/home/biocbuild/bbs-3.18-bioc/meat/ImmuneSpaceR.Rcheck’
* using R version 4.3.2 (2023-10-31)
* using platform: x86_64-pc-linux-gnu (64-bit)
* R was compiled by
gcc (Ubuntu 11.4.0-1ubuntu1~22.04) 11.4.0
GNU Fortran (Ubuntu 11.4.0-1ubuntu1~22.04) 11.4.0
* running under: Ubuntu 22.04.3 LTS
* using session charset: UTF-8
* checking for file ‘ImmuneSpaceR/DESCRIPTION’ ... OK
* checking extension type ... Package
* this is package ‘ImmuneSpaceR’ version ‘1.30.0’
* package encoding: UTF-8
* checking package namespace information ... OK
* checking package dependencies ... OK
* checking if this is a source package ... OK
* checking if there is a namespace ... OK
* checking for hidden files and directories ... OK
* checking for portable file names ... OK
* checking for sufficient/correct file permissions ... OK
* checking whether package ‘ImmuneSpaceR’ can be installed ... OK
* checking installed package size ... OK
* checking package directory ... OK
* checking ‘build’ directory ... OK
* checking DESCRIPTION meta-information ... OK
* checking top-level files ... OK
* checking for left-over files ... OK
* checking index information ... OK
* checking package subdirectories ... OK
* checking R files for non-ASCII characters ... OK
* checking R files for syntax errors ... OK
* checking whether the package can be loaded ... OK
* checking whether the package can be loaded with stated dependencies ... OK
* checking whether the package can be unloaded cleanly ... OK
* checking whether the namespace can be loaded with stated dependencies ... OK
* checking whether the namespace can be unloaded cleanly ... OK
* checking loading without being on the library search path ... OK
* checking startup messages can be suppressed ... OK
* checking dependencies in R code ... NOTE
':::' call which should be '::': ‘Rlabkey:::labkey.getRequestOptions’
See the note in ?`:::` about the use of this operator.
Unexported object imported by a ':::' call: ‘Rlabkey:::.lkdefaults’
See the note in ?`:::` about the use of this operator.
* checking S3 generic/method consistency ... OK
* checking replacement functions ... OK
* checking foreign function calls ... OK
* checking R code for possible problems ... OK
* checking Rd files ... OK
* checking Rd metadata ... OK
* checking Rd cross-references ... OK
* checking for missing documentation entries ... OK
* checking for code/documentation mismatches ... OK
* checking Rd \usage sections ... OK
* checking Rd contents ... OK
* checking for unstated dependencies in examples ... OK
* checking files in ‘vignettes’ ... OK
* checking examples ... OK
* checking for unstated dependencies in ‘tests’ ... OK
* checking tests ...
Running ‘testthat.R’
OK
* checking for unstated dependencies in vignettes ... OK
* checking package vignettes in ‘inst/doc’ ... OK
* checking running R code from vignettes ...
‘Intro_to_ImmuneSpaceR.Rmd’ using ‘UTF-8’... OK
‘getDataset.Rmd’ using ‘UTF-8’... OK
‘getGEMatrix.Rmd’ using ‘UTF-8’... OK
‘interactiveNetrc.Rmd’ using ‘UTF-8’... OK
‘report_SDY144.Rmd’ using ‘UTF-8’... OK
‘report_SDY180.Rmd’ using ‘UTF-8’... OK
‘report_SDY269.Rmd’ using ‘UTF-8’... OK
NONE
* checking re-building of vignette outputs ... OK
* checking PDF version of manual ... OK
* DONE
Status: 1 NOTE
See
‘/home/biocbuild/bbs-3.18-bioc/meat/ImmuneSpaceR.Rcheck/00check.log’
for details.
ImmuneSpaceR.Rcheck/00install.out
############################################################################## ############################################################################## ### ### Running command: ### ### /home/biocbuild/bbs-3.18-bioc/R/bin/R CMD INSTALL ImmuneSpaceR ### ############################################################################## ############################################################################## * installing to library ‘/home/biocbuild/bbs-3.18-bioc/R/site-library’ * installing *source* package ‘ImmuneSpaceR’ ... ** using staged installation ** R ** inst ** byte-compile and prepare package for lazy loading ** help *** installing help indices *** copying figures ** building package indices ** installing vignettes ** testing if installed package can be loaded from temporary location ** testing if installed package can be loaded from final location ** testing if installed package keeps a record of temporary installation path * DONE (ImmuneSpaceR)
ImmuneSpaceR.Rcheck/tests/testthat.Rout
R version 4.3.2 (2023-10-31) -- "Eye Holes"
Copyright (C) 2023 The R Foundation for Statistical Computing
Platform: x86_64-pc-linux-gnu (64-bit)
R is free software and comes with ABSOLUTELY NO WARRANTY.
You are welcome to redistribute it under certain conditions.
Type 'license()' or 'licence()' for distribution details.
R is a collaborative project with many contributors.
Type 'contributors()' for more information and
'citation()' on how to cite R or R packages in publications.
Type 'demo()' for some demos, 'help()' for on-line help, or
'help.start()' for an HTML browser interface to help.
Type 'q()' to quit R.
> library(testthat)
> library(ImmuneSpaceR)
>
> if (Sys.info()["user"] != "biocbuild") test_check("ImmuneSpaceR")
>
> proc.time()
user system elapsed
3.506 0.187 3.682
ImmuneSpaceR.Rcheck/ImmuneSpaceR-Ex.timings
| name | user | system | elapsed | |
| CreateConnection | 0.089 | 0.004 | 0.514 | |
| ISpalette | 0.009 | 0.000 | 0.009 | |
| ImmuneSpaceConnection | 0.016 | 0.004 | 0.090 | |
| check_netrc | 0.001 | 0.000 | 0.001 | |
| interactive_netrc | 0 | 0 | 0 | |
| loadConnection | 0.069 | 0.000 | 0.070 | |
| template_IS | 0.015 | 0.004 | 0.028 | |
| theme_IS | 0.574 | 0.176 | 0.751 | |
| write_netrc | 0.001 | 0.000 | 0.000 | |