Back to Multiple platform build/check report for BioC 3.18:   simplified   long
ABCDEFGH[I]JKLMNOPQRSTUVWXYZ

This page was generated on 2023-11-02 11:40:49 -0400 (Thu, 02 Nov 2023).

HostnameOSArch (*)R versionInstalled pkgs
nebbiolo2Linux (Ubuntu 22.04.2 LTS)x86_644.3.1 (2023-06-16) -- "Beagle Scouts" 4729
palomino4Windows Server 2022 Datacenterx644.3.1 (2023-06-16 ucrt) -- "Beagle Scouts" 4463
lconwaymacOS 12.6.5 Montereyx86_644.3.1 Patched (2023-06-17 r84564) -- "Beagle Scouts" 4478
kunpeng2Linux (openEuler 22.03 LTS-SP1)aarch644.3.1 (2023-06-16) -- "Beagle Scouts" 4464
Click on any hostname to see more info about the system (e.g. compilers)      (*) as reported by 'uname -p', except on Windows and Mac OS X

Package 1017/2266HostnameOS / ArchINSTALLBUILDCHECKBUILD BIN
IMPCdata 1.38.0  (landing page)
Jeremy Mason
Snapshot Date: 2023-11-01 14:05:06 -0400 (Wed, 01 Nov 2023)
git_url: https://git.bioconductor.org/packages/IMPCdata
git_branch: RELEASE_3_18
git_last_commit: 8fa0d84
git_last_commit_date: 2023-10-24 10:39:50 -0400 (Tue, 24 Oct 2023)
nebbiolo2Linux (Ubuntu 22.04.2 LTS) / x86_64  OK    OK    OK  UNNEEDED, same version is already published
palomino4Windows Server 2022 Datacenter / x64  OK    OK    OK    OK  UNNEEDED, same version is already published
lconwaymacOS 12.6.5 Monterey / x86_64  OK    OK    OK    OK  UNNEEDED, same version is already published
kjohnson1macOS 13.6.1 Ventura / arm64see weekly results here
kunpeng2Linux (openEuler 22.03 LTS-SP1) / aarch64  OK    OK    OK  

CHECK results for IMPCdata on kunpeng2


To the developers/maintainers of the IMPCdata package:
- Allow up to 24 hours (and sometimes 48 hours) for your latest push to git@git.bioconductor.org:packages/IMPCdata.git to reflect on this report. See Troubleshooting Build Report for more information.
- Use the following Renviron settings to reproduce errors and warnings.
- If 'R CMD check' started to fail recently on the Linux builder(s) over a missing dependency, add the missing dependency to 'Suggests:' in your DESCRIPTION file. See Renviron.bioc for more information.
- See Martin Grigorov's blog post for how to debug Linux ARM64 related issues on a x86_64 host.

raw results


Summary

Package: IMPCdata
Version: 1.38.0
Command: /home/biocbuild/R/R-4.3.1/bin/R CMD check --install=check:IMPCdata.install-out.txt --library=/home/biocbuild/R/R-4.3.1/site-library --no-vignettes --timings IMPCdata_1.38.0.tar.gz
StartedAt: 2023-11-02 11:25:33 -0000 (Thu, 02 Nov 2023)
EndedAt: 2023-11-02 11:28:04 -0000 (Thu, 02 Nov 2023)
EllapsedTime: 151.3 seconds
RetCode: 0
Status:   OK  
CheckDir: IMPCdata.Rcheck
Warnings: 0

Command output

##############################################################################
##############################################################################
###
### Running command:
###
###   /home/biocbuild/R/R-4.3.1/bin/R CMD check --install=check:IMPCdata.install-out.txt --library=/home/biocbuild/R/R-4.3.1/site-library --no-vignettes --timings IMPCdata_1.38.0.tar.gz
###
##############################################################################
##############################################################################


* using log directory ‘/home/biocbuild/bbs-3.18-bioc/meat/IMPCdata.Rcheck’
* using R version 4.3.1 (2023-06-16)
* using platform: aarch64-unknown-linux-gnu (64-bit)
* R was compiled by
    gcc (GCC) 10.3.1
    GNU Fortran (GCC) 10.3.1
* running under: openEuler 22.03 (LTS-SP1)
* using session charset: UTF-8
* using option ‘--no-vignettes’
* checking for file ‘IMPCdata/DESCRIPTION’ ... OK
* checking extension type ... Package
* this is package ‘IMPCdata’ version ‘1.38.0’
* checking package namespace information ... OK
* checking package dependencies ... OK
* checking if this is a source package ... OK
* checking if there is a namespace ... OK
* checking for hidden files and directories ... OK
* checking for portable file names ... OK
* checking for sufficient/correct file permissions ... OK
* checking whether package ‘IMPCdata’ can be installed ... OK
* checking installed package size ... OK
* checking package directory ... OK
* checking ‘build’ directory ... OK
* checking DESCRIPTION meta-information ... OK
* checking top-level files ... OK
* checking for left-over files ... OK
* checking index information ... OK
* checking package subdirectories ... OK
* checking R files for non-ASCII characters ... OK
* checking R files for syntax errors ... OK
* checking whether the package can be loaded ... OK
* checking whether the package can be loaded with stated dependencies ... OK
* checking whether the package can be unloaded cleanly ... OK
* checking whether the namespace can be loaded with stated dependencies ... OK
* checking whether the namespace can be unloaded cleanly ... OK
* checking loading without being on the library search path ... OK
* checking dependencies in R code ... OK
* checking S3 generic/method consistency ... OK
* checking replacement functions ... OK
* checking foreign function calls ... OK
* checking R code for possible problems ... OK
* checking Rd files ... OK
* checking Rd metadata ... OK
* checking Rd cross-references ... OK
* checking for missing documentation entries ... OK
* checking for code/documentation mismatches ... OK
* checking Rd \usage sections ... OK
* checking Rd contents ... OK
* checking for unstated dependencies in examples ... OK
* checking files in ‘vignettes’ ... OK
* checking examples ... OK
Examples with CPU (user + system) or elapsed time > 5s
                  user system elapsed
getPhenCenters   0.190  0.006  24.763
getIMPCDataset   0.155  0.006   6.589
getAlleles       0.092  0.008   7.447
getParameters    0.091  0.004   6.828
getProcedures    0.091  0.000   9.236
getPipelines     0.079  0.011   9.015
getGenes         0.076  0.011   7.125
printGenes       0.078  0.008   6.584
printPipelines   0.077  0.008   8.930
printProcedures  0.077  0.008   9.803
printParameters  0.084  0.000   6.983
printAlleles     0.072  0.012   6.596
getIMPCTable     0.055  0.003   5.062
printPhenCenters 0.025  0.003   7.275
* checking for unstated dependencies in vignettes ... OK
* checking package vignettes in ‘inst/doc’ ... OK
* checking running R code from vignettes ... SKIPPED
* checking re-building of vignette outputs ... SKIPPED
* checking PDF version of manual ... OK
* DONE

Status: OK


Installation output

IMPCdata.Rcheck/00install.out

##############################################################################
##############################################################################
###
### Running command:
###
###   /home/biocbuild/R/R-4.3.1/bin/R CMD INSTALL IMPCdata
###
##############################################################################
##############################################################################


* installing to library ‘/home/biocbuild/R/R-4.3.1/site-library’
* installing *source* package ‘IMPCdata’ ...
** using staged installation
** R
** inst
** byte-compile and prepare package for lazy loading
** help
*** installing help indices
** building package indices
** installing vignettes
** testing if installed package can be loaded from temporary location
** testing if installed package can be loaded from final location
** testing if installed package keeps a record of temporary installation path
* DONE (IMPCdata)

Tests output


Example timings

IMPCdata.Rcheck/IMPCdata-Ex.timings

nameusersystemelapsed
getAlleles0.0920.0087.447
getGenes0.0760.0117.125
getIMPCDataset0.1550.0066.589
getIMPCTable0.0550.0035.062
getName0.0100.0031.746
getParameters0.0910.0046.828
getPhenCenters 0.190 0.00624.763
getPipelines0.0790.0119.015
getProcedures0.0910.0009.236
getStrains0.0490.0004.892
getZygosities0.0170.0001.095
printAlleles0.0720.0126.596
printGenes0.0780.0086.584
printParameters0.0840.0006.983
printPhenCenters0.0250.0037.275
printPipelines0.0770.0088.930
printProcedures0.0770.0089.803
printStrains0.0430.0004.962