Back to Multiple platform build/check report for BioC 3.18: simplified long |
|
This page was generated on 2024-04-17 11:36:01 -0400 (Wed, 17 Apr 2024).
Hostname | OS | Arch (*) | R version | Installed pkgs |
---|---|---|---|---|
nebbiolo2 | Linux (Ubuntu 22.04.3 LTS) | x86_64 | 4.3.3 (2024-02-29) -- "Angel Food Cake" | 4676 |
palomino4 | Windows Server 2022 Datacenter | x64 | 4.3.3 (2024-02-29 ucrt) -- "Angel Food Cake" | 4414 |
merida1 | macOS 12.7.1 Monterey | x86_64 | 4.3.3 (2024-02-29) -- "Angel Food Cake" | 4437 |
Click on any hostname to see more info about the system (e.g. compilers) (*) as reported by 'uname -p', except on Windows and Mac OS X |
Package 923/2266 | Hostname | OS / Arch | INSTALL | BUILD | CHECK | BUILD BIN | ||||||||
Gviz 1.46.1 (landing page) Robert Ivanek
| nebbiolo2 | Linux (Ubuntu 22.04.3 LTS) / x86_64 | OK | OK | OK | ![]() | ||||||||
palomino4 | Windows Server 2022 Datacenter / x64 | OK | OK | OK | OK | ![]() | ||||||||
merida1 | macOS 12.7.1 Monterey / x86_64 | OK | OK | OK | OK | ![]() | ||||||||
kjohnson1 | macOS 13.6.1 Ventura / arm64 | see weekly results here | ||||||||||||
To the developers/maintainers of the Gviz package: - Allow up to 24 hours (and sometimes 48 hours) for your latest push to git@git.bioconductor.org:packages/Gviz.git to reflect on this report. See Troubleshooting Build Report for more information. - Use the following Renviron settings to reproduce errors and warnings. - If 'R CMD check' started to fail recently on the Linux builder(s) over a missing dependency, add the missing dependency to 'Suggests:' in your DESCRIPTION file. See Renviron.bioc for more information. |
Package: Gviz |
Version: 1.46.1 |
Command: /home/biocbuild/bbs-3.18-bioc/R/bin/R CMD check --install=check:Gviz.install-out.txt --library=/home/biocbuild/bbs-3.18-bioc/R/site-library --timings Gviz_1.46.1.tar.gz |
StartedAt: 2024-04-15 23:36:16 -0400 (Mon, 15 Apr 2024) |
EndedAt: 2024-04-15 23:48:55 -0400 (Mon, 15 Apr 2024) |
EllapsedTime: 759.4 seconds |
RetCode: 0 |
Status: OK |
CheckDir: Gviz.Rcheck |
Warnings: 0 |
############################################################################## ############################################################################## ### ### Running command: ### ### /home/biocbuild/bbs-3.18-bioc/R/bin/R CMD check --install=check:Gviz.install-out.txt --library=/home/biocbuild/bbs-3.18-bioc/R/site-library --timings Gviz_1.46.1.tar.gz ### ############################################################################## ############################################################################## * using log directory ‘/home/biocbuild/bbs-3.18-bioc/meat/Gviz.Rcheck’ * using R version 4.3.3 (2024-02-29) * using platform: x86_64-pc-linux-gnu (64-bit) * R was compiled by gcc (Ubuntu 11.4.0-1ubuntu1~22.04) 11.4.0 GNU Fortran (Ubuntu 11.4.0-1ubuntu1~22.04) 11.4.0 * running under: Ubuntu 22.04.4 LTS * using session charset: UTF-8 * checking for file ‘Gviz/DESCRIPTION’ ... OK * this is package ‘Gviz’ version ‘1.46.1’ * package encoding: UTF-8 * checking package namespace information ... OK * checking package dependencies ... OK * checking if this is a source package ... OK * checking if there is a namespace ... OK * checking for hidden files and directories ... OK * checking for portable file names ... OK * checking for sufficient/correct file permissions ... OK * checking whether package ‘Gviz’ can be installed ... OK * checking installed package size ... NOTE installed size is 5.1Mb sub-directories of 1Mb or more: R 1.7Mb extdata 2.5Mb * checking package directory ... OK * checking ‘build’ directory ... OK * checking DESCRIPTION meta-information ... OK * checking top-level files ... OK * checking for left-over files ... OK * checking index information ... OK * checking package subdirectories ... OK * checking R files for non-ASCII characters ... OK * checking R files for syntax errors ... OK * checking whether the package can be loaded ... OK * checking whether the package can be loaded with stated dependencies ... OK * checking whether the package can be unloaded cleanly ... OK * checking whether the namespace can be loaded with stated dependencies ... OK * checking whether the namespace can be unloaded cleanly ... OK * checking loading without being on the library search path ... OK * checking startup messages can be suppressed ... OK * checking dependencies in R code ... OK * checking S3 generic/method consistency ... OK * checking replacement functions ... OK * checking foreign function calls ... OK * checking R code for possible problems ... OK * checking Rd files ... OK * checking Rd metadata ... OK * checking Rd cross-references ... OK * checking for missing documentation entries ... OK * checking for code/documentation mismatches ... OK * checking Rd \usage sections ... OK * checking Rd contents ... OK * checking for unstated dependencies in examples ... OK * checking contents of ‘data’ directory ... OK * checking data for non-ASCII characters ... OK * checking data for ASCII and uncompressed saves ... OK * checking files in ‘vignettes’ ... OK * checking examples ... OK Examples with CPU (user + system) or elapsed time > 5s user system elapsed AlignmentsTrack-class 11.491 1.191 12.685 AnnotationTrack-class 7.523 0.288 7.811 GeneRegionTrack-class 6.254 0.052 6.306 * checking for unstated dependencies in ‘tests’ ... OK * checking tests ... Running ‘testthat.R’ OK * checking for unstated dependencies in vignettes ... OK * checking package vignettes in ‘inst/doc’ ... OK * checking running R code from vignettes ... ‘Gviz.Rmd’ using ‘UTF-8’... OK OK * checking re-building of vignette outputs ... OK * checking PDF version of manual ... OK * DONE Status: 1 NOTE See ‘/home/biocbuild/bbs-3.18-bioc/meat/Gviz.Rcheck/00check.log’ for details.
Gviz.Rcheck/00install.out
############################################################################## ############################################################################## ### ### Running command: ### ### /home/biocbuild/bbs-3.18-bioc/R/bin/R CMD INSTALL Gviz ### ############################################################################## ############################################################################## * installing to library ‘/home/biocbuild/bbs-3.18-bioc/R/site-library’ * installing *source* package ‘Gviz’ ... ** using staged installation ** R ** data ** inst ** byte-compile and prepare package for lazy loading ** help *** installing help indices ** building package indices ** installing vignettes ** testing if installed package can be loaded from temporary location ** testing if installed package can be loaded from final location ** testing if installed package keeps a record of temporary installation path * DONE (Gviz)
Gviz.Rcheck/tests/testthat.Rout
R version 4.3.3 (2024-02-29) -- "Angel Food Cake" Copyright (C) 2024 The R Foundation for Statistical Computing Platform: x86_64-pc-linux-gnu (64-bit) R is free software and comes with ABSOLUTELY NO WARRANTY. You are welcome to redistribute it under certain conditions. Type 'license()' or 'licence()' for distribution details. R is a collaborative project with many contributors. Type 'contributors()' for more information and 'citation()' on how to cite R or R packages in publications. Type 'demo()' for some demos, 'help()' for on-line help, or 'help.start()' for an HTML browser interface to help. Type 'q()' to quit R. > library(testthat) > library(Gviz) Loading required package: S4Vectors Loading required package: stats4 Loading required package: BiocGenerics Attaching package: 'BiocGenerics' The following objects are masked from 'package:stats': IQR, mad, sd, var, xtabs The following objects are masked from 'package:base': Filter, Find, Map, Position, Reduce, anyDuplicated, aperm, append, as.data.frame, basename, cbind, colnames, dirname, do.call, duplicated, eval, evalq, get, grep, grepl, intersect, is.unsorted, lapply, mapply, match, mget, order, paste, pmax, pmax.int, pmin, pmin.int, rank, rbind, rownames, sapply, setdiff, sort, table, tapply, union, unique, unsplit, which.max, which.min Attaching package: 'S4Vectors' The following object is masked from 'package:utils': findMatches The following objects are masked from 'package:base': I, expand.grid, unname Loading required package: IRanges Loading required package: GenomicRanges Loading required package: GenomeInfoDb Loading required package: grid > > test_check("Gviz") Loading required package: BSgenome Loading required package: Biostrings Loading required package: XVector Attaching package: 'Biostrings' The following object is masked from 'package:grid': pattern The following object is masked from 'package:base': strsplit Loading required package: BiocIO Loading required package: rtracklayer Attaching package: 'rtracklayer' The following object is masked from 'package:BiocIO': FileForFormat [ FAIL 0 | WARN 0 | SKIP 1 | PASS 293 ] ══ Skipped tests (1) ═══════════════════════════════════════════════════════════ • Biomart not available (1): 'test_AllClasses.R:174:5' [ FAIL 0 | WARN 0 | SKIP 1 | PASS 293 ] > > proc.time() user system elapsed 45.152 5.421 50.617
Gviz.Rcheck/Gviz-Ex.timings
name | user | system | elapsed | |
AlignmentsTrack-class | 11.491 | 1.191 | 12.685 | |
AnnotationTrack-class | 7.523 | 0.288 | 7.811 | |
BiomartGeneRegionTrack-class | 4.559 | 0.110 | 4.669 | |
CustomTrack-class | 0.005 | 0.001 | 0.007 | |
DataTrack-class | 2.126 | 0.012 | 2.139 | |
DisplayPars-class | 0.017 | 0.000 | 0.017 | |
GdObject-class | 0.461 | 0.008 | 0.469 | |
GeneRegionTrack-class | 6.254 | 0.052 | 6.306 | |
GenomeAxisTrack-class | 4.034 | 0.140 | 4.174 | |
HighlightTrack-class | 0.171 | 0.004 | 0.175 | |
IdeogramTrack-class | 1.398 | 0.020 | 1.418 | |
ImageMap-class | 0 | 0 | 0 | |
OverlayTrack-class | 0.046 | 0.000 | 0.045 | |
RangeTrack-class | 0.459 | 0.000 | 0.458 | |
ReferenceTrack-class | 1.998 | 0.240 | 2.237 | |
SequenceTrack-class | 3.471 | 0.596 | 4.066 | |
StackedTrack-class | 0.881 | 0.012 | 0.894 | |
UcscTrack | 0.895 | 0.004 | 0.900 | |
exportTracks | 0.084 | 0.000 | 0.084 | |
plotTracks | 4.77 | 0.14 | 4.91 | |
settings | 0.775 | 0.036 | 0.810 | |