| Back to Multiple platform build/check report for BioC 3.18: simplified long |
|
This page was generated on 2023-11-02 11:40:46 -0400 (Thu, 02 Nov 2023).
| Hostname | OS | Arch (*) | R version | Installed pkgs |
|---|---|---|---|---|
| nebbiolo2 | Linux (Ubuntu 22.04.2 LTS) | x86_64 | 4.3.1 (2023-06-16) -- "Beagle Scouts" | 4729 |
| palomino4 | Windows Server 2022 Datacenter | x64 | 4.3.1 (2023-06-16 ucrt) -- "Beagle Scouts" | 4463 |
| lconway | macOS 12.6.5 Monterey | x86_64 | 4.3.1 Patched (2023-06-17 r84564) -- "Beagle Scouts" | 4478 |
| kunpeng2 | Linux (openEuler 22.03 LTS-SP1) | aarch64 | 4.3.1 (2023-06-16) -- "Beagle Scouts" | 4464 |
| Click on any hostname to see more info about the system (e.g. compilers) (*) as reported by 'uname -p', except on Windows and Mac OS X | ||||
| Package 898/2266 | Hostname | OS / Arch | INSTALL | BUILD | CHECK | BUILD BIN | ||||||||
| GraphAlignment 1.66.0 (landing page) Joern P. Meier
| nebbiolo2 | Linux (Ubuntu 22.04.2 LTS) / x86_64 | OK | OK | WARNINGS | |||||||||
| palomino4 | Windows Server 2022 Datacenter / x64 | OK | OK | OK | OK | |||||||||
| lconway | macOS 12.6.5 Monterey / x86_64 | OK | OK | OK | OK | |||||||||
| kjohnson1 | macOS 13.6.1 Ventura / arm64 | see weekly results here | ||||||||||||
| kunpeng2 | Linux (openEuler 22.03 LTS-SP1) / aarch64 | OK | OK | OK | ||||||||||
|
To the developers/maintainers of the GraphAlignment package: - Allow up to 24 hours (and sometimes 48 hours) for your latest push to git@git.bioconductor.org:packages/GraphAlignment.git to reflect on this report. See Troubleshooting Build Report for more information. - Use the following Renviron settings to reproduce errors and warnings. - If 'R CMD check' started to fail recently on the Linux builder(s) over a missing dependency, add the missing dependency to 'Suggests:' in your DESCRIPTION file. See Renviron.bioc for more information. - See Martin Grigorov's blog post for how to debug Linux ARM64 related issues on a x86_64 host. |
| Package: GraphAlignment |
| Version: 1.66.0 |
| Command: /home/biocbuild/R/R-4.3.1/bin/R CMD INSTALL GraphAlignment |
| StartedAt: 2023-11-01 20:03:23 -0000 (Wed, 01 Nov 2023) |
| EndedAt: 2023-11-01 20:03:39 -0000 (Wed, 01 Nov 2023) |
| EllapsedTime: 15.5 seconds |
| RetCode: 0 |
| Status: OK |
##############################################################################
##############################################################################
###
### Running command:
###
### /home/biocbuild/R/R-4.3.1/bin/R CMD INSTALL GraphAlignment
###
##############################################################################
##############################################################################
* installing to library ‘/home/biocbuild/R/R-4.3.1/site-library’
* installing *source* package ‘GraphAlignment’ ...
** using staged installation
** libs
using C compiler: ‘gcc (GCC) 10.3.1’
gcc -I"/home/biocbuild/R/R-4.3.1/include" -DNDEBUG -I/usr/local/include -fPIC -g -O2 -Wall -c GA_alloc.c -o GA_alloc.o
gcc -I"/home/biocbuild/R/R-4.3.1/include" -DNDEBUG -I/usr/local/include -fPIC -g -O2 -Wall -c GA_matrix.c -o GA_matrix.o
gcc -I"/home/biocbuild/R/R-4.3.1/include" -DNDEBUG -I/usr/local/include -fPIC -g -O2 -Wall -c GA_matrix_R.c -o GA_matrix_R.o
gcc -I"/home/biocbuild/R/R-4.3.1/include" -DNDEBUG -I/usr/local/include -fPIC -g -O2 -Wall -c GA_message.c -o GA_message.o
gcc -I"/home/biocbuild/R/R-4.3.1/include" -DNDEBUG -I/usr/local/include -fPIC -g -O2 -Wall -c GA_vector.c -o GA_vector.o
gcc -I"/home/biocbuild/R/R-4.3.1/include" -DNDEBUG -I/usr/local/include -fPIC -g -O2 -Wall -c GA_vector_R.c -o GA_vector_R.o
GA_vector_R.c: In function ‘GA_clamp_mode_from_R’:
GA_vector_R.c:139:9: warning: unused variable ‘size’ [-Wunused-variable]
139 | int size = LENGTH(robj);
| ^~~~
gcc -I"/home/biocbuild/R/R-4.3.1/include" -DNDEBUG -I/usr/local/include -fPIC -g -O2 -Wall -c GraphAlignment.c -o GraphAlignment.o
GraphAlignment.c: In function ‘GA_encode_directed_graph’:
GraphAlignment.c:138:20: warning: suggest explicit braces to avoid ambiguous ‘else’ [-Wdangling-else]
138 | if (matrix->elts[i][j] == 1)
| ^
GraphAlignment.c:159:20: warning: suggest explicit braces to avoid ambiguous ‘else’ [-Wdangling-else]
159 | if (matrix->elts[i][j] == 1)
| ^
GraphAlignment.c: In function ‘GA_directed_mode_from_R’:
GraphAlignment.c:264:9: warning: unused variable ‘size’ [-Wunused-variable]
264 | int size = LENGTH(robj);
| ^~~~
gcc -I"/home/biocbuild/R/R-4.3.1/include" -DNDEBUG -I/usr/local/include -fPIC -g -O2 -Wall -c lap.c -o lap.o
lap.c: In function ‘LAP_lap’:
lap.c:64:30: warning: ‘last’ may be used uninitialized in this function [-Wmaybe-uninitialized]
64 | col j, j1, j2, endofpath, last, low, up, *collist, *matches;
| ^~~~
lap.c:269:16: warning: ‘min’ may be used uninitialized in this function [-Wmaybe-uninitialized]
269 | if (v2 == min) /* new column found at same minimum value */
| ^
gcc -shared -L/home/biocbuild/R/R-4.3.1/lib -L/usr/local/lib -o GraphAlignment.so GA_alloc.o GA_matrix.o GA_matrix_R.o GA_message.o GA_vector.o GA_vector_R.o GraphAlignment.o lap.o -L/home/biocbuild/R/R-4.3.1/lib -lR
installing to /home/biocbuild/R/R-4.3.1/site-library/00LOCK-GraphAlignment/00new/GraphAlignment/libs
** R
** inst
** byte-compile and prepare package for lazy loading
** help
*** installing help indices
** building package indices
** installing vignettes
** testing if installed package can be loaded from temporary location
** checking absolute paths in shared objects and dynamic libraries
** testing if installed package can be loaded from final location
** testing if installed package keeps a record of temporary installation path
* DONE (GraphAlignment)