Back to Multiple platform build/check report for BioC 3.18: simplified long |
|
This page was generated on 2023-11-02 11:40:45 -0400 (Thu, 02 Nov 2023).
Hostname | OS | Arch (*) | R version | Installed pkgs |
---|---|---|---|---|
nebbiolo2 | Linux (Ubuntu 22.04.2 LTS) | x86_64 | 4.3.1 (2023-06-16) -- "Beagle Scouts" | 4729 |
palomino4 | Windows Server 2022 Datacenter | x64 | 4.3.1 (2023-06-16 ucrt) -- "Beagle Scouts" | 4463 |
lconway | macOS 12.6.5 Monterey | x86_64 | 4.3.1 Patched (2023-06-17 r84564) -- "Beagle Scouts" | 4478 |
kunpeng2 | Linux (openEuler 22.03 LTS-SP1) | aarch64 | 4.3.1 (2023-06-16) -- "Beagle Scouts" | 4464 |
Click on any hostname to see more info about the system (e.g. compilers) (*) as reported by 'uname -p', except on Windows and Mac OS X |
Package 864/2266 | Hostname | OS / Arch | INSTALL | BUILD | CHECK | BUILD BIN | ||||||||
GladiaTOX 1.18.0 (landing page) PMP S.A. R Support
| nebbiolo2 | Linux (Ubuntu 22.04.2 LTS) / x86_64 | OK | OK | OK | |||||||||
palomino4 | Windows Server 2022 Datacenter / x64 | OK | OK | OK | OK | |||||||||
lconway | macOS 12.6.5 Monterey / x86_64 | OK | OK | OK | OK | |||||||||
kjohnson1 | macOS 13.6.1 Ventura / arm64 | see weekly results here | ||||||||||||
kunpeng2 | Linux (openEuler 22.03 LTS-SP1) / aarch64 | OK | OK | OK | ||||||||||
To the developers/maintainers of the GladiaTOX package: - Allow up to 24 hours (and sometimes 48 hours) for your latest push to git@git.bioconductor.org:packages/GladiaTOX.git to reflect on this report. See Troubleshooting Build Report for more information. - Use the following Renviron settings to reproduce errors and warnings. - If 'R CMD check' started to fail recently on the Linux builder(s) over a missing dependency, add the missing dependency to 'Suggests:' in your DESCRIPTION file. See Renviron.bioc for more information. - See Martin Grigorov's blog post for how to debug Linux ARM64 related issues on a x86_64 host. |
Package: GladiaTOX |
Version: 1.18.0 |
Command: /home/biocbuild/R/R-4.3.1/bin/R CMD check --install=check:GladiaTOX.install-out.txt --library=/home/biocbuild/R/R-4.3.1/site-library --no-vignettes --timings GladiaTOX_1.18.0.tar.gz |
StartedAt: 2023-11-02 11:00:08 -0000 (Thu, 02 Nov 2023) |
EndedAt: 2023-11-02 11:02:27 -0000 (Thu, 02 Nov 2023) |
EllapsedTime: 138.4 seconds |
RetCode: 0 |
Status: OK |
CheckDir: GladiaTOX.Rcheck |
Warnings: 0 |
############################################################################## ############################################################################## ### ### Running command: ### ### /home/biocbuild/R/R-4.3.1/bin/R CMD check --install=check:GladiaTOX.install-out.txt --library=/home/biocbuild/R/R-4.3.1/site-library --no-vignettes --timings GladiaTOX_1.18.0.tar.gz ### ############################################################################## ############################################################################## * using log directory ‘/home/biocbuild/bbs-3.18-bioc/meat/GladiaTOX.Rcheck’ * using R version 4.3.1 (2023-06-16) * using platform: aarch64-unknown-linux-gnu (64-bit) * R was compiled by gcc (GCC) 10.3.1 GNU Fortran (GCC) 10.3.1 * running under: openEuler 22.03 (LTS-SP1) * using session charset: UTF-8 * using option ‘--no-vignettes’ * checking for file ‘GladiaTOX/DESCRIPTION’ ... OK * checking extension type ... Package * this is package ‘GladiaTOX’ version ‘1.18.0’ * checking package namespace information ... OK * checking package dependencies ... OK * checking if this is a source package ... OK * checking if there is a namespace ... OK * checking for hidden files and directories ... OK * checking for portable file names ... OK * checking for sufficient/correct file permissions ... OK * checking whether package ‘GladiaTOX’ can be installed ... OK * checking installed package size ... NOTE installed size is 5.3Mb sub-directories of 1Mb or more: sql 3.8Mb * checking package directory ... OK * checking ‘build’ directory ... OK * checking DESCRIPTION meta-information ... OK * checking top-level files ... OK * checking for left-over files ... OK * checking index information ... OK * checking package subdirectories ... OK * checking R files for non-ASCII characters ... OK * checking R files for syntax errors ... OK * checking whether the package can be loaded ... OK * checking whether the package can be loaded with stated dependencies ... OK * checking whether the package can be unloaded cleanly ... OK * checking whether the namespace can be loaded with stated dependencies ... OK * checking whether the namespace can be unloaded cleanly ... OK * checking loading without being on the library search path ... OK * checking startup messages can be suppressed ... OK * checking dependencies in R code ... OK * checking S3 generic/method consistency ... OK * checking replacement functions ... OK * checking foreign function calls ... OK * checking R code for possible problems ... NOTE glCheckInput: no visible global function definition for ‘read.csv’ glLoadInput: no visible global function definition for ‘read.csv’ glPlotPosCtrlMEC: no visible binding for global variable ‘aenm_wrap’ glPlotPosCtrlMEC: no visible binding for global variable ‘modl_acc’ Undefined global functions or variables: aenm_wrap modl_acc read.csv Consider adding importFrom("utils", "read.csv") to your NAMESPACE file. * checking Rd files ... OK * checking Rd metadata ... OK * checking Rd cross-references ... OK * checking for missing documentation entries ... OK * checking for code/documentation mismatches ... OK * checking Rd \usage sections ... OK * checking Rd contents ... OK * checking for unstated dependencies in examples ... OK * checking files in ‘vignettes’ ... OK * checking examples ... OK Examples with CPU (user + system) or elapsed time > 5s user system elapsed gtoxRun 24.845 12.647 18.520 assignDefaultMthds 22.660 7.458 15.744 * checking for unstated dependencies in ‘tests’ ... OK * checking tests ... Running ‘testthat.R’ OK * checking for unstated dependencies in vignettes ... OK * checking package vignettes in ‘inst/doc’ ... OK * checking running R code from vignettes ... SKIPPED * checking re-building of vignette outputs ... SKIPPED * checking PDF version of manual ... OK * DONE Status: 2 NOTEs See ‘/home/biocbuild/bbs-3.18-bioc/meat/GladiaTOX.Rcheck/00check.log’ for details.
GladiaTOX.Rcheck/00install.out
############################################################################## ############################################################################## ### ### Running command: ### ### /home/biocbuild/R/R-4.3.1/bin/R CMD INSTALL GladiaTOX ### ############################################################################## ############################################################################## * installing to library ‘/home/biocbuild/R/R-4.3.1/site-library’ * installing *source* package ‘GladiaTOX’ ... ** using staged installation ** R ** inst ** byte-compile and prepare package for lazy loading ** help *** installing help indices ** building package indices ** installing vignettes ** testing if installed package can be loaded from temporary location ** testing if installed package can be loaded from final location ** testing if installed package keeps a record of temporary installation path * DONE (GladiaTOX)
GladiaTOX.Rcheck/tests/testthat.Rout
R version 4.3.1 (2023-06-16) -- "Beagle Scouts" Copyright (C) 2023 The R Foundation for Statistical Computing Platform: aarch64-unknown-linux-gnu (64-bit) R is free software and comes with ABSOLUTELY NO WARRANTY. You are welcome to redistribute it under certain conditions. Type 'license()' or 'licence()' for distribution details. R is a collaborative project with many contributors. Type 'contributors()' for more information and 'citation()' on how to cite R or R packages in publications. Type 'demo()' for some demos, 'help()' for on-line help, or 'help.start()' for an HTML browser interface to help. Type 'q()' to quit R. > library(testthat) > library(GladiaTOX) Loading required package: data.table GladiaTOX (v1.18.0) loaded with the following settings: TCPL_DB: /home/biocbuild/R/R-4.3.1/site-library/GladiaTOX/sql/gladiatoxdb.sqlite TCPL_USER: NA TCPL_HOST: NA TCPL_DRVR: SQLite Default settings stored in gtox config file. See ?gtoxConf for more information. > > options(testthat.junit.output_file="tests-out.xml") > test_dir("testthat") ✔ | F W S OK | Context ⠏ | 0 | assignDefaultMthds ⠋ | 1 | assignDefaultMthds ✔ | 1 | assignDefaultMthds ⠏ | 0 | exportResultTable ⠙ | 2 | exportResultTable ✔ | 2 | exportResultTable ⠏ | 0 | getsplit ⠏ | 0 | getsplit ✔ | 1 | getsplit ⠏ | 0 | glComputeToxInd ⠋ | 1 | glComputeToxInd ✔ | 1 | glComputeToxInd ⠏ | 0 | gtoxAICProb ✔ | 1 | gtoxAICProb ⠏ | 0 | gtoxCalcVmad ⠏ | 0 | Calculate Vmad ✔ | 1 | Calculate Vmad ⠏ | 0 | gtoxLoadAcid ⠏ | 0 | Check assay component table ⠙ | 2 | Check assay component table ✔ | 2 | Check assay component table ⠏ | 0 | gtoxLoadAeid ⠏ | 0 | Check assay endpoint table ⠙ | 2 | Check assay endpoint table ✔ | 2 | Check assay endpoint table ⠏ | 0 | gtoxLoadAid ✔ | 1 | gtoxLoadAid ⠏ | 0 | gtoxLoadApid ⠏ | 0 | Check assay plate table ✔ | 2 | Check assay plate table ⠏ | 0 | gtoxLoadAsid ✔ | 3 | gtoxLoadAsid ⠏ | 0 | gtoxLoadChem ⠏ | 0 | Check assay chemical table ⠹ | 3 | Check assay chemical table ✔ | 3 | Check assay chemical table ⠏ | 0 | gtoxLoadWaid ⠏ | 0 | Check assay well table ✔ | 2 | Check assay well table ⠏ | 0 | is.odd ✔ | 2 | is.odd ⠏ | 0 | lu ✔ | 1 | lu ⠏ | 0 | lw ✔ | 1 | lw ⠏ | 0 | mc2 ✔ | 1 | mc2 ⠏ | 0 | mc3 ✔ | 1 | mc3 ⠏ | 0 | mc5 ✔ | 1 | mc5 ⠏ | 0 | mc6 ✔ | 1 | mc6 ⠏ | 0 | sc1 ✔ | 1 | sc1 ⠏ | 0 | sc2 ✔ | 1 | sc2 ══ Results ═════════════════════════════════════════════════════════════════════ Duration: 2.4 s [ FAIL 0 | WARN 0 | SKIP 0 | PASS 32 ] > test_check("GladiaTOX") [ FAIL 0 | WARN 0 | SKIP 0 | PASS 32 ] > > proc.time() user system elapsed 7.400 0.257 7.809
GladiaTOX.Rcheck/GladiaTOX-Ex.timings
name | user | system | elapsed | |
Models | 0.147 | 0.013 | 0.192 | |
assay_funcs | 0.491 | 0.031 | 0.525 | |
assignDefaultMthds | 22.660 | 7.458 | 15.744 | |
buildAssayTab | 0.050 | 0.004 | 0.056 | |
config_funcs | 0.009 | 0.000 | 0.011 | |
deleteStudy | 0 | 0 | 0 | |
exportResultForToxpiGUI | 0.425 | 0.043 | 0.475 | |
exportResultTable | 0.213 | 0.008 | 0.221 | |
glComputeToxInd | 0.384 | 0.007 | 0.393 | |
glPlotPie | 2.584 | 0.083 | 2.686 | |
glPlotPieLogo | 1.325 | 0.003 | 1.334 | |
glPlotPosCtrl | 1.101 | 0.031 | 1.173 | |
glPlotPosCtrlMEC | 0.627 | 0.024 | 0.657 | |
glPlotStat | 1.071 | 0.004 | 1.078 | |
glPlotToxInd | 0.715 | 0.031 | 0.748 | |
gtoxAICProb | 0 | 0 | 0 | |
gtoxAddModel | 0.614 | 0.004 | 0.619 | |
gtoxCalcVmad | 0.036 | 0.000 | 0.036 | |
gtoxCode2CASN | 0.001 | 0.000 | 0.001 | |
gtoxFit | 0.472 | 0.000 | 0.472 | |
gtoxImportThermoDB | 0.001 | 0.000 | 0.001 | |
gtoxListFlds | 0.006 | 0.000 | 0.006 | |
gtoxLoadApid | 0.005 | 0.004 | 0.008 | |
gtoxLoadChem | 0.055 | 0.008 | 0.064 | |
gtoxLoadClib | 0.006 | 0.000 | 0.007 | |
gtoxLoadData | 0.084 | 0.000 | 0.085 | |
gtoxLoadVehicle | 0.018 | 0.000 | 0.018 | |
gtoxLoadVmad | 0.005 | 0.004 | 0.009 | |
gtoxLoadWaid | 0.019 | 0.004 | 0.023 | |
gtoxMakeAeidPlts | 0.517 | 0.016 | 0.539 | |
gtoxPlotErrBar | 0.411 | 0.008 | 0.420 | |
gtoxPlotFitc | 0.306 | 0.012 | 0.318 | |
gtoxPlotFits | 0.173 | 0.012 | 0.185 | |
gtoxPlotM4ID | 0.719 | 0.063 | 0.784 | |
gtoxPlotPie | 0.187 | 0.004 | 0.191 | |
gtoxPlotPieLgnd | 0.005 | 0.001 | 0.005 | |
gtoxPlotPlate | 0.254 | 0.007 | 0.262 | |
gtoxPlotWin | 0 | 0 | 0 | |
gtoxPrepOtpt | 0.173 | 0.005 | 0.168 | |
gtoxReport | 0 | 0 | 0 | |
gtoxRun | 24.845 | 12.647 | 18.520 | |
gtoxSetWllq | 0.123 | 0.004 | 0.127 | |
gtoxSubsetChid | 0.120 | 0.016 | 0.135 | |
gtoxWriteData | 0 | 0 | 0 | |
hill_utils | 0.001 | 0.000 | 0.000 | |
loadAnnot | 0 | 0 | 0 | |
lu | 0 | 0 | 0 | |
lw | 0 | 0 | 0 | |
mthd_funcs | 0.016 | 0.000 | 0.016 | |
prepareDatForDB | 0 | 0 | 0 | |
query_funcs | 0.011 | 0.008 | 0.019 | |
rgstr_funcs | 0.331 | 0.008 | 0.340 | |