| Back to Multiple platform build/check report for BioC 3.18: simplified long |
|
This page was generated on 2023-11-02 11:40:44 -0400 (Thu, 02 Nov 2023).
| Hostname | OS | Arch (*) | R version | Installed pkgs |
|---|---|---|---|---|
| nebbiolo2 | Linux (Ubuntu 22.04.2 LTS) | x86_64 | 4.3.1 (2023-06-16) -- "Beagle Scouts" | 4729 |
| palomino4 | Windows Server 2022 Datacenter | x64 | 4.3.1 (2023-06-16 ucrt) -- "Beagle Scouts" | 4463 |
| lconway | macOS 12.6.5 Monterey | x86_64 | 4.3.1 Patched (2023-06-17 r84564) -- "Beagle Scouts" | 4478 |
| kunpeng2 | Linux (openEuler 22.03 LTS-SP1) | aarch64 | 4.3.1 (2023-06-16) -- "Beagle Scouts" | 4464 |
| Click on any hostname to see more info about the system (e.g. compilers) (*) as reported by 'uname -p', except on Windows and Mac OS X | ||||
| Package 821/2266 | Hostname | OS / Arch | INSTALL | BUILD | CHECK | BUILD BIN | ||||||||
| GenomicDistributions 1.10.0 (landing page) Kristyna Kupkova
| nebbiolo2 | Linux (Ubuntu 22.04.2 LTS) / x86_64 | OK | OK | OK | |||||||||
| palomino4 | Windows Server 2022 Datacenter / x64 | OK | OK | OK | OK | |||||||||
| lconway | macOS 12.6.5 Monterey / x86_64 | OK | OK | OK | OK | |||||||||
| kjohnson1 | macOS 13.6.1 Ventura / arm64 | see weekly results here | ||||||||||||
| kunpeng2 | Linux (openEuler 22.03 LTS-SP1) / aarch64 | OK | OK | OK | ||||||||||
|
To the developers/maintainers of the GenomicDistributions package: - Allow up to 24 hours (and sometimes 48 hours) for your latest push to git@git.bioconductor.org:packages/GenomicDistributions.git to reflect on this report. See Troubleshooting Build Report for more information. - Use the following Renviron settings to reproduce errors and warnings. - If 'R CMD check' started to fail recently on the Linux builder(s) over a missing dependency, add the missing dependency to 'Suggests:' in your DESCRIPTION file. See Renviron.bioc for more information. - See Martin Grigorov's blog post for how to debug Linux ARM64 related issues on a x86_64 host. |
| Package: GenomicDistributions |
| Version: 1.10.0 |
| Command: /home/biocbuild/R/R-4.3.1/bin/R CMD check --install=check:GenomicDistributions.install-out.txt --library=/home/biocbuild/R/R-4.3.1/site-library --no-vignettes --timings GenomicDistributions_1.10.0.tar.gz |
| StartedAt: 2023-11-02 10:48:59 -0000 (Thu, 02 Nov 2023) |
| EndedAt: 2023-11-02 11:14:09 -0000 (Thu, 02 Nov 2023) |
| EllapsedTime: 1510.8 seconds |
| RetCode: 0 |
| Status: OK |
| CheckDir: GenomicDistributions.Rcheck |
| Warnings: 0 |
##############################################################################
##############################################################################
###
### Running command:
###
### /home/biocbuild/R/R-4.3.1/bin/R CMD check --install=check:GenomicDistributions.install-out.txt --library=/home/biocbuild/R/R-4.3.1/site-library --no-vignettes --timings GenomicDistributions_1.10.0.tar.gz
###
##############################################################################
##############################################################################
* using log directory ‘/home/biocbuild/bbs-3.18-bioc/meat/GenomicDistributions.Rcheck’
* using R version 4.3.1 (2023-06-16)
* using platform: aarch64-unknown-linux-gnu (64-bit)
* R was compiled by
gcc (GCC) 10.3.1
GNU Fortran (GCC) 10.3.1
* running under: openEuler 22.03 (LTS-SP1)
* using session charset: UTF-8
* using option ‘--no-vignettes’
* checking for file ‘GenomicDistributions/DESCRIPTION’ ... OK
* this is package ‘GenomicDistributions’ version ‘1.10.0’
* package encoding: UTF-8
* checking package namespace information ... OK
* checking package dependencies ... OK
* checking if this is a source package ... OK
* checking if there is a namespace ... OK
* checking for hidden files and directories ... OK
* checking for portable file names ... OK
* checking for sufficient/correct file permissions ... OK
* checking whether package ‘GenomicDistributions’ can be installed ... OK
* checking installed package size ... OK
* checking package directory ... OK
* checking ‘build’ directory ... OK
* checking DESCRIPTION meta-information ... OK
* checking top-level files ... OK
* checking for left-over files ... OK
* checking index information ... OK
* checking package subdirectories ... OK
* checking R files for non-ASCII characters ... OK
* checking R files for syntax errors ... OK
* checking whether the package can be loaded ... OK
* checking whether the package can be loaded with stated dependencies ... OK
* checking whether the package can be unloaded cleanly ... OK
* checking whether the namespace can be loaded with stated dependencies ... OK
* checking whether the namespace can be unloaded cleanly ... OK
* checking loading without being on the library search path ... OK
* checking dependencies in R code ... OK
* checking S3 generic/method consistency ... OK
* checking replacement functions ... OK
* checking foreign function calls ... OK
* checking R code for possible problems ... OK
* checking Rd files ... OK
* checking Rd metadata ... OK
* checking Rd cross-references ... OK
* checking for missing documentation entries ... OK
* checking for code/documentation mismatches ... OK
* checking Rd \usage sections ... OK
* checking Rd contents ... OK
* checking for unstated dependencies in examples ... OK
* checking contents of ‘data’ directory ... OK
* checking data for non-ASCII characters ... OK
* checking LazyData ... OK
* checking data for ASCII and uncompressed saves ... OK
* checking files in ‘vignettes’ ... OK
* checking examples ... OK
Examples with CPU (user + system) or elapsed time > 5s
user system elapsed
getGeneModelsFromGTF 9.949 1.310 14.661
calcExpectedPartitionsRef 2.348 0.903 5.858
* checking for unstated dependencies in ‘tests’ ... OK
* checking tests ...
Running ‘testthat.R’
OK
* checking for unstated dependencies in vignettes ... OK
* checking package vignettes in ‘inst/doc’ ... OK
* checking running R code from vignettes ... SKIPPED
* checking re-building of vignette outputs ... SKIPPED
* checking PDF version of manual ... OK
* DONE
Status: OK
GenomicDistributions.Rcheck/00install.out
############################################################################## ############################################################################## ### ### Running command: ### ### /home/biocbuild/R/R-4.3.1/bin/R CMD INSTALL GenomicDistributions ### ############################################################################## ############################################################################## * installing to library ‘/home/biocbuild/R/R-4.3.1/site-library’ * installing *source* package ‘GenomicDistributions’ ... ** using staged installation ** R ** data *** moving datasets to lazyload DB ** inst ** byte-compile and prepare package for lazy loading ** help *** installing help indices ** building package indices ** installing vignettes ** testing if installed package can be loaded from temporary location ** testing if installed package can be loaded from final location ** testing if installed package keeps a record of temporary installation path * DONE (GenomicDistributions)
GenomicDistributions.Rcheck/tests/testthat.Rout
R version 4.3.1 (2023-06-16) -- "Beagle Scouts"
Copyright (C) 2023 The R Foundation for Statistical Computing
Platform: aarch64-unknown-linux-gnu (64-bit)
R is free software and comes with ABSOLUTELY NO WARRANTY.
You are welcome to redistribute it under certain conditions.
Type 'license()' or 'licence()' for distribution details.
R is a collaborative project with many contributors.
Type 'contributors()' for more information and
'citation()' on how to cite R or R packages in publications.
Type 'demo()' for some demos, 'help()' for on-line help, or
'help.start()' for an HTML browser interface to help.
Type 'q()' to quit R.
> library(testthat)
> library("GenomicDistributions")
Loading required package: IRanges
Loading required package: BiocGenerics
Attaching package: 'BiocGenerics'
The following objects are masked from 'package:stats':
IQR, mad, sd, var, xtabs
The following objects are masked from 'package:base':
Filter, Find, Map, Position, Reduce, anyDuplicated, aperm, append,
as.data.frame, basename, cbind, colnames, dirname, do.call,
duplicated, eval, evalq, get, grep, grepl, intersect, is.unsorted,
lapply, mapply, match, mget, order, paste, pmax, pmax.int, pmin,
pmin.int, rank, rbind, rownames, sapply, setdiff, sort, table,
tapply, union, unique, unsplit, which.max, which.min
Loading required package: S4Vectors
Loading required package: stats4
Attaching package: 'S4Vectors'
The following object is masked from 'package:utils':
findMatches
The following objects are masked from 'package:base':
I, expand.grid, unname
Loading required package: GenomicRanges
Loading required package: GenomeInfoDb
>
> test_check("GenomicDistributions")
[ FAIL 0 | WARN 0 | SKIP 1 | PASS 48 ]
══ Skipped tests (1) ═══════════════════════════════════════════════════════════
• empty test (1): 'test_all.R:139:1'
[ FAIL 0 | WARN 0 | SKIP 1 | PASS 48 ]
>
> proc.time()
user system elapsed
35.122 0.987 40.679
GenomicDistributions.Rcheck/GenomicDistributions-Ex.timings
| name | user | system | elapsed | |
| binBSGenome | 0.000 | 0.000 | 0.001 | |
| binChroms | 0.017 | 0.000 | 0.016 | |
| binRegion | 0.000 | 0.001 | 0.001 | |
| calcChromBins | 2.607 | 0.038 | 2.649 | |
| calcChromBinsRef | 0.024 | 0.000 | 0.021 | |
| calcChromBinsRefSlow | 0.023 | 0.000 | 0.020 | |
| calcCumulativePartitions | 3.096 | 0.067 | 3.171 | |
| calcCumulativePartitionsRef | 2.513 | 0.024 | 2.543 | |
| calcDinuclFreq | 0 | 0 | 0 | |
| calcDinuclFreqRef | 0.000 | 0.000 | 0.001 | |
| calcExpectedPartitions | 2.661 | 0.092 | 2.996 | |
| calcExpectedPartitionsRef | 2.348 | 0.903 | 5.858 | |
| calcFeatureDist | 0.138 | 0.020 | 0.159 | |
| calcFeatureDistRefTSS | 0.221 | 0.004 | 0.227 | |
| calcGCContent | 0 | 0 | 0 | |
| calcGCContentRef | 0 | 0 | 0 | |
| calcNearestNeighbors | 0.043 | 0.000 | 0.043 | |
| calcNeighborDist | 0.04 | 0.00 | 0.04 | |
| calcPartitions | 2.225 | 0.014 | 2.524 | |
| calcPartitionsRef | 2.536 | 0.024 | 2.639 | |
| calcSummarySignal | 0.032 | 0.000 | 0.030 | |
| calcWidth | 0.000 | 0.000 | 0.001 | |
| dot-validateInputs | 0.000 | 0.000 | 0.001 | |
| dtToGr | 0.013 | 0.000 | 0.013 | |
| genomePartitionList | 1.893 | 0.024 | 1.923 | |
| getChromSizes | 0.003 | 0.000 | 0.004 | |
| getChromSizesFromFasta | 0.031 | 0.004 | 0.072 | |
| getGeneModels | 0.099 | 0.004 | 0.199 | |
| getGeneModelsFromGTF | 9.949 | 1.310 | 14.661 | |
| getGenomeBins | 1.714 | 0.008 | 1.860 | |
| getTssFromGTF | 0.143 | 0.004 | 0.149 | |
| loadBSgenome | 0.000 | 0.000 | 0.001 | |
| loadEnsDb | 0.001 | 0.000 | 0.000 | |
| nlist | 0.001 | 0.000 | 0.000 | |
| plotChromBins | 0.059 | 0.000 | 0.059 | |
| plotCumulativePartitions | 3.780 | 0.027 | 4.128 | |
| plotDinuclFreq | 0.020 | 0.000 | 0.021 | |
| plotExpectedPartitions | 2.275 | 0.019 | 2.308 | |
| plotFeatureDist | 0.379 | 0.004 | 0.429 | |
| plotGCContent | 0.048 | 0.000 | 0.066 | |
| plotNeighborDist | 0.017 | 0.000 | 0.034 | |
| plotPartitions | 2.339 | 0.000 | 3.537 | |
| plotQTHist | 0.055 | 0.000 | 0.055 | |
| plotSummarySignal | 0.124 | 0.004 | 0.128 | |
| retrieveFile | 0.002 | 0.000 | 0.011 | |