Back to Multiple platform build/check report for BioC 3.18: simplified long |
|
This page was generated on 2024-04-17 11:37:46 -0400 (Wed, 17 Apr 2024).
Hostname | OS | Arch (*) | R version | Installed pkgs |
---|---|---|---|---|
nebbiolo2 | Linux (Ubuntu 22.04.3 LTS) | x86_64 | 4.3.3 (2024-02-29) -- "Angel Food Cake" | 4676 |
palomino4 | Windows Server 2022 Datacenter | x64 | 4.3.3 (2024-02-29 ucrt) -- "Angel Food Cake" | 4414 |
merida1 | macOS 12.7.1 Monterey | x86_64 | 4.3.3 (2024-02-29) -- "Angel Food Cake" | 4437 |
Click on any hostname to see more info about the system (e.g. compilers) (*) as reported by 'uname -p', except on Windows and Mac OS X |
Package 819/2266 | Hostname | OS / Arch | INSTALL | BUILD | CHECK | BUILD BIN | ||||||||
GenomicAlignments 1.38.2 (landing page) Hervé Pagès
| nebbiolo2 | Linux (Ubuntu 22.04.3 LTS) / x86_64 | OK | OK | OK | ![]() | ||||||||
palomino4 | Windows Server 2022 Datacenter / x64 | OK | OK | OK | OK | ![]() | ||||||||
merida1 | macOS 12.7.1 Monterey / x86_64 | OK | OK | OK | OK | ![]() | ||||||||
kjohnson1 | macOS 13.6.1 Ventura / arm64 | see weekly results here | ||||||||||||
To the developers/maintainers of the GenomicAlignments package: - Allow up to 24 hours (and sometimes 48 hours) for your latest push to git@git.bioconductor.org:packages/GenomicAlignments.git to reflect on this report. See Troubleshooting Build Report for more information. - Use the following Renviron settings to reproduce errors and warnings. - If 'R CMD check' started to fail recently on the Linux builder(s) over a missing dependency, add the missing dependency to 'Suggests:' in your DESCRIPTION file. See Renviron.bioc for more information. |
Package: GenomicAlignments |
Version: 1.38.2 |
Command: /Library/Frameworks/R.framework/Resources/bin/R CMD check --install=check:GenomicAlignments.install-out.txt --library=/Library/Frameworks/R.framework/Resources/library --no-vignettes --timings GenomicAlignments_1.38.2.tar.gz |
StartedAt: 2024-04-16 03:14:24 -0400 (Tue, 16 Apr 2024) |
EndedAt: 2024-04-16 03:24:10 -0400 (Tue, 16 Apr 2024) |
EllapsedTime: 586.7 seconds |
RetCode: 0 |
Status: OK |
CheckDir: GenomicAlignments.Rcheck |
Warnings: 0 |
############################################################################## ############################################################################## ### ### Running command: ### ### /Library/Frameworks/R.framework/Resources/bin/R CMD check --install=check:GenomicAlignments.install-out.txt --library=/Library/Frameworks/R.framework/Resources/library --no-vignettes --timings GenomicAlignments_1.38.2.tar.gz ### ############################################################################## ############################################################################## * using log directory ‘/Users/biocbuild/bbs-3.18-bioc/meat/GenomicAlignments.Rcheck’ * using R version 4.3.3 (2024-02-29) * using platform: x86_64-apple-darwin20 (64-bit) * R was compiled by Apple clang version 14.0.0 (clang-1400.0.29.202) GNU Fortran (GCC) 12.2.0 * running under: macOS Monterey 12.7.1 * using session charset: UTF-8 * using option ‘--no-vignettes’ * checking for file ‘GenomicAlignments/DESCRIPTION’ ... OK * this is package ‘GenomicAlignments’ version ‘1.38.2’ * package encoding: UTF-8 * checking package namespace information ... OK * checking package dependencies ... NOTE Depends: includes the non-default packages: 'BiocGenerics', 'S4Vectors', 'IRanges', 'GenomeInfoDb', 'GenomicRanges', 'SummarizedExperiment', 'Biostrings', 'Rsamtools' Adding so many packages to the search path is excessive and importing selectively is preferable. * checking if this is a source package ... OK * checking if there is a namespace ... OK * checking for hidden files and directories ... OK * checking for portable file names ... OK * checking for sufficient/correct file permissions ... OK * checking whether package ‘GenomicAlignments’ can be installed ... OK * used C compiler: ‘Apple clang version 14.0.0 (clang-1400.0.29.202)’ * used SDK: ‘MacOSX11.3.sdk’ * checking installed package size ... OK * checking package directory ... OK * checking ‘build’ directory ... OK * checking DESCRIPTION meta-information ... NOTE Packages listed in more than one of Depends, Imports, Suggests, Enhances: ‘methods’ ‘BiocGenerics’ ‘S4Vectors’ ‘IRanges’ ‘GenomicRanges’ ‘Biostrings’ ‘Rsamtools’ A package should be listed in only one of these fields. * checking top-level files ... OK * checking for left-over files ... OK * checking index information ... OK * checking package subdirectories ... NOTE Problems with news in ‘NEWS’: Cannot process chunk/lines: No NEW FEATURES or SIGNIFICANT USER-VISIBLE CHANGES or BUG FIXES since Cannot process chunk/lines: version 1.18.0 Cannot process chunk/lines: No NEW FEATURES or SIGNIFICANT USER-VISIBLE CHANGES or BUG FIXES since Cannot process chunk/lines: version 1.16.0 Cannot process chunk/lines: The first version of GenomicAlignments was included in Bioconductor 2.14. Cannot process chunk/lines: The package was created from existing code in IRanges, ShortRead, Cannot process chunk/lines: Rsamtools and GenomicRanges. * checking R files for non-ASCII characters ... OK * checking R files for syntax errors ... OK * checking whether the package can be loaded ... OK * checking whether the package can be loaded with stated dependencies ... OK * checking whether the package can be unloaded cleanly ... OK * checking whether the namespace can be loaded with stated dependencies ... OK * checking whether the namespace can be unloaded cleanly ... OK * checking dependencies in R code ... NOTE ':::' calls which should be '::': ‘S4Vectors:::makeClassinfoRowForCompactPrinting’ ‘S4Vectors:::makePrettyMatrixForCompactPrinting’ See the note in ?`:::` about the use of this operator. Unexported objects imported by ':::' calls: ‘Rsamtools:::.BamViews_delegate’ ‘Rsamtools:::.findMateWithinGroups’ ‘Rsamtools:::.load_bamcols_from_scanBam_res’ See the note in ?`:::` about the use of this operator. * checking S3 generic/method consistency ... OK * checking replacement functions ... OK * checking foreign function calls ... OK * checking R code for possible problems ... OK * checking Rd files ... OK * checking Rd metadata ... OK * checking Rd cross-references ... OK * checking for missing documentation entries ... OK * checking for code/documentation mismatches ... OK * checking Rd \usage sections ... OK * checking Rd contents ... OK * checking for unstated dependencies in examples ... OK * checking line endings in C/C++/Fortran sources/headers ... OK * checking compiled code ... NOTE Note: information on .o files is not available * checking sizes of PDF files under ‘inst/doc’ ... OK * checking files in ‘vignettes’ ... OK * checking examples ... OK Examples with CPU (user + system) or elapsed time > 5s user system elapsed readGAlignments 23.891 4.976 30.131 junctions-methods 23.785 2.171 27.078 summarizeOverlaps-methods 14.452 4.062 18.607 coordinate-mapping-methods 14.042 0.470 15.759 sequenceLayer 12.098 2.068 15.502 findSpliceOverlaps-methods 8.515 0.302 9.556 stackStringsFromGAlignments 7.412 0.422 8.707 * checking for unstated dependencies in ‘tests’ ... OK * checking tests ... Running ‘run_unitTests.R’ OK * checking for unstated dependencies in vignettes ... OK * checking package vignettes in ‘inst/doc’ ... OK * checking running R code from vignettes ... SKIPPED * checking re-building of vignette outputs ... SKIPPED * checking PDF version of manual ... OK * DONE Status: 5 NOTEs See ‘/Users/biocbuild/bbs-3.18-bioc/meat/GenomicAlignments.Rcheck/00check.log’ for details.
GenomicAlignments.Rcheck/00install.out
############################################################################## ############################################################################## ### ### Running command: ### ### /Library/Frameworks/R.framework/Resources/bin/R CMD INSTALL GenomicAlignments ### ############################################################################## ############################################################################## * installing to library ‘/Library/Frameworks/R.framework/Versions/4.3-x86_64/Resources/library’ * installing *source* package ‘GenomicAlignments’ ... ** using staged installation ** libs using C compiler: ‘Apple clang version 14.0.0 (clang-1400.0.29.202)’ using SDK: ‘MacOSX11.3.sdk’ clang -arch x86_64 -I"/Library/Frameworks/R.framework/Resources/include" -DNDEBUG -I'/Library/Frameworks/R.framework/Versions/4.3-x86_64/Resources/library/S4Vectors/include' -I'/Library/Frameworks/R.framework/Versions/4.3-x86_64/Resources/library/IRanges/include' -I/opt/R/x86_64/include -fPIC -falign-functions=64 -Wall -g -O2 -c IRanges_stubs.c -o IRanges_stubs.o clang -arch x86_64 -I"/Library/Frameworks/R.framework/Resources/include" -DNDEBUG -I'/Library/Frameworks/R.framework/Versions/4.3-x86_64/Resources/library/S4Vectors/include' -I'/Library/Frameworks/R.framework/Versions/4.3-x86_64/Resources/library/IRanges/include' -I/opt/R/x86_64/include -fPIC -falign-functions=64 -Wall -g -O2 -c R_init_GenomicAlignments.c -o R_init_GenomicAlignments.o clang -arch x86_64 -I"/Library/Frameworks/R.framework/Resources/include" -DNDEBUG -I'/Library/Frameworks/R.framework/Versions/4.3-x86_64/Resources/library/S4Vectors/include' -I'/Library/Frameworks/R.framework/Versions/4.3-x86_64/Resources/library/IRanges/include' -I/opt/R/x86_64/include -fPIC -falign-functions=64 -Wall -g -O2 -c S4Vectors_stubs.c -o S4Vectors_stubs.o clang -arch x86_64 -I"/Library/Frameworks/R.framework/Resources/include" -DNDEBUG -I'/Library/Frameworks/R.framework/Versions/4.3-x86_64/Resources/library/S4Vectors/include' -I'/Library/Frameworks/R.framework/Versions/4.3-x86_64/Resources/library/IRanges/include' -I/opt/R/x86_64/include -fPIC -falign-functions=64 -Wall -g -O2 -c cigar_utils.c -o cigar_utils.o clang -arch x86_64 -I"/Library/Frameworks/R.framework/Resources/include" -DNDEBUG -I'/Library/Frameworks/R.framework/Versions/4.3-x86_64/Resources/library/S4Vectors/include' -I'/Library/Frameworks/R.framework/Versions/4.3-x86_64/Resources/library/IRanges/include' -I/opt/R/x86_64/include -fPIC -falign-functions=64 -Wall -g -O2 -c coordinate_mapping_methods.c -o coordinate_mapping_methods.o clang -arch x86_64 -I"/Library/Frameworks/R.framework/Resources/include" -DNDEBUG -I'/Library/Frameworks/R.framework/Versions/4.3-x86_64/Resources/library/S4Vectors/include' -I'/Library/Frameworks/R.framework/Versions/4.3-x86_64/Resources/library/IRanges/include' -I/opt/R/x86_64/include -fPIC -falign-functions=64 -Wall -g -O2 -c encodeOverlaps_methods.c -o encodeOverlaps_methods.o clang -arch x86_64 -dynamiclib -Wl,-headerpad_max_install_names -undefined dynamic_lookup -L/Library/Frameworks/R.framework/Resources/lib -L/opt/R/x86_64/lib -o GenomicAlignments.so IRanges_stubs.o R_init_GenomicAlignments.o S4Vectors_stubs.o cigar_utils.o coordinate_mapping_methods.o encodeOverlaps_methods.o -F/Library/Frameworks/R.framework/.. -framework R -Wl,-framework -Wl,CoreFoundation installing to /Library/Frameworks/R.framework/Versions/4.3-x86_64/Resources/library/00LOCK-GenomicAlignments/00new/GenomicAlignments/libs ** R ** inst ** byte-compile and prepare package for lazy loading ** help *** installing help indices ** building package indices ** installing vignettes ** testing if installed package can be loaded from temporary location ** checking absolute paths in shared objects and dynamic libraries ** testing if installed package can be loaded from final location ** testing if installed package keeps a record of temporary installation path * DONE (GenomicAlignments)
GenomicAlignments.Rcheck/tests/run_unitTests.Rout
R version 4.3.3 (2024-02-29) -- "Angel Food Cake" Copyright (C) 2024 The R Foundation for Statistical Computing Platform: x86_64-apple-darwin20 (64-bit) R is free software and comes with ABSOLUTELY NO WARRANTY. You are welcome to redistribute it under certain conditions. Type 'license()' or 'licence()' for distribution details. R is a collaborative project with many contributors. Type 'contributors()' for more information and 'citation()' on how to cite R or R packages in publications. Type 'demo()' for some demos, 'help()' for on-line help, or 'help.start()' for an HTML browser interface to help. Type 'q()' to quit R. > require("GenomicAlignments") || stop("unable to load GenomicRanges package") Loading required package: GenomicAlignments Loading required package: BiocGenerics Attaching package: 'BiocGenerics' The following objects are masked from 'package:stats': IQR, mad, sd, var, xtabs The following objects are masked from 'package:base': Filter, Find, Map, Position, Reduce, anyDuplicated, aperm, append, as.data.frame, basename, cbind, colnames, dirname, do.call, duplicated, eval, evalq, get, grep, grepl, intersect, is.unsorted, lapply, mapply, match, mget, order, paste, pmax, pmax.int, pmin, pmin.int, rank, rbind, rownames, sapply, setdiff, sort, table, tapply, union, unique, unsplit, which.max, which.min Loading required package: S4Vectors Loading required package: stats4 Attaching package: 'S4Vectors' The following object is masked from 'package:utils': findMatches The following objects are masked from 'package:base': I, expand.grid, unname Loading required package: IRanges Loading required package: GenomeInfoDb Loading required package: GenomicRanges Loading required package: SummarizedExperiment Loading required package: MatrixGenerics Loading required package: matrixStats Attaching package: 'MatrixGenerics' The following objects are masked from 'package:matrixStats': colAlls, colAnyNAs, colAnys, colAvgsPerRowSet, colCollapse, colCounts, colCummaxs, colCummins, colCumprods, colCumsums, colDiffs, colIQRDiffs, colIQRs, colLogSumExps, colMadDiffs, colMads, colMaxs, colMeans2, colMedians, colMins, colOrderStats, colProds, colQuantiles, colRanges, colRanks, colSdDiffs, colSds, colSums2, colTabulates, colVarDiffs, colVars, colWeightedMads, colWeightedMeans, colWeightedMedians, colWeightedSds, colWeightedVars, rowAlls, rowAnyNAs, rowAnys, rowAvgsPerColSet, rowCollapse, rowCounts, rowCummaxs, rowCummins, rowCumprods, rowCumsums, rowDiffs, rowIQRDiffs, rowIQRs, rowLogSumExps, rowMadDiffs, rowMads, rowMaxs, rowMeans2, rowMedians, rowMins, rowOrderStats, rowProds, rowQuantiles, rowRanges, rowRanks, rowSdDiffs, rowSds, rowSums2, rowTabulates, rowVarDiffs, rowVars, rowWeightedMads, rowWeightedMeans, rowWeightedMedians, rowWeightedSds, rowWeightedVars Loading required package: Biobase Welcome to Bioconductor Vignettes contain introductory material; view with 'browseVignettes()'. To cite Bioconductor, see 'citation("Biobase")', and for packages 'citation("pkgname")'. Attaching package: 'Biobase' The following object is masked from 'package:MatrixGenerics': rowMedians The following objects are masked from 'package:matrixStats': anyMissing, rowMedians Loading required package: Biostrings Loading required package: XVector Attaching package: 'Biostrings' The following object is masked from 'package:base': strsplit Loading required package: Rsamtools [1] TRUE > GenomicAlignments:::.test() RUNIT TEST PROTOCOL -- Tue Apr 16 03:23:51 2024 *********************************************** Number of test functions: 42 Number of errors: 0 Number of failures: 0 1 Test Suite : GenomicAlignments RUnit Tests - 42 test functions, 0 errors, 0 failures Number of test functions: 42 Number of errors: 0 Number of failures: 0 Warning message: In .make_GAlignmentPairs_from_GAlignments(gal, strandMode = strandMode, : 4 alignments with ambiguous pairing were dumped. Use 'getDumpedAlignments()' to retrieve them from the dump environment. > > proc.time() user system elapsed 54.168 2.650 58.677
GenomicAlignments.Rcheck/GenomicAlignments-Ex.timings
name | user | system | elapsed | |
GAlignmentPairs-class | 1.868 | 0.148 | 2.305 | |
GAlignments-class | 0.675 | 0.037 | 0.751 | |
GAlignmentsList-class | 4.606 | 0.129 | 4.971 | |
GappedReads-class | 0.178 | 0.006 | 0.185 | |
OverlapEncodings-class | 2.466 | 0.188 | 2.885 | |
cigar-utils | 0.458 | 0.057 | 0.535 | |
coordinate-mapping-methods | 14.042 | 0.470 | 15.759 | |
coverage-methods | 4.540 | 0.131 | 4.905 | |
encodeOverlaps-methods | 0.068 | 0.004 | 0.075 | |
findCompatibleOverlaps-methods | 2.068 | 0.081 | 2.279 | |
findMateAlignment | 0.270 | 0.018 | 0.308 | |
findOverlaps-methods | 1.009 | 0.103 | 1.172 | |
findSpliceOverlaps-methods | 8.515 | 0.302 | 9.556 | |
intra-range-methods | 0.648 | 0.028 | 0.738 | |
junctions-methods | 23.785 | 2.171 | 27.078 | |
pileLettersAt | 1.210 | 0.043 | 1.270 | |
readGAlignments | 23.891 | 4.976 | 30.131 | |
sequenceLayer | 12.098 | 2.068 | 15.502 | |
setops-methods | 0.241 | 0.009 | 0.275 | |
stackStringsFromGAlignments | 7.412 | 0.422 | 8.707 | |
summarizeOverlaps-methods | 14.452 | 4.062 | 18.607 | |