| Back to Multiple platform build/check report for BioC 3.18: simplified long |
|
This page was generated on 2023-11-02 11:40:43 -0400 (Thu, 02 Nov 2023).
| Hostname | OS | Arch (*) | R version | Installed pkgs |
|---|---|---|---|---|
| nebbiolo2 | Linux (Ubuntu 22.04.2 LTS) | x86_64 | 4.3.1 (2023-06-16) -- "Beagle Scouts" | 4729 |
| palomino4 | Windows Server 2022 Datacenter | x64 | 4.3.1 (2023-06-16 ucrt) -- "Beagle Scouts" | 4463 |
| lconway | macOS 12.6.5 Monterey | x86_64 | 4.3.1 Patched (2023-06-17 r84564) -- "Beagle Scouts" | 4478 |
| kunpeng2 | Linux (openEuler 22.03 LTS-SP1) | aarch64 | 4.3.1 (2023-06-16) -- "Beagle Scouts" | 4464 |
| Click on any hostname to see more info about the system (e.g. compilers) (*) as reported by 'uname -p', except on Windows and Mac OS X | ||||
| Package 805/2266 | Hostname | OS / Arch | INSTALL | BUILD | CHECK | BUILD BIN | ||||||||
| GeneSelectMMD 2.46.0 (landing page) Weiliang Qiu
| nebbiolo2 | Linux (Ubuntu 22.04.2 LTS) / x86_64 | OK | OK | WARNINGS | |||||||||
| palomino4 | Windows Server 2022 Datacenter / x64 | OK | OK | OK | OK | |||||||||
| lconway | macOS 12.6.5 Monterey / x86_64 | OK | OK | WARNINGS | OK | |||||||||
| kjohnson1 | macOS 13.6.1 Ventura / arm64 | see weekly results here | ||||||||||||
| kunpeng2 | Linux (openEuler 22.03 LTS-SP1) / aarch64 | OK | OK | WARNINGS | ||||||||||
|
To the developers/maintainers of the GeneSelectMMD package: - Allow up to 24 hours (and sometimes 48 hours) for your latest push to git@git.bioconductor.org:packages/GeneSelectMMD.git to reflect on this report. See Troubleshooting Build Report for more information. - Use the following Renviron settings to reproduce errors and warnings. - If 'R CMD check' started to fail recently on the Linux builder(s) over a missing dependency, add the missing dependency to 'Suggests:' in your DESCRIPTION file. See Renviron.bioc for more information. - See Martin Grigorov's blog post for how to debug Linux ARM64 related issues on a x86_64 host. |
| Package: GeneSelectMMD |
| Version: 2.46.0 |
| Command: /home/biocbuild/R/R-4.3.1/bin/R CMD INSTALL GeneSelectMMD |
| StartedAt: 2023-11-01 20:09:22 -0000 (Wed, 01 Nov 2023) |
| EndedAt: 2023-11-01 20:09:48 -0000 (Wed, 01 Nov 2023) |
| EllapsedTime: 25.9 seconds |
| RetCode: 0 |
| Status: OK |
##############################################################################
##############################################################################
###
### Running command:
###
### /home/biocbuild/R/R-4.3.1/bin/R CMD INSTALL GeneSelectMMD
###
##############################################################################
##############################################################################
* installing to library ‘/home/biocbuild/R/R-4.3.1/site-library’
* installing *source* package ‘GeneSelectMMD’ ...
** using staged installation
** libs
using C compiler: ‘gcc (GCC) 10.3.1’
using Fortran compiler: ‘GNU Fortran (GCC) 10.3.1’
gcc -I"/home/biocbuild/R/R-4.3.1/include" -DNDEBUG -I/usr/local/include -fPIC -g -O2 -Wall -c GeneSelectMMD_init.c -o GeneSelectMMD_init.o
gfortran -fPIC -g -O2 -Wall -c Qfunc.f -o Qfunc.o
gfortran -fPIC -g -O2 -Wall -c blas.f -o blas.o
gcc -I"/home/biocbuild/R/R-4.3.1/include" -DNDEBUG -I/usr/local/include -fPIC -g -O2 -Wall -c isnan.c -o isnan.o
gfortran -fPIC -g -O2 -Wall -c lbfgsb.f -o lbfgsb.o
lbfgsb.f:1409:25:
1409 | + tu,tl,wmc,wmp,wmw,ddot,tj,tj0,neggi,sbgnrm,
| ^
Warning: ‘tu’ may be used uninitialized in this function [-Wmaybe-uninitialized]
lbfgsb.f:1482:72:
1482 | t(nbreak) = tl/(-neggi)
| ^
Warning: ‘tl’ may be used uninitialized in this function [-Wmaybe-uninitialized]
gfortran -fPIC -g -O2 -Wall -c lbfgsbDriver.f -o lbfgsbDriver.o
lbfgsbDriver.f:243:71:
243 | + wa(2*mmax*nmax + 5*nmax + 11*mmax*mmax + 8*mmax)
| 1
Warning: Array ‘wa’ at (1) is larger than limit set by ‘-fmax-stack-var-size=’, moved from stack to static storage. This makes the procedure unsafe when called recursively, or concurrently from multiple threads. Consider using ‘-frecursive’, or increase the ‘-fmax-stack-var-size=’ limit, or change the code to use an ALLOCATABLE array. [-Wsurprising]
gfortran -fPIC -g -O2 -Wall -c linpack.f -o linpack.o
gfortran -fPIC -g -O2 -Wall -c llkhFun.f -o llkhFun.o
gfortran -fPIC -g -O2 -Wall -c myTtest.f -o myTtest.o
gfortran -fPIC -g -O2 -Wall -c paraEstLoop.f -o paraEstLoop.o
gcc -I"/home/biocbuild/R/R-4.3.1/include" -DNDEBUG -I/usr/local/include -fPIC -g -O2 -Wall -c pt.c -o pt.o
gfortran -fPIC -g -O2 -Wall -c timer.f -o timer.o
gfortran -fPIC -g -O2 -Wall -c wiFun.f -o wiFun.o
gcc -shared -L/home/biocbuild/R/R-4.3.1/lib -L/usr/local/lib -o GeneSelectMMD.so GeneSelectMMD_init.o Qfunc.o blas.o isnan.o lbfgsb.o lbfgsbDriver.o linpack.o llkhFun.o myTtest.o paraEstLoop.o pt.o timer.o wiFun.o -lgfortran -lm -L/home/biocbuild/R/R-4.3.1/lib -lR
installing to /home/biocbuild/R/R-4.3.1/site-library/00LOCK-GeneSelectMMD/00new/GeneSelectMMD/libs
** R
** byte-compile and prepare package for lazy loading
** help
*** installing help indices
** building package indices
** installing vignettes
** testing if installed package can be loaded from temporary location
** checking absolute paths in shared objects and dynamic libraries
** testing if installed package can be loaded from final location
** testing if installed package keeps a record of temporary installation path
* DONE (GeneSelectMMD)