Back to Multiple platform build/check report for BioC 3.18: simplified long |
|
This page was generated on 2024-03-04 11:37:22 -0500 (Mon, 04 Mar 2024).
Hostname | OS | Arch (*) | R version | Installed pkgs |
---|---|---|---|---|
nebbiolo2 | Linux (Ubuntu 22.04.3 LTS) | x86_64 | 4.3.2 Patched (2023-11-13 r85521) -- "Eye Holes" | 4692 |
palomino4 | Windows Server 2022 Datacenter | x64 | 4.3.2 (2023-10-31 ucrt) -- "Eye Holes" | 4445 |
lconway | macOS 12.7.1 Monterey | x86_64 | 4.3.2 Patched (2023-11-01 r85457) -- "Eye Holes" | 4466 |
Click on any hostname to see more info about the system (e.g. compilers) (*) as reported by 'uname -p', except on Windows and Mac OS X |
Package 790/2266 | Hostname | OS / Arch | INSTALL | BUILD | CHECK | BUILD BIN | ||||||||
GeneBreak 1.32.0 (landing page) Evert van den Broek
| nebbiolo2 | Linux (Ubuntu 22.04.3 LTS) / x86_64 | OK | OK | OK | |||||||||
palomino4 | Windows Server 2022 Datacenter / x64 | OK | OK | OK | OK | |||||||||
lconway | macOS 12.7.1 Monterey / x86_64 | OK | OK | OK | OK | |||||||||
kjohnson1 | macOS 13.6.1 Ventura / arm64 | see weekly results here | ||||||||||||
To the developers/maintainers of the GeneBreak package: - Allow up to 24 hours (and sometimes 48 hours) for your latest push to git@git.bioconductor.org:packages/GeneBreak.git to reflect on this report. See Troubleshooting Build Report for more information. - Use the following Renviron settings to reproduce errors and warnings. - If 'R CMD check' started to fail recently on the Linux builder(s) over a missing dependency, add the missing dependency to 'Suggests:' in your DESCRIPTION file. See Renviron.bioc for more information. |
Package: GeneBreak |
Version: 1.32.0 |
Command: /Library/Frameworks/R.framework/Resources/bin/R CMD check --install=check:GeneBreak.install-out.txt --library=/Library/Frameworks/R.framework/Resources/library --no-vignettes --timings GeneBreak_1.32.0.tar.gz |
StartedAt: 2024-03-03 20:45:36 -0500 (Sun, 03 Mar 2024) |
EndedAt: 2024-03-03 20:48:54 -0500 (Sun, 03 Mar 2024) |
EllapsedTime: 198.4 seconds |
RetCode: 0 |
Status: OK |
CheckDir: GeneBreak.Rcheck |
Warnings: 0 |
############################################################################## ############################################################################## ### ### Running command: ### ### /Library/Frameworks/R.framework/Resources/bin/R CMD check --install=check:GeneBreak.install-out.txt --library=/Library/Frameworks/R.framework/Resources/library --no-vignettes --timings GeneBreak_1.32.0.tar.gz ### ############################################################################## ############################################################################## * using log directory ‘/Users/biocbuild/bbs-3.18-bioc/meat/GeneBreak.Rcheck’ * using R version 4.3.2 Patched (2023-11-01 r85457) * using platform: x86_64-apple-darwin20 (64-bit) * R was compiled by Apple clang version 14.0.3 (clang-1403.0.22.14.1) GNU Fortran (GCC) 12.2.0 * running under: macOS Monterey 12.7.1 * using session charset: UTF-8 * using option ‘--no-vignettes’ * checking for file ‘GeneBreak/DESCRIPTION’ ... OK * checking extension type ... Package * this is package ‘GeneBreak’ version ‘1.32.0’ * checking package namespace information ... OK * checking package dependencies ... OK * checking if this is a source package ... OK * checking if there is a namespace ... OK * checking for hidden files and directories ... OK * checking for portable file names ... OK * checking for sufficient/correct file permissions ... OK * checking whether package ‘GeneBreak’ can be installed ... OK * checking installed package size ... OK * checking package directory ... OK * checking ‘build’ directory ... OK * checking DESCRIPTION meta-information ... OK * checking top-level files ... OK * checking for left-over files ... OK * checking index information ... OK * checking package subdirectories ... OK * checking R files for non-ASCII characters ... OK * checking R files for syntax errors ... OK * checking whether the package can be loaded ... OK * checking whether the package can be loaded with stated dependencies ... OK * checking whether the package can be unloaded cleanly ... OK * checking whether the namespace can be loaded with stated dependencies ... OK * checking whether the namespace can be unloaded cleanly ... OK * checking dependencies in R code ... OK * checking S3 generic/method consistency ... OK * checking replacement functions ... OK * checking foreign function calls ... OK * checking R code for possible problems ... NOTE .glmbreak: no visible global function definition for ‘glm’ .glmbreak: no visible global function definition for ‘predict’ addGeneAnnotation,CopyNumberBreakPoints: no visible global function definition for ‘head’ bpStats,CopyNumberBreakPoints: no visible global function definition for ‘sd’ bpStats,CopyNumberBreakPoints: no visible global function definition for ‘p.adjust’ Undefined global functions or variables: glm head p.adjust predict sd Consider adding importFrom("stats", "glm", "p.adjust", "predict", "sd") importFrom("utils", "head") to your NAMESPACE file. * checking Rd files ... OK * checking Rd metadata ... OK * checking Rd cross-references ... OK * checking for missing documentation entries ... OK * checking for code/documentation mismatches ... OK * checking Rd \usage sections ... OK * checking Rd contents ... OK * checking for unstated dependencies in examples ... OK * checking contents of ‘data’ directory ... OK * checking data for non-ASCII characters ... OK * checking data for ASCII and uncompressed saves ... OK * checking sizes of PDF files under ‘inst/doc’ ... OK * checking files in ‘vignettes’ ... OK * checking examples ... OK Examples with CPU (user + system) or elapsed time > 5s user system elapsed CopyNumberBreakPointGenes-class 6.456 0.689 7.272 recurrentGenes-CopyNumberBreakPointGenes-method 4.986 0.564 5.654 bpStats-CopyNumberBreakPoints-method 4.876 0.488 5.472 bpPlot-CopyNumberBreakPoints-method 4.674 0.543 5.283 * checking for unstated dependencies in vignettes ... OK * checking package vignettes in ‘inst/doc’ ... OK * checking running R code from vignettes ... SKIPPED * checking re-building of vignette outputs ... SKIPPED * checking PDF version of manual ... OK * DONE Status: 1 NOTE See ‘/Users/biocbuild/bbs-3.18-bioc/meat/GeneBreak.Rcheck/00check.log’ for details.
GeneBreak.Rcheck/00install.out
############################################################################## ############################################################################## ### ### Running command: ### ### /Library/Frameworks/R.framework/Resources/bin/R CMD INSTALL GeneBreak ### ############################################################################## ############################################################################## * installing to library ‘/Library/Frameworks/R.framework/Versions/4.3-x86_64/Resources/library’ * installing *source* package ‘GeneBreak’ ... ** using staged installation ** R ** data ** byte-compile and prepare package for lazy loading Creating a new generic function for ‘segmentData’ in package ‘GeneBreak’ ** help *** installing help indices ** building package indices ** installing vignettes ** testing if installed package can be loaded from temporary location ** testing if installed package can be loaded from final location ** testing if installed package keeps a record of temporary installation path * DONE (GeneBreak)
GeneBreak.Rcheck/GeneBreak-Ex.timings
name | user | system | elapsed | |
CopyNumberBreakPointGenes-class | 6.456 | 0.689 | 7.272 | |
CopyNumberBreakPoints-class | 1.386 | 0.184 | 1.603 | |
accessOptions-CopyNumberBreakPoints-method | 0.944 | 0.102 | 1.063 | |
addGeneAnnotation-CopyNumberBreakPoints-method | 2.169 | 0.194 | 2.389 | |
bpFilter-CopyNumberBreakPoints-method | 0.946 | 0.187 | 1.215 | |
bpGenes-CopyNumberBreakPointGenes-method | 1.787 | 0.190 | 2.000 | |
bpPlot-CopyNumberBreakPoints-method | 4.674 | 0.543 | 5.283 | |
bpStats-CopyNumberBreakPoints-method | 4.876 | 0.488 | 5.472 | |
breakpointData-CopyNumberBreakPoints-method | 0.772 | 0.572 | 1.369 | |
breakpointsPerGene-CopyNumberBreakPointGenes-method | 1.970 | 0.726 | 2.731 | |
callData-CopyNumberBreakPoints-method | 1.234 | 0.655 | 1.909 | |
featureChromosomes-CopyNumberBreakPoints-method | 0.579 | 0.086 | 0.674 | |
featureInfo-CopyNumberBreakPoints-method | 1.954 | 0.326 | 2.301 | |
featuresPerGene-CopyNumberBreakPointGenes-method | 1.454 | 0.137 | 1.605 | |
geneChromosomes-CopyNumberBreakPointGenes-method | 1.735 | 0.174 | 1.926 | |
geneInfo-CopyNumberBreakPointGenes-method | 1.715 | 0.231 | 1.974 | |
getBreakpoints | 1.316 | 0.120 | 1.457 | |
namesFeatures-CopyNumberBreakPoints-method | 0.897 | 0.100 | 1.008 | |
recurrentGenes-CopyNumberBreakPointGenes-method | 4.986 | 0.564 | 5.654 | |
sampleNames-CopyNumberBreakPoints-method | 1.106 | 0.107 | 1.230 | |
segmentData-CopyNumberBreakPoints-method | 0.884 | 0.666 | 1.577 | |