| Back to Multiple platform build/check report for BioC 3.18: simplified long |
|
This page was generated on 2024-04-17 11:35:57 -0400 (Wed, 17 Apr 2024).
| Hostname | OS | Arch (*) | R version | Installed pkgs |
|---|---|---|---|---|
| nebbiolo2 | Linux (Ubuntu 22.04.3 LTS) | x86_64 | 4.3.3 (2024-02-29) -- "Angel Food Cake" | 4676 |
| palomino4 | Windows Server 2022 Datacenter | x64 | 4.3.3 (2024-02-29 ucrt) -- "Angel Food Cake" | 4414 |
| merida1 | macOS 12.7.1 Monterey | x86_64 | 4.3.3 (2024-02-29) -- "Angel Food Cake" | 4437 |
| Click on any hostname to see more info about the system (e.g. compilers) (*) as reported by 'uname -p', except on Windows and Mac OS X | ||||
| Package 712/2266 | Hostname | OS / Arch | INSTALL | BUILD | CHECK | BUILD BIN | ||||||||
| FISHalyseR 1.36.0 (landing page) Karesh Arunakirinathan
| nebbiolo2 | Linux (Ubuntu 22.04.3 LTS) / x86_64 | OK | OK | WARNINGS | |||||||||
| palomino4 | Windows Server 2022 Datacenter / x64 | OK | OK | WARNINGS | OK | |||||||||
| merida1 | macOS 12.7.1 Monterey / x86_64 | OK | OK | WARNINGS | OK | |||||||||
| kjohnson1 | macOS 13.6.1 Ventura / arm64 | see weekly results here | ||||||||||||
|
To the developers/maintainers of the FISHalyseR package: - Allow up to 24 hours (and sometimes 48 hours) for your latest push to git@git.bioconductor.org:packages/FISHalyseR.git to reflect on this report. See Troubleshooting Build Report for more information. - Use the following Renviron settings to reproduce errors and warnings. - If 'R CMD check' started to fail recently on the Linux builder(s) over a missing dependency, add the missing dependency to 'Suggests:' in your DESCRIPTION file. See Renviron.bioc for more information. |
| Package: FISHalyseR |
| Version: 1.36.0 |
| Command: /home/biocbuild/bbs-3.18-bioc/R/bin/R CMD check --install=check:FISHalyseR.install-out.txt --library=/home/biocbuild/bbs-3.18-bioc/R/site-library --timings FISHalyseR_1.36.0.tar.gz |
| StartedAt: 2024-04-15 22:47:43 -0400 (Mon, 15 Apr 2024) |
| EndedAt: 2024-04-15 22:48:41 -0400 (Mon, 15 Apr 2024) |
| EllapsedTime: 57.4 seconds |
| RetCode: 0 |
| Status: WARNINGS |
| CheckDir: FISHalyseR.Rcheck |
| Warnings: 2 |
##############################################################################
##############################################################################
###
### Running command:
###
### /home/biocbuild/bbs-3.18-bioc/R/bin/R CMD check --install=check:FISHalyseR.install-out.txt --library=/home/biocbuild/bbs-3.18-bioc/R/site-library --timings FISHalyseR_1.36.0.tar.gz
###
##############################################################################
##############################################################################
* using log directory ‘/home/biocbuild/bbs-3.18-bioc/meat/FISHalyseR.Rcheck’
* using R version 4.3.3 (2024-02-29)
* using platform: x86_64-pc-linux-gnu (64-bit)
* R was compiled by
gcc (Ubuntu 11.4.0-1ubuntu1~22.04) 11.4.0
GNU Fortran (Ubuntu 11.4.0-1ubuntu1~22.04) 11.4.0
* running under: Ubuntu 22.04.4 LTS
* using session charset: UTF-8
* checking for file ‘FISHalyseR/DESCRIPTION’ ... OK
* checking extension type ... Package
* this is package ‘FISHalyseR’ version ‘1.36.0’
* checking package namespace information ... OK
* checking package dependencies ... OK
* checking if this is a source package ... OK
* checking if there is a namespace ... OK
* checking for hidden files and directories ... OK
* checking for portable file names ... OK
* checking for sufficient/correct file permissions ... OK
* checking whether package ‘FISHalyseR’ can be installed ... WARNING
Found the following significant warnings:
Warning: replacing previous import ‘EBImage::abind’ by ‘abind::abind’ when loading ‘FISHalyseR’
See ‘/home/biocbuild/bbs-3.18-bioc/meat/FISHalyseR.Rcheck/00install.out’ for details.
* checking installed package size ... OK
* checking package directory ... OK
* checking ‘build’ directory ... OK
* checking DESCRIPTION meta-information ... OK
* checking top-level files ... OK
* checking for left-over files ... OK
* checking index information ... OK
* checking package subdirectories ... OK
* checking R files for non-ASCII characters ... OK
* checking R files for syntax errors ... OK
* checking whether the package can be loaded ... OK
* checking whether the package can be loaded with stated dependencies ... OK
* checking whether the package can be unloaded cleanly ... OK
* checking whether the namespace can be loaded with stated dependencies ... OK
* checking whether the namespace can be unloaded cleanly ... OK
* checking loading without being on the library search path ... OK
* checking dependencies in R code ... OK
* checking S3 generic/method consistency ... OK
* checking replacement functions ... OK
* checking foreign function calls ... OK
* checking R code for possible problems ... NOTE
computeIlluminationCorrection: warning in gblur(I, s = 5): partial
argument match of 's' to 'sigma'
GetDistances: no visible global function definition for ‘na.exclude’
plotLabelMatrix: no visible global function definition for ‘jpeg’
plotLabelMatrix: no visible global function definition for ‘text’
plotLabelMatrix: no visible global function definition for ‘dev.off’
processFISH: no visible global function definition for ‘write.table’
Undefined global functions or variables:
dev.off jpeg na.exclude text write.table
Consider adding
importFrom("grDevices", "dev.off", "jpeg")
importFrom("graphics", "text")
importFrom("stats", "na.exclude")
importFrom("utils", "write.table")
to your NAMESPACE file.
* checking Rd files ... OK
* checking Rd metadata ... OK
* checking Rd cross-references ... OK
* checking for missing documentation entries ... OK
* checking for code/documentation mismatches ... OK
* checking Rd \usage sections ... OK
* checking Rd contents ... OK
* checking for unstated dependencies in examples ... OK
* checking files in ‘vignettes’ ... OK
* checking examples ... WARNING
Found the following significant warnings:
Warning: working directory was changed to ‘/tmp/RtmpIwYgz8SampleFISH.jpg’, resetting
* checking for unstated dependencies in vignettes ... OK
* checking package vignettes in ‘inst/doc’ ... OK
* checking running R code from vignettes ...
‘FISHalyseR.Rnw’... OK
OK
* checking re-building of vignette outputs ... OK
* checking PDF version of manual ... OK
* DONE
Status: 2 WARNINGs, 1 NOTE
See
‘/home/biocbuild/bbs-3.18-bioc/meat/FISHalyseR.Rcheck/00check.log’
for details.
FISHalyseR.Rcheck/00install.out
############################################################################## ############################################################################## ### ### Running command: ### ### /home/biocbuild/bbs-3.18-bioc/R/bin/R CMD INSTALL FISHalyseR ### ############################################################################## ############################################################################## * installing to library ‘/home/biocbuild/bbs-3.18-bioc/R/site-library’ * installing *source* package ‘FISHalyseR’ ... ** using staged installation ** R ** inst ** byte-compile and prepare package for lazy loading Warning: replacing previous import ‘EBImage::abind’ by ‘abind::abind’ when loading ‘FISHalyseR’ ** help *** installing help indices ** building package indices ** installing vignettes ** testing if installed package can be loaded from temporary location Warning: replacing previous import ‘EBImage::abind’ by ‘abind::abind’ when loading ‘FISHalyseR’ ** testing if installed package can be loaded from final location Warning: replacing previous import ‘EBImage::abind’ by ‘abind::abind’ when loading ‘FISHalyseR’ ** testing if installed package keeps a record of temporary installation path * DONE (FISHalyseR)
FISHalyseR.Rcheck/FISHalyseR-Ex.timings
| name | user | system | elapsed | |
| analyseParticles | 0.095 | 0.028 | 0.123 | |
| calculateMaxEntropy | 0.155 | 0.016 | 0.171 | |
| calculateThreshold | 0.126 | 0.004 | 0.130 | |
| computeIlluminationCorrection | 0.001 | 0.000 | 0.001 | |