| Back to Multiple platform build/check report for BioC 3.18: simplified long |
|
This page was generated on 2024-04-17 11:35:56 -0400 (Wed, 17 Apr 2024).
| Hostname | OS | Arch (*) | R version | Installed pkgs |
|---|---|---|---|---|
| nebbiolo2 | Linux (Ubuntu 22.04.3 LTS) | x86_64 | 4.3.3 (2024-02-29) -- "Angel Food Cake" | 4676 |
| palomino4 | Windows Server 2022 Datacenter | x64 | 4.3.3 (2024-02-29 ucrt) -- "Angel Food Cake" | 4414 |
| merida1 | macOS 12.7.1 Monterey | x86_64 | 4.3.3 (2024-02-29) -- "Angel Food Cake" | 4437 |
| Click on any hostname to see more info about the system (e.g. compilers) (*) as reported by 'uname -p', except on Windows and Mac OS X | ||||
| Package 638/2266 | Hostname | OS / Arch | INSTALL | BUILD | CHECK | BUILD BIN | ||||||||
| EnMCB 1.14.0 (landing page) Xin Yu
| nebbiolo2 | Linux (Ubuntu 22.04.3 LTS) / x86_64 | OK | OK | OK | |||||||||
| palomino4 | Windows Server 2022 Datacenter / x64 | OK | OK | OK | OK | |||||||||
| merida1 | macOS 12.7.1 Monterey / x86_64 | OK | OK | OK | OK | |||||||||
| kjohnson1 | macOS 13.6.1 Ventura / arm64 | see weekly results here | ||||||||||||
|
To the developers/maintainers of the EnMCB package: - Allow up to 24 hours (and sometimes 48 hours) for your latest push to git@git.bioconductor.org:packages/EnMCB.git to reflect on this report. See Troubleshooting Build Report for more information. - Use the following Renviron settings to reproduce errors and warnings. - If 'R CMD check' started to fail recently on the Linux builder(s) over a missing dependency, add the missing dependency to 'Suggests:' in your DESCRIPTION file. See Renviron.bioc for more information. |
| Package: EnMCB |
| Version: 1.14.0 |
| Command: /home/biocbuild/bbs-3.18-bioc/R/bin/R CMD check --install=check:EnMCB.install-out.txt --library=/home/biocbuild/bbs-3.18-bioc/R/site-library --timings EnMCB_1.14.0.tar.gz |
| StartedAt: 2024-04-15 22:26:27 -0400 (Mon, 15 Apr 2024) |
| EndedAt: 2024-04-15 22:29:21 -0400 (Mon, 15 Apr 2024) |
| EllapsedTime: 173.3 seconds |
| RetCode: 0 |
| Status: OK |
| CheckDir: EnMCB.Rcheck |
| Warnings: 0 |
##############################################################################
##############################################################################
###
### Running command:
###
### /home/biocbuild/bbs-3.18-bioc/R/bin/R CMD check --install=check:EnMCB.install-out.txt --library=/home/biocbuild/bbs-3.18-bioc/R/site-library --timings EnMCB_1.14.0.tar.gz
###
##############################################################################
##############################################################################
* using log directory ‘/home/biocbuild/bbs-3.18-bioc/meat/EnMCB.Rcheck’
* using R version 4.3.3 (2024-02-29)
* using platform: x86_64-pc-linux-gnu (64-bit)
* R was compiled by
gcc (Ubuntu 11.4.0-1ubuntu1~22.04) 11.4.0
GNU Fortran (Ubuntu 11.4.0-1ubuntu1~22.04) 11.4.0
* running under: Ubuntu 22.04.4 LTS
* using session charset: UTF-8
* checking for file ‘EnMCB/DESCRIPTION’ ... OK
* checking extension type ... Package
* this is package ‘EnMCB’ version ‘1.14.0’
* package encoding: UTF-8
* checking package namespace information ... OK
* checking package dependencies ... OK
* checking if this is a source package ... OK
* checking if there is a namespace ... OK
* checking for hidden files and directories ... OK
* checking for portable file names ... OK
* checking for sufficient/correct file permissions ... OK
* checking whether package ‘EnMCB’ can be installed ... OK
* checking installed package size ... NOTE
installed size is 5.2Mb
sub-directories of 1Mb or more:
data 4.9Mb
* checking package directory ... OK
* checking ‘build’ directory ... OK
* checking DESCRIPTION meta-information ... OK
* checking top-level files ... OK
* checking for left-over files ... OK
* checking index information ... OK
* checking package subdirectories ... OK
* checking R files for non-ASCII characters ... OK
* checking R files for syntax errors ... OK
* checking whether the package can be loaded ... OK
* checking whether the package can be loaded with stated dependencies ... OK
* checking whether the package can be unloaded cleanly ... OK
* checking whether the namespace can be loaded with stated dependencies ... OK
* checking whether the namespace can be unloaded cleanly ... OK
* checking loading without being on the library search path ... OK
* checking dependencies in R code ... OK
* checking S3 generic/method consistency ... OK
* checking replacement functions ... OK
* checking foreign function calls ... OK
* checking R code for possible problems ... OK
* checking Rd files ... OK
* checking Rd metadata ... OK
* checking Rd cross-references ... OK
* checking for missing documentation entries ... OK
* checking for code/documentation mismatches ... OK
* checking Rd \usage sections ... OK
* checking Rd contents ... OK
* checking for unstated dependencies in examples ... OK
* checking contents of ‘data’ directory ... OK
* checking data for non-ASCII characters ... OK
* checking data for ASCII and uncompressed saves ... OK
* checking files in ‘vignettes’ ... OK
* checking examples ... OK
Examples with CPU (user + system) or elapsed time > 5s
user system elapsed
metricMCB.cv 11.301 0.181 11.481
ensemble_model 6.294 0.159 6.454
ensemble_prediction 5.825 0.140 5.965
pre_process_methylation 5.202 0.247 5.450
* checking for unstated dependencies in ‘tests’ ... OK
* checking tests ...
Running ‘testthat.R’
OK
* checking for unstated dependencies in vignettes ... OK
* checking package vignettes in ‘inst/doc’ ... OK
* checking running R code from vignettes ...
‘vignette.Rmd’ using ‘UTF-8’... OK
OK
* checking re-building of vignette outputs ... OK
* checking PDF version of manual ... OK
* DONE
Status: 1 NOTE
See
‘/home/biocbuild/bbs-3.18-bioc/meat/EnMCB.Rcheck/00check.log’
for details.
EnMCB.Rcheck/00install.out
############################################################################## ############################################################################## ### ### Running command: ### ### /home/biocbuild/bbs-3.18-bioc/R/bin/R CMD INSTALL EnMCB ### ############################################################################## ############################################################################## * installing to library ‘/home/biocbuild/bbs-3.18-bioc/R/site-library’ * installing *source* package ‘EnMCB’ ... ** using staged installation ** R ** data ** inst ** byte-compile and prepare package for lazy loading ** help *** installing help indices ** building package indices ** installing vignettes ** testing if installed package can be loaded from temporary location ** testing if installed package can be loaded from final location ** testing if installed package keeps a record of temporary installation path * DONE (EnMCB)
EnMCB.Rcheck/tests/testthat.Rout
R version 4.3.3 (2024-02-29) -- "Angel Food Cake"
Copyright (C) 2024 The R Foundation for Statistical Computing
Platform: x86_64-pc-linux-gnu (64-bit)
R is free software and comes with ABSOLUTELY NO WARRANTY.
You are welcome to redistribute it under certain conditions.
Type 'license()' or 'licence()' for distribution details.
R is a collaborative project with many contributors.
Type 'contributors()' for more information and
'citation()' on how to cite R or R packages in publications.
Type 'demo()' for some demos, 'help()' for on-line help, or
'help.start()' for an HTML browser interface to help.
Type 'q()' to quit R.
> library(testthat)
> library(EnMCB)
>
> test_check("EnMCB")
Start calculating the correlation, this may take a while...
(or you can try to use IdentifyMCB_parallel function instead)
|
| | 0%
|
|################## | 25%
|
|################################### | 50%
|
|#################################################### | 75%
|
|######################################################################| 100%
Now gathering the results, please wait ...
Statistics ( 4 MCBs in total):
chr2 : total MCBs: 1 Mean Length: 167 (Range: 167 167 )
chr6 : total MCBs: 1 Mean Length: 129 (Range: 129 129 )
chr8 : total MCBs: 2 Mean Length: 303.5 (Range: 181 426 )
[ FAIL 0 | WARN 0 | SKIP 0 | PASS 1 ]
>
> proc.time()
user system elapsed
6.960 0.307 7.257
EnMCB.Rcheck/EnMCB-Ex.timings
| name | user | system | elapsed | |
| CompareMCB | 0.028 | 0.000 | 0.027 | |
| DiffMCB | 0.137 | 0.000 | 0.136 | |
| IdentifyMCB | 3.996 | 0.140 | 4.135 | |
| IdentifyMCB_parallel | 3.354 | 0.091 | 3.446 | |
| create_demo | 0.726 | 0.037 | 0.762 | |
| draw_survival_curve | 1.662 | 0.155 | 1.818 | |
| ensemble_model | 6.294 | 0.159 | 6.454 | |
| ensemble_prediction | 5.825 | 0.140 | 5.965 | |
| fast_roc_calculation | 3.679 | 0.012 | 3.691 | |
| metricMCB | 0.445 | 0.059 | 0.505 | |
| metricMCB.cv | 11.301 | 0.181 | 11.481 | |
| multi_coxph | 0.036 | 0.000 | 0.036 | |
| pre_process_methylation | 5.202 | 0.247 | 5.450 | |
| univ_coxph | 0.116 | 0.008 | 0.124 | |