| Back to Multiple platform build/check report for BioC 3.18: simplified long |
|
This page was generated on 2023-11-02 11:40:33 -0400 (Thu, 02 Nov 2023).
| Hostname | OS | Arch (*) | R version | Installed pkgs |
|---|---|---|---|---|
| nebbiolo2 | Linux (Ubuntu 22.04.2 LTS) | x86_64 | 4.3.1 (2023-06-16) -- "Beagle Scouts" | 4729 |
| palomino4 | Windows Server 2022 Datacenter | x64 | 4.3.1 (2023-06-16 ucrt) -- "Beagle Scouts" | 4463 |
| lconway | macOS 12.6.5 Monterey | x86_64 | 4.3.1 Patched (2023-06-17 r84564) -- "Beagle Scouts" | 4478 |
| kunpeng2 | Linux (openEuler 22.03 LTS-SP1) | aarch64 | 4.3.1 (2023-06-16) -- "Beagle Scouts" | 4464 |
| Click on any hostname to see more info about the system (e.g. compilers) (*) as reported by 'uname -p', except on Windows and Mac OS X | ||||
| Package 436/2266 | Hostname | OS / Arch | INSTALL | BUILD | CHECK | BUILD BIN | ||||||||
| CoreGx 2.6.0 (landing page) Benjamin Haibe-Kains
| nebbiolo2 | Linux (Ubuntu 22.04.2 LTS) / x86_64 | OK | OK | OK | |||||||||
| palomino4 | Windows Server 2022 Datacenter / x64 | OK | OK | OK | OK | |||||||||
| lconway | macOS 12.6.5 Monterey / x86_64 | OK | OK | OK | OK | |||||||||
| kjohnson1 | macOS 13.6.1 Ventura / arm64 | see weekly results here | ||||||||||||
| kunpeng2 | Linux (openEuler 22.03 LTS-SP1) / aarch64 | OK | OK | ERROR | ||||||||||
|
To the developers/maintainers of the CoreGx package: - Allow up to 24 hours (and sometimes 48 hours) for your latest push to git@git.bioconductor.org:packages/CoreGx.git to reflect on this report. See Troubleshooting Build Report for more information. - Use the following Renviron settings to reproduce errors and warnings. - If 'R CMD check' started to fail recently on the Linux builder(s) over a missing dependency, add the missing dependency to 'Suggests:' in your DESCRIPTION file. See Renviron.bioc for more information. - See Martin Grigorov's blog post for how to debug Linux ARM64 related issues on a x86_64 host. |
| Package: CoreGx |
| Version: 2.6.0 |
| Command: /home/biocbuild/R/R-4.3.1/bin/R CMD check --install=check:CoreGx.install-out.txt --library=/home/biocbuild/R/R-4.3.1/site-library --no-vignettes --timings CoreGx_2.6.0.tar.gz |
| StartedAt: 2023-11-02 09:34:36 -0000 (Thu, 02 Nov 2023) |
| EndedAt: 2023-11-02 09:41:06 -0000 (Thu, 02 Nov 2023) |
| EllapsedTime: 390.2 seconds |
| RetCode: 1 |
| Status: ERROR |
| CheckDir: CoreGx.Rcheck |
| Warnings: NA |
##############################################################################
##############################################################################
###
### Running command:
###
### /home/biocbuild/R/R-4.3.1/bin/R CMD check --install=check:CoreGx.install-out.txt --library=/home/biocbuild/R/R-4.3.1/site-library --no-vignettes --timings CoreGx_2.6.0.tar.gz
###
##############################################################################
##############################################################################
* using log directory ‘/home/biocbuild/bbs-3.18-bioc/meat/CoreGx.Rcheck’
* using R version 4.3.1 (2023-06-16)
* using platform: aarch64-unknown-linux-gnu (64-bit)
* R was compiled by
gcc (GCC) 10.3.1
GNU Fortran (GCC) 10.3.1
* running under: openEuler 22.03 (LTS-SP1)
* using session charset: UTF-8
* using option ‘--no-vignettes’
* checking for file ‘CoreGx/DESCRIPTION’ ... OK
* checking extension type ... Package
* this is package ‘CoreGx’ version ‘2.6.0’
* package encoding: UTF-8
* checking package namespace information ... OK
* checking package dependencies ... OK
* checking if this is a source package ... OK
* checking if there is a namespace ... OK
* checking for hidden files and directories ... OK
* checking for portable file names ... OK
* checking for sufficient/correct file permissions ... OK
* checking whether package ‘CoreGx’ can be installed ... OK
* checking installed package size ... OK
* checking package directory ... OK
* checking ‘build’ directory ... OK
* checking DESCRIPTION meta-information ... OK
* checking top-level files ... OK
* checking for left-over files ... OK
* checking index information ... OK
* checking package subdirectories ... OK
* checking R files for non-ASCII characters ... OK
* checking R files for syntax errors ... OK
* checking whether the package can be loaded ... OK
* checking whether the package can be loaded with stated dependencies ... OK
* checking whether the package can be unloaded cleanly ... OK
* checking whether the namespace can be loaded with stated dependencies ... OK
* checking whether the namespace can be unloaded cleanly ... OK
* checking loading without being on the library search path ... OK
* checking dependencies in R code ... NOTE
There are ::: calls to the package's namespace in its code. A package
almost never needs to use ::: for its own objects:
‘.LongTable’ ‘.parseToRoxygen’ ‘.sensitivityToTRE’
* checking S3 generic/method consistency ... OK
* checking replacement functions ... OK
* checking foreign function calls ... OK
* checking R code for possible problems ... NOTE
.meshEval2: no visible binding for global variable ‘n’
.meshEval2: no visible binding for global variable ‘family’
.rebuildInfo: no visible global function definition for ‘patterns’
.rebuildInfo: no visible binding for global variable ‘..keepCols’
.rebuildInfo: no visible binding for global variable ‘replicate_id’
.rebuildInfo: no visible binding for global variable ‘treatment1id’
.rebuildInfo: no visible binding for global variable ‘sampleid’
.rebuildInfo: no visible binding for global variable ‘treatmentid’
.rebuildInfo: no visible binding for global variable ‘treatment_uid’
.rebuildInfo: no visible binding for global variable ‘..rowIDcols’
.rebuildInfo: no visible binding for global variable ‘sample_uid’
.rebuildInfo: no visible binding for global variable ‘..colIDcols’
.rebuildInfo: no visible binding for global variable ‘exp_id’
.rebuildProfiles: no visible binding for global variable
‘treatment_uid’
.rebuildProfiles: no visible binding for global variable ‘sample_uid’
.rebuildProfiles: no visible binding for global variable ‘exp_id’
.rebuildProfiles: no visible binding for global variable ‘N’
.rebuildRaw: no visible binding for global variable ‘.NATURAL’
.rebuildRaw: no visible binding for global variable ‘sampleid’
.rebuildRaw: no visible binding for global variable ‘exp_id’
.rebuildRaw: no visible binding for global variable ‘treatment1id’
.rebuildRaw: no visible binding for global variable ‘row_ids’
.rebuildRaw: no visible binding for global variable ‘col_ids’
.rebuildRaw: no visible binding for global variable ‘dose’
.rebuildRaw: no visible global function definition for ‘patterns’
.rebuildSensNumber: no visible global function definition for
‘patterns’
.rebuildSensNumber: no visible binding for global variable
‘.treatmentCombo’
.rebuildSensNumber: no visible binding for global variable
‘.sampleCombo’
.sensitivityToTRE: no visible binding for global variable ‘dose’
.sensitivityToTRE: no visible binding for global variable ‘viability’
.sensitivityToTRE: no visible binding for global variable
‘replicate_id’
.sensitivityToTRE: no visible binding for global variable ‘rn’
.sensitivityToTRE: no visible binding for global variable ‘treatmentid’
.sensitivityToTRE: no visible binding for global variable ‘sampleid’
.update_dimData: no visible binding for global variable ‘N’
.update_dimData: no visible binding for global variable ‘.NATURAL’
.update_dimData: no visible binding for global variable ‘.rownames’
CoreSet: no visible binding for global variable ‘cell’
CoreSet: no visible binding for global variable ‘drug’
aggregate2: no visible binding for global variable ‘group_id’
aggregate2: no visible binding for global variable ‘split_id’
cardinality: no visible binding for global variable ‘N’
checkColumnCardinality: no visible binding for global variable ‘N’
optimizeCoreGx: no visible binding for global variable ‘nthread’
optimizeCoreGx: no visible binding for global variable ‘total_time’
optimizeCoreGx: no visible binding for global variable ‘mem_alloc’
optimizeCoreGx: no visible binding for global variable ‘itr/sec’
optimizeCoreGx: no visible binding for global variable ‘gc/sec’
optimizeCoreGx: no visible binding for global variable ‘median_sec’
optimizeCoreGx: no visible binding for global variable ‘N’
buildComboProfiles,LongTable: no visible binding for global variable
‘treatment2dose’
buildComboProfiles,LongTable: no visible binding for global variable
‘treatment1dose’
coerce,SummarizedExperiment-data.table: no visible binding for global
variable ‘.sample’
coerce,SummarizedExperiment-data.table: no visible binding for global
variable ‘.feature’
reindex,LongTable: no visible binding for global variable ‘.rowKey’
reindex,LongTable: no visible binding for global variable ‘.colKey’
sensitivityRaw<-,CoreSet-array: no visible binding for global variable
‘V2’
sensitivityRaw<-,CoreSet-array: no visible binding for global variable
‘V1’
sensitivityRaw<-,CoreSet-array: no visible binding for global variable
‘rn’
treatmentResponse<-,CoreSet-list_OR_LongTable: no visible binding for
global variable ‘funContext’
updateObject,CoreSet: no visible global function definition for
‘isValid’
updateObject,LongTable: no visible global function definition for
‘isValid’
Undefined global functions or variables:
..colIDcols ..keepCols ..rowIDcols .NATURAL .colKey .feature .rowKey
.rownames .sample .sampleCombo .treatmentCombo N V1 V2 cell col_ids
dose drug exp_id family funContext gc/sec group_id isValid itr/sec
median_sec mem_alloc n nthread patterns replicate_id rn row_ids
sample_uid sampleid split_id total_time treatment1dose treatment1id
treatment2dose treatment_uid treatmentid viability
Consider adding
importFrom("stats", "family")
to your NAMESPACE file.
* checking Rd files ... OK
* checking Rd metadata ... OK
* checking Rd cross-references ... OK
* checking for missing documentation entries ... OK
* checking for code/documentation mismatches ... OK
* checking Rd \usage sections ... NOTE
S3 methods shown with full name in documentation object 'setOps-immutable':
‘subset.immutable’
The \usage entries for S3 methods should use the \method markup and not
their full name.
See chapter ‘Writing R documentation files’ in the ‘Writing R
Extensions’ manual.
* checking Rd contents ... OK
* checking for unstated dependencies in examples ... OK
* checking contents of ‘data’ directory ... OK
* checking data for non-ASCII characters ... NOTE
Note: found 99 marked UTF-8 strings
* checking LazyData ... OK
* checking data for ASCII and uncompressed saves ... OK
* checking files in ‘vignettes’ ... OK
* checking examples ... OK
* checking for unstated dependencies in ‘tests’ ... OK
* checking tests ...
Running ‘testthat.R’/home/biocbuild/R/R-4.3.1/bin/BATCH: line 60: 850790 Killed ${R_HOME}/bin/R -f ${in} ${opts} ${R_BATCH_OPTIONS} > ${out} 2>&1
ERROR
Running the tests in ‘tests/testthat.R’ failed.
Last 13 lines of output:
shift
The following objects are masked from 'package:S4Vectors':
first, second
|
| | 0%
|
|=================================== | 50%
|
|======================================================================| 100%
* checking for unstated dependencies in vignettes ... OK
* checking package vignettes in ‘inst/doc’ ... OK
* checking running R code from vignettes ... SKIPPED
* checking re-building of vignette outputs ... SKIPPED
* checking PDF version of manual ... OK
* DONE
Status: 1 ERROR, 4 NOTEs
See
‘/home/biocbuild/bbs-3.18-bioc/meat/CoreGx.Rcheck/00check.log’
for details.
CoreGx.Rcheck/00install.out
############################################################################## ############################################################################## ### ### Running command: ### ### /home/biocbuild/R/R-4.3.1/bin/R CMD INSTALL CoreGx ### ############################################################################## ############################################################################## * installing to library ‘/home/biocbuild/R/R-4.3.1/site-library’ * installing *source* package ‘CoreGx’ ... ** using staged installation ** R ** data *** moving datasets to lazyload DB ** inst ** byte-compile and prepare package for lazy loading ** help *** installing help indices ** building package indices ** installing vignettes ** testing if installed package can be loaded from temporary location ** testing if installed package can be loaded from final location ** testing if installed package keeps a record of temporary installation path * DONE (CoreGx)
CoreGx.Rcheck/tests/testthat.Rout.fail
R version 4.3.1 (2023-06-16) -- "Beagle Scouts"
Copyright (C) 2023 The R Foundation for Statistical Computing
Platform: aarch64-unknown-linux-gnu (64-bit)
R is free software and comes with ABSOLUTELY NO WARRANTY.
You are welcome to redistribute it under certain conditions.
Type 'license()' or 'licence()' for distribution details.
R is a collaborative project with many contributors.
Type 'contributors()' for more information and
'citation()' on how to cite R or R packages in publications.
Type 'demo()' for some demos, 'help()' for on-line help, or
'help.start()' for an HTML browser interface to help.
Type 'q()' to quit R.
> library(testthat)
> library(CoreGx)
Loading required package: BiocGenerics
Attaching package: 'BiocGenerics'
The following objects are masked from 'package:stats':
IQR, mad, sd, var, xtabs
The following objects are masked from 'package:base':
Filter, Find, Map, Position, Reduce, anyDuplicated, aperm, append,
as.data.frame, basename, cbind, colnames, dirname, do.call,
duplicated, eval, evalq, get, grep, grepl, intersect, is.unsorted,
lapply, mapply, match, mget, order, paste, pmax, pmax.int, pmin,
pmin.int, rank, rbind, rownames, sapply, setdiff, sort, table,
tapply, union, unique, unsplit, which.max, which.min
Loading required package: SummarizedExperiment
Loading required package: MatrixGenerics
Loading required package: matrixStats
Attaching package: 'MatrixGenerics'
The following objects are masked from 'package:matrixStats':
colAlls, colAnyNAs, colAnys, colAvgsPerRowSet, colCollapse,
colCounts, colCummaxs, colCummins, colCumprods, colCumsums,
colDiffs, colIQRDiffs, colIQRs, colLogSumExps, colMadDiffs,
colMads, colMaxs, colMeans2, colMedians, colMins, colOrderStats,
colProds, colQuantiles, colRanges, colRanks, colSdDiffs, colSds,
colSums2, colTabulates, colVarDiffs, colVars, colWeightedMads,
colWeightedMeans, colWeightedMedians, colWeightedSds,
colWeightedVars, rowAlls, rowAnyNAs, rowAnys, rowAvgsPerColSet,
rowCollapse, rowCounts, rowCummaxs, rowCummins, rowCumprods,
rowCumsums, rowDiffs, rowIQRDiffs, rowIQRs, rowLogSumExps,
rowMadDiffs, rowMads, rowMaxs, rowMeans2, rowMedians, rowMins,
rowOrderStats, rowProds, rowQuantiles, rowRanges, rowRanks,
rowSdDiffs, rowSds, rowSums2, rowTabulates, rowVarDiffs, rowVars,
rowWeightedMads, rowWeightedMeans, rowWeightedMedians,
rowWeightedSds, rowWeightedVars
Loading required package: GenomicRanges
Loading required package: stats4
Loading required package: S4Vectors
Attaching package: 'S4Vectors'
The following object is masked from 'package:utils':
findMatches
The following objects are masked from 'package:base':
I, expand.grid, unname
Loading required package: IRanges
Loading required package: GenomeInfoDb
Loading required package: Biobase
Welcome to Bioconductor
Vignettes contain introductory material; view with
'browseVignettes()'. To cite Bioconductor, see
'citation("Biobase")', and for packages 'citation("pkgname")'.
Attaching package: 'Biobase'
The following object is masked from 'package:MatrixGenerics':
rowMedians
The following objects are masked from 'package:matrixStats':
anyMissing, rowMedians
>
> test_check("CoreGx")
Attaching package: 'data.table'
The following object is masked from 'package:SummarizedExperiment':
shift
The following object is masked from 'package:GenomicRanges':
shift
The following object is masked from 'package:IRanges':
shift
The following objects are masked from 'package:S4Vectors':
first, second
|
| | 0%
|
|=================================== | 50%
|
|======================================================================| 100%
CoreGx.Rcheck/CoreGx-Ex.timings
| name | user | system | elapsed | |
| CoreSet-accessors | 1.270 | 0.053 | 1.342 | |
| CoreSet-utils | 0.540 | 0.001 | 0.542 | |
| CoreSet | 0.021 | 0.000 | 0.020 | |
| CoreSet2 | 0.02 | 0.00 | 0.02 | |
| LongTable-accessors | 0.001 | 0.000 | 0.001 | |
| LongTable-class | 1.603 | 0.564 | 2.438 | |
| LongTable | 0 | 0 | 0 | |
| LongTableDataMapper-accessors | 0.003 | 0.002 | 0.004 | |
| LongTableDataMapper-class | 0.007 | 0.000 | 0.007 | |
| LongTableDataMapper | 0.006 | 0.000 | 0.011 | |
| TREDataMapper-accessors | 0.103 | 0.000 | 0.102 | |
| amcc | 3.540 | 0.096 | 4.784 | |
| as | 1.324 | 0.436 | 0.467 | |
| as.long.table | 0.130 | 0.017 | 0.123 | |
| assayCols | 0 | 0 | 0 | |
| assayIndex | 0 | 0 | 0 | |
| assayKeys | 0.000 | 0.001 | 0.000 | |
| assignment-immutable | 0.000 | 0.003 | 0.003 | |
| buildComboProfiles-LongTable-method | 0.000 | 0.000 | 0.001 | |
| buildComboProfiles | 0 | 0 | 0 | |
| buildLongTable-list-method | 0 | 0 | 0 | |
| buildLongTable | 0 | 0 | 0 | |
| callingWaterfall | 0.000 | 0.000 | 0.001 | |
| cash-LongTable-method | 0.025 | 0.000 | 0.020 | |
| cash-set-LongTable-method | 0.094 | 0.015 | 0.099 | |
| checkColumnCardinality | 0.005 | 0.000 | 0.007 | |
| checkCsetStructure | 0.038 | 0.004 | 0.042 | |
| colIDs | 0.000 | 0.000 | 0.001 | |
| colMeta | 0 | 0 | 0 | |
| connectivityScore | 0.017 | 0.024 | 0.163 | |
| cosinePerm | 0.090 | 0.112 | 0.119 | |
| dot- | 0.000 | 0.000 | 0.001 | |
| dot-distancePointLine | 0.000 | 0.000 | 0.001 | |
| dot-distancePointSegment | 0.000 | 0.000 | 0.001 | |
| dot-fitCurve2 | 0 | 0 | 0 | |
| dot-intersectList | 0.000 | 0.000 | 0.001 | |
| dot-symSetDiffList | 0.001 | 0.000 | 0.001 | |
| dot-unionList | 0.001 | 0.000 | 0.001 | |
| endoaggregate | 0 | 0 | 0 | |
| getIntern-set | 0 | 0 | 0 | |
| getIntern | 0.000 | 0.000 | 0.001 | |
| guessMapping-LongTableDataMapper-method | 0.016 | 0.000 | 0.023 | |
| guessMapping | 0.000 | 0.000 | 0.001 | |
| gwc | 0.033 | 1.250 | 2.480 | |
| idCols | 0 | 0 | 0 | |
| immutable | 0.000 | 0.003 | 0.005 | |
| is.items | 0.000 | 0.000 | 0.001 | |
| mcc | 0.082 | 1.668 | 2.586 | |
| mergeAssays | 0 | 0 | 0 | |
| metaConstruct | 2.335 | 0.386 | 0.123 | |
| mutable | 0 | 0 | 0 | |
| optimizeCoreGx | 0 | 0 | 0 | |
| reindex | 0 | 0 | 0 | |
| rowIDs | 0 | 0 | 0 | |
| rowMeta | 0 | 0 | 0 | |
| sensitivityInfo-set | 0 | 0 | 0 | |
| sensitivityInfo | 0 | 0 | 0 | |
| sensitivityMeasures-set | 0 | 0 | 0 | |
| sensitivityMeasures | 0.016 | 0.006 | 0.022 | |
| sensitivityProfiles | 0.001 | 0.000 | 0.001 | |
| sensitivityRaw | 0 | 0 | 0 | |
| sensitivitySlotToLongTable | 0 | 0 | 0 | |
| setOps-immutable | 0 | 0 | 0 | |
| show-CoreSet-method | 0.01 | 0.00 | 0.01 | |
| show-LongTable-method | 0.011 | 0.000 | 0.011 | |
| showSigAnnot | 0 | 0 | 0 | |
| sub-LongTable-ANY-ANY-ANY-method | 0.421 | 0.072 | 0.482 | |
| sub-subset-LongTable-ANY-ANY-method | 0.099 | 0.004 | 0.091 | |
| subset-LongTable-method | 0.219 | 0.021 | 0.229 | |
| subsetTo | 0 | 0 | 0 | |
| summarizeMolecularProfiles | 0 | 0 | 0 | |
| summarizeSensitivityProfiles | 0 | 0 | 0 | |
| updateSampleId | 0.191 | 0.028 | 0.218 | |
| updateTreatmentId | 0.009 | 0.000 | 0.010 | |