| Back to Build/check report for BioC 3.18: simplified long |
|
This page was generated on 2023-04-20 12:50:28 -0400 (Thu, 20 Apr 2023).
| Hostname | OS | Arch (*) | R version | Installed pkgs |
|---|---|---|---|---|
| nebbiolo2 | Linux (Ubuntu 20.04.5 LTS) | x86_64 | R Under development (unstable) (2023-04-19 r84288) -- "Unsuffered Consequences" | 3941 |
| Click on any hostname to see more info about the system (e.g. compilers) (*) as reported by 'uname -p', except on Windows and Mac OS X | ||||
|
To the developers/maintainers of the CopywriteR package: - Allow up to 24 hours (and sometimes 48 hours) for your latest push to git@git.bioconductor.org:packages/CopywriteR.git to reflect on this report. See Troubleshooting Build Report for more information. - Use the following Renviron settings to reproduce errors and warnings. Note: If "R CMD check" recently failed on the Linux builder over a missing dependency, add the missing dependency to "Suggests" in your DESCRIPTION file. See the Renviron.bioc for details. |
| Package 428/2223 | Hostname | OS / Arch | INSTALL | BUILD | CHECK | BUILD BIN | ||||||||
Oscar Krijgsman
| nebbiolo2 | Linux (Ubuntu 20.04.5 LTS) / x86_64 | ERROR | ERROR | skipped | |||||||||
| Package: CopywriteR |
| Version: 2.31.1 |
| Command: /home/biocbuild/bbs-3.18-bioc/R/bin/R CMD build --keep-empty-dirs --no-resave-data CopywriteR |
| StartedAt: 2023-04-20 04:28:53 -0400 (Thu, 20 Apr 2023) |
| EndedAt: 2023-04-20 04:28:54 -0400 (Thu, 20 Apr 2023) |
| EllapsedTime: 1.0 seconds |
| RetCode: 1 |
| Status: ERROR |
| PackageFile: None |
| PackageFileSize: NA |
##############################################################################
##############################################################################
###
### Running command:
###
### /home/biocbuild/bbs-3.18-bioc/R/bin/R CMD build --keep-empty-dirs --no-resave-data CopywriteR
###
##############################################################################
##############################################################################
* checking for file ‘CopywriteR/DESCRIPTION’ ... OK
* preparing ‘CopywriteR’:
* checking DESCRIPTION meta-information ... OK
* installing the package to build vignettes
-----------------------------------
ERROR: dependency ‘CopyhelpeR’ is not available for package ‘CopywriteR’
* removing ‘/tmp/RtmpY92dm6/Rinst231ab42e2f4cb9/CopywriteR’
-----------------------------------
ERROR: package installation failed