| Back to Multiple platform build/check report for BioC 3.18: simplified long |
|
This page was generated on 2023-11-14 11:35:40 -0500 (Tue, 14 Nov 2023).
| Hostname | OS | Arch (*) | R version | Installed pkgs |
|---|---|---|---|---|
| nebbiolo2 | Linux (Ubuntu 22.04.2 LTS) | x86_64 | 4.3.2 (2023-10-31) -- "Eye Holes" | 4680 |
| palomino4 | Windows Server 2022 Datacenter | x64 | 4.3.2 (2023-10-31 ucrt) -- "Eye Holes" | 4413 |
| lconway | macOS 12.6.5 Monterey | x86_64 | 4.3.2 Patched (2023-11-01 r85457) -- "Eye Holes" | 4432 |
| Click on any hostname to see more info about the system (e.g. compilers) (*) as reported by 'uname -p', except on Windows and Mac OS X | ||||
| Package 441/2266 | Hostname | OS / Arch | INSTALL | BUILD | CHECK | BUILD BIN | ||||||||
| CoSIA 1.2.0 (landing page) Amanda D. Clark
| nebbiolo2 | Linux (Ubuntu 22.04.2 LTS) / x86_64 | OK | OK | OK | |||||||||
| palomino4 | Windows Server 2022 Datacenter / x64 | OK | OK | OK | OK | |||||||||
| lconway | macOS 12.6.5 Monterey / x86_64 | OK | OK | OK | OK | |||||||||
| kjohnson1 | macOS 13.6.1 Ventura / arm64 | see weekly results here | ||||||||||||
|
To the developers/maintainers of the CoSIA package: - Allow up to 24 hours (and sometimes 48 hours) for your latest push to git@git.bioconductor.org:packages/CoSIA.git to reflect on this report. See Troubleshooting Build Report for more information. - Use the following Renviron settings to reproduce errors and warnings. - If 'R CMD check' started to fail recently on the Linux builder(s) over a missing dependency, add the missing dependency to 'Suggests:' in your DESCRIPTION file. See Renviron.bioc for more information. |
| Package: CoSIA |
| Version: 1.2.0 |
| Command: /home/biocbuild/bbs-3.18-bioc/R/bin/R CMD check --install=check:CoSIA.install-out.txt --library=/home/biocbuild/bbs-3.18-bioc/R/site-library --timings CoSIA_1.2.0.tar.gz |
| StartedAt: 2023-11-13 20:30:56 -0500 (Mon, 13 Nov 2023) |
| EndedAt: 2023-11-13 20:48:45 -0500 (Mon, 13 Nov 2023) |
| EllapsedTime: 1068.3 seconds |
| RetCode: 0 |
| Status: OK |
| CheckDir: CoSIA.Rcheck |
| Warnings: 0 |
##############################################################################
##############################################################################
###
### Running command:
###
### /home/biocbuild/bbs-3.18-bioc/R/bin/R CMD check --install=check:CoSIA.install-out.txt --library=/home/biocbuild/bbs-3.18-bioc/R/site-library --timings CoSIA_1.2.0.tar.gz
###
##############################################################################
##############################################################################
* using log directory ‘/home/biocbuild/bbs-3.18-bioc/meat/CoSIA.Rcheck’
* using R version 4.3.2 (2023-10-31)
* using platform: x86_64-pc-linux-gnu (64-bit)
* R was compiled by
gcc (Ubuntu 11.4.0-1ubuntu1~22.04) 11.4.0
GNU Fortran (Ubuntu 11.4.0-1ubuntu1~22.04) 11.4.0
* running under: Ubuntu 22.04.3 LTS
* using session charset: UTF-8
* checking for file ‘CoSIA/DESCRIPTION’ ... OK
* checking extension type ... Package
* this is package ‘CoSIA’ version ‘1.2.0’
* package encoding: UTF-8
* checking package namespace information ... OK
* checking package dependencies ... OK
* checking if this is a source package ... OK
* checking if there is a namespace ... OK
* checking for hidden files and directories ... OK
* checking for portable file names ... OK
* checking for sufficient/correct file permissions ... OK
* checking whether package ‘CoSIA’ can be installed ... OK
* checking installed package size ... OK
* checking package directory ... OK
* checking ‘build’ directory ... OK
* checking DESCRIPTION meta-information ... OK
* checking top-level files ... OK
* checking for left-over files ... OK
* checking index information ... OK
* checking package subdirectories ... OK
* checking R files for non-ASCII characters ... OK
* checking R files for syntax errors ... OK
* checking whether the package can be loaded ... OK
* checking whether the package can be loaded with stated dependencies ... OK
* checking whether the package can be unloaded cleanly ... OK
* checking whether the namespace can be loaded with stated dependencies ... OK
* checking whether the namespace can be unloaded cleanly ... OK
* checking loading without being on the library search path ... OK
* checking dependencies in R code ... OK
* checking S3 generic/method consistency ... OK
* checking replacement functions ... OK
* checking foreign function calls ... OK
* checking R code for possible problems ... OK
* checking Rd files ... OK
* checking Rd metadata ... OK
* checking Rd cross-references ... OK
* checking for missing documentation entries ... OK
* checking for code/documentation mismatches ... OK
* checking Rd \usage sections ... OK
* checking Rd contents ... OK
* checking for unstated dependencies in examples ... OK
* checking files in ‘vignettes’ ... OK
* checking examples ... OK
Examples with CPU (user + system) or elapsed time > 5s
user system elapsed
plotCVGEx-CoSIAn-method 117.266 7.824 125.913
plotCVGEx 76.095 7.659 84.409
plotDSGEx 29.345 3.068 32.782
getGEx-CoSIAn-method 26.353 2.065 30.952
plotDSGEx-CoSIAn-method 24.289 3.192 27.807
getTissues 21.717 1.399 23.436
plotTissueGEx-CoSIAn-method 15.897 0.963 17.259
plotSpeciesGEx-CoSIAn-method 14.878 0.455 15.562
plotSpeciesGEx 14.665 0.500 15.562
plotTissueGEx 14.394 0.553 15.300
getGExMetrics-CoSIAn-method 6.861 0.560 7.779
getGExMetrics 6.312 0.612 7.321
getGEx 4.719 0.343 5.459
* checking for unstated dependencies in vignettes ... OK
* checking package vignettes in ‘inst/doc’ ... OK
* checking running R code from vignettes ...
‘CoSIA_Intro.Rmd’ using ‘UTF-8’... OK
NONE
* checking re-building of vignette outputs ... OK
* checking PDF version of manual ... OK
* DONE
Status: OK
CoSIA.Rcheck/00install.out
############################################################################## ############################################################################## ### ### Running command: ### ### /home/biocbuild/bbs-3.18-bioc/R/bin/R CMD INSTALL CoSIA ### ############################################################################## ############################################################################## * installing to library ‘/home/biocbuild/bbs-3.18-bioc/R/site-library’ * installing *source* package ‘CoSIA’ ... ** using staged installation ** R ** inst ** byte-compile and prepare package for lazy loading ** help *** installing help indices ** building package indices ** installing vignettes ** testing if installed package can be loaded from temporary location ** testing if installed package can be loaded from final location ** testing if installed package keeps a record of temporary installation path * DONE (CoSIA)
CoSIA.Rcheck/CoSIA-Ex.timings
| name | user | system | elapsed | |
| CoSIA-constructor | 0.003 | 0.000 | 0.003 | |
| getConversion-CoSIAn-method | 3.962 | 0.115 | 4.090 | |
| getConversion | 2.308 | 0.020 | 2.327 | |
| getGEx-CoSIAn-method | 26.353 | 2.065 | 30.952 | |
| getGEx | 4.719 | 0.343 | 5.459 | |
| getGExMetrics-CoSIAn-method | 6.861 | 0.560 | 7.779 | |
| getGExMetrics | 6.312 | 0.612 | 7.321 | |
| getTissues | 21.717 | 1.399 | 23.436 | |
| plotCVGEx-CoSIAn-method | 117.266 | 7.824 | 125.913 | |
| plotCVGEx | 76.095 | 7.659 | 84.409 | |
| plotDSGEx-CoSIAn-method | 24.289 | 3.192 | 27.807 | |
| plotDSGEx | 29.345 | 3.068 | 32.782 | |
| plotSpeciesGEx-CoSIAn-method | 14.878 | 0.455 | 15.562 | |
| plotSpeciesGEx | 14.665 | 0.500 | 15.562 | |
| plotTissueGEx-CoSIAn-method | 15.897 | 0.963 | 17.259 | |
| plotTissueGEx | 14.394 | 0.553 | 15.300 | |
| viewCoSIAn-CoSIAn-method | 0.000 | 0.001 | 0.001 | |
| viewCoSIAn | 0.000 | 0.001 | 0.001 | |