| Back to Multiple platform build/check report for BioC 3.18: simplified long |
|
This page was generated on 2024-04-17 11:35:50 -0400 (Wed, 17 Apr 2024).
| Hostname | OS | Arch (*) | R version | Installed pkgs |
|---|---|---|---|---|
| nebbiolo2 | Linux (Ubuntu 22.04.3 LTS) | x86_64 | 4.3.3 (2024-02-29) -- "Angel Food Cake" | 4676 |
| palomino4 | Windows Server 2022 Datacenter | x64 | 4.3.3 (2024-02-29 ucrt) -- "Angel Food Cake" | 4414 |
| merida1 | macOS 12.7.1 Monterey | x86_64 | 4.3.3 (2024-02-29) -- "Angel Food Cake" | 4437 |
| Click on any hostname to see more info about the system (e.g. compilers) (*) as reported by 'uname -p', except on Windows and Mac OS X | ||||
| Package 329/2266 | Hostname | OS / Arch | INSTALL | BUILD | CHECK | BUILD BIN | ||||||||
| ChIPanalyser 1.24.0 (landing page) Patrick C.N. Martin
| nebbiolo2 | Linux (Ubuntu 22.04.3 LTS) / x86_64 | OK | OK | ERROR | |||||||||
| palomino4 | Windows Server 2022 Datacenter / x64 | OK | OK | OK | OK | |||||||||
| merida1 | macOS 12.7.1 Monterey / x86_64 | OK | OK | OK | OK | |||||||||
| kjohnson1 | macOS 13.6.1 Ventura / arm64 | see weekly results here | ||||||||||||
|
To the developers/maintainers of the ChIPanalyser package: - Allow up to 24 hours (and sometimes 48 hours) for your latest push to git@git.bioconductor.org:packages/ChIPanalyser.git to reflect on this report. See Troubleshooting Build Report for more information. - Use the following Renviron settings to reproduce errors and warnings. - If 'R CMD check' started to fail recently on the Linux builder(s) over a missing dependency, add the missing dependency to 'Suggests:' in your DESCRIPTION file. See Renviron.bioc for more information. |
| Package: ChIPanalyser |
| Version: 1.24.0 |
| Command: /home/biocbuild/bbs-3.18-bioc/R/bin/R CMD check --install=check:ChIPanalyser.install-out.txt --library=/home/biocbuild/bbs-3.18-bioc/R/site-library --timings ChIPanalyser_1.24.0.tar.gz |
| StartedAt: 2024-04-15 21:08:24 -0400 (Mon, 15 Apr 2024) |
| EndedAt: 2024-04-15 21:26:41 -0400 (Mon, 15 Apr 2024) |
| EllapsedTime: 1096.5 seconds |
| RetCode: 1 |
| Status: ERROR |
| CheckDir: ChIPanalyser.Rcheck |
| Warnings: NA |
##############################################################################
##############################################################################
###
### Running command:
###
### /home/biocbuild/bbs-3.18-bioc/R/bin/R CMD check --install=check:ChIPanalyser.install-out.txt --library=/home/biocbuild/bbs-3.18-bioc/R/site-library --timings ChIPanalyser_1.24.0.tar.gz
###
##############################################################################
##############################################################################
* using log directory ‘/home/biocbuild/bbs-3.18-bioc/meat/ChIPanalyser.Rcheck’
* using R version 4.3.3 (2024-02-29)
* using platform: x86_64-pc-linux-gnu (64-bit)
* R was compiled by
gcc (Ubuntu 11.4.0-1ubuntu1~22.04) 11.4.0
GNU Fortran (Ubuntu 11.4.0-1ubuntu1~22.04) 11.4.0
* running under: Ubuntu 22.04.4 LTS
* using session charset: UTF-8
* checking for file ‘ChIPanalyser/DESCRIPTION’ ... OK
* checking extension type ... Package
* this is package ‘ChIPanalyser’ version ‘1.24.0’
* package encoding: UTF-8
* checking package namespace information ... OK
* checking package dependencies ... OK
* checking if this is a source package ... OK
* checking if there is a namespace ... OK
* checking for hidden files and directories ... OK
* checking for portable file names ... OK
* checking for sufficient/correct file permissions ... OK
* checking whether package ‘ChIPanalyser’ can be installed ... OK
* checking installed package size ... OK
* checking package directory ... OK
* checking ‘build’ directory ... OK
* checking DESCRIPTION meta-information ... OK
* checking top-level files ... OK
* checking for left-over files ... OK
* checking index information ... OK
* checking package subdirectories ... OK
* checking R files for non-ASCII characters ... OK
* checking R files for syntax errors ... OK
* checking whether the package can be loaded ... OK
* checking whether the package can be loaded with stated dependencies ... OK
* checking whether the package can be unloaded cleanly ... OK
* checking whether the namespace can be loaded with stated dependencies ... OK
* checking whether the namespace can be unloaded cleanly ... OK
* checking loading without being on the library search path ... OK
* checking dependencies in R code ... OK
* checking S3 generic/method consistency ... OK
* checking replacement functions ... OK
* checking foreign function calls ... OK
* checking R code for possible problems ... OK
* checking Rd files ... OK
* checking Rd metadata ... OK
* checking Rd cross-references ... OK
* checking for missing documentation entries ... OK
* checking for code/documentation mismatches ... OK
* checking Rd \usage sections ... OK
* checking Rd contents ... OK
* checking for unstated dependencies in examples ... OK
* checking contents of ‘data’ directory ... OK
* checking data for non-ASCII characters ... OK
* checking LazyData ... OK
* checking data for ASCII and uncompressed saves ... OK
* checking files in ‘vignettes’ ... OK
* checking examples ... OK
* checking for unstated dependencies in ‘tests’ ... OK
* checking tests ...
Running ‘runTests.R’
OK
* checking for unstated dependencies in vignettes ... OK
* checking package vignettes in ‘inst/doc’ ... OK
* checking running R code from vignettes ...
‘ChIPanalyser.Rmd’ using ‘UTF-8’... failed
‘GA_ChIPanalyser.Rmd’ using ‘UTF-8’... OK
ERROR
Errors in running code in vignettes:
when running code in ‘ChIPanalyser.Rmd’
...
> optimalParam <- searchSites(optimal, lambdaPWM = 1.25,
+ BoundMolecules = 10000)
> plotOccupancyProfile(predictedProfile = optimalParam$ChIPProfiles,
+ ChIPScore = chip, chromatinState = Access, occupancy = optimalParam$Occupa .... [TRUNCATED]
When sourcing ‘ChIPanalyser.R’:
Error: figure margins too large
Execution halted
* checking re-building of vignette outputs ... OK
* checking PDF version of manual ... OK
* DONE
Status: 1 ERROR
See
‘/home/biocbuild/bbs-3.18-bioc/meat/ChIPanalyser.Rcheck/00check.log’
for details.
ChIPanalyser.Rcheck/00install.out
############################################################################## ############################################################################## ### ### Running command: ### ### /home/biocbuild/bbs-3.18-bioc/R/bin/R CMD INSTALL ChIPanalyser ### ############################################################################## ############################################################################## * installing to library ‘/home/biocbuild/bbs-3.18-bioc/R/site-library’ * installing *source* package ‘ChIPanalyser’ ... ** using staged installation ** R ** data *** moving datasets to lazyload DB ** inst ** byte-compile and prepare package for lazy loading Creating a new generic function for ‘drop’ in package ‘ChIPanalyser’ ** help *** installing help indices ** building package indices ** installing vignettes ** testing if installed package can be loaded from temporary location ** testing if installed package can be loaded from final location ** testing if installed package keeps a record of temporary installation path * DONE (ChIPanalyser)
ChIPanalyser.Rcheck/tests/runTests.Rout
R version 4.3.3 (2024-02-29) -- "Angel Food Cake"
Copyright (C) 2024 The R Foundation for Statistical Computing
Platform: x86_64-pc-linux-gnu (64-bit)
R is free software and comes with ABSOLUTELY NO WARRANTY.
You are welcome to redistribute it under certain conditions.
Type 'license()' or 'licence()' for distribution details.
R is a collaborative project with many contributors.
Type 'contributors()' for more information and
'citation()' on how to cite R or R packages in publications.
Type 'demo()' for some demos, 'help()' for on-line help, or
'help.start()' for an HTML browser interface to help.
Type 'q()' to quit R.
> BiocGenerics:::testPackage("ChIPanalyser")
Attaching package: 'BiocGenerics'
The following objects are masked from 'package:stats':
IQR, mad, sd, var, xtabs
The following objects are masked from 'package:base':
Filter, Find, Map, Position, Reduce, anyDuplicated, aperm, append,
as.data.frame, basename, cbind, colnames, dirname, do.call,
duplicated, eval, evalq, get, grep, grepl, intersect, is.unsorted,
lapply, mapply, match, mget, order, paste, pmax, pmax.int, pmin,
pmin.int, rank, rbind, rownames, sapply, setdiff, sort, table,
tapply, union, unique, unsplit, which.max, which.min
Attaching package: 'S4Vectors'
The following object is masked from 'package:utils':
findMatches
The following objects are masked from 'package:base':
I, expand.grid, unname
Attaching package: 'Biostrings'
The following object is masked from 'package:base':
strsplit
Attaching package: 'rtracklayer'
The following object is masked from 'package:BiocIO':
FileForFormat
Attaching package: 'ChIPanalyser'
The following object is masked from 'package:IRanges':
drop
The following object is masked from 'package:base':
drop
Loading required package: BSgenome.Dmelanogaster.UCSC.dm6
RUNIT TEST PROTOCOL -- Mon Apr 15 21:13:27 2024
***********************************************
Number of test functions: 0
Number of errors: 0
Number of failures: 0
1 Test Suite :
ChIPanalyser RUnit Tests - 0 test functions, 0 errors, 0 failures
Number of test functions: 0
Number of errors: 0
Number of failures: 0
>
> proc.time()
user system elapsed
54.756 3.744 58.536
ChIPanalyser.Rcheck/ChIPanalyser-Ex.timings
| name | user | system | elapsed | |
| BPFrequency | 0.118 | 0.000 | 0.118 | |
| BPFrequency_- | 0.002 | 0.000 | 0.002 | |
| ChIPScore-class | 0.001 | 0.000 | 0.001 | |
| ChIPanalyser-package | 0 | 0 | 0 | |
| DNASequenceLength | 0.001 | 0.000 | 0.002 | |
| GRList-class | 0.000 | 0.000 | 0.001 | |
| PFMFormat | 0.132 | 0.024 | 0.156 | |
| PFMFormat_ | 0.034 | 0.016 | 0.050 | |
| PWMThreshold | 0.01 | 0.00 | 0.01 | |
| PWMThreshold_- | 0.006 | 0.003 | 0.010 | |
| PWMpseudocount | 0.006 | 0.005 | 0.009 | |
| PWMpseudocount_- | 0.006 | 0.004 | 0.010 | |
| PositionFrequencyMatrix | 0.039 | 0.011 | 0.051 | |
| PositionFrequencyMatrix_- | 0.018 | 0.009 | 0.026 | |
| PositionWeightMatrix | 0.041 | 0.007 | 0.049 | |
| PositionWeightMatrix_- | 0.015 | 0.001 | 0.015 | |
| averageExpPWMScore | 0.046 | 0.004 | 0.049 | |
| backgroundSignal | 0.005 | 0.003 | 0.009 | |
| backgroundSignal_- | 0.013 | 0.000 | 0.012 | |
| boundMolecules | 0.009 | 0.000 | 0.009 | |
| boundMolecules_- | 0.010 | 0.002 | 0.012 | |
| chipMean | 0.005 | 0.005 | 0.009 | |
| chipMean_- | 0.009 | 0.000 | 0.009 | |
| chipSd | 0.009 | 0.000 | 0.009 | |
| chipSd_- | 0.008 | 0.000 | 0.009 | |
| chipSmooth | 0.005 | 0.003 | 0.009 | |
| chipSmooth_- | 0.005 | 0.005 | 0.009 | |
| computeChIPProfile | 0.002 | 0.000 | 0.002 | |
| computeGenomeWideScores | 0 | 0 | 0 | |
| computeOccupancy | 0.002 | 0.000 | 0.002 | |
| computeOptimal | 0.002 | 0.000 | 0.002 | |
| computePWMScore | 0.001 | 0.000 | 0.002 | |
| data | 0.001 | 0.000 | 0.001 | |
| drop | 0.033 | 0.015 | 0.049 | |
| evolve | 0.001 | 0.000 | 0.001 | |
| generateStartingPopulation | 0.021 | 0.000 | 0.021 | |
| genomicProfiles-class | 0.001 | 0.000 | 0.001 | |
| genomicProfiles | 0.063 | 0.000 | 0.062 | |
| genomicProfilesInternal-class | 0.001 | 0.000 | 0.000 | |
| getHighestFitnessSolutions | 0.001 | 0.000 | 0.001 | |
| getTestingData | 3.957 | 0.116 | 4.073 | |
| getTrainingData | 1.341 | 0.044 | 1.384 | |
| lambdaPWM | 0.004 | 0.004 | 0.008 | |
| lambdaPWM_ | 0.004 | 0.004 | 0.009 | |
| loci-class | 0.000 | 0.000 | 0.001 | |
| loci | 1.217 | 0.060 | 1.277 | |
| lociWidth | 0.008 | 0.000 | 0.008 | |
| lociWidth_ | 0.004 | 0.003 | 0.008 | |
| maxPWMScore | 0.002 | 0.001 | 0.002 | |
| maxSignal | 0.007 | 0.000 | 0.008 | |
| maxSignal_- | 0.007 | 0.000 | 0.007 | |
| minPWMScore | 0.002 | 0.000 | 0.001 | |
| naturalLog | 0.008 | 0.000 | 0.008 | |
| naturalLog_- | 0.008 | 0.000 | 0.008 | |
| noOfSites | 0.008 | 0.000 | 0.008 | |
| noOfSites_- | 0.008 | 0.000 | 0.008 | |
| noiseFilter | 0.008 | 0.000 | 0.008 | |
| noiseFilter_ | 0.008 | 0.000 | 0.008 | |
| nos-class | 0.000 | 0.000 | 0.001 | |
| parameterOptions-class | 0.001 | 0.000 | 0.001 | |
| parameterOptions | 0.009 | 0.000 | 0.010 | |
| ploidy | 0.007 | 0.000 | 0.008 | |
| ploidy_- | 0.007 | 0.000 | 0.007 | |
| plotOccupancyProfile | 0.002 | 0.000 | 0.001 | |
| plotOptimalHeatMaps | 0.002 | 0.000 | 0.001 | |
| processingChIP | 1.144 | 0.099 | 1.243 | |
| profileAccuracyEstimate | 0.002 | 0.001 | 0.001 | |
| removeBackground | 0.007 | 0.000 | 0.007 | |
| removeBackground_- | 0.007 | 0.000 | 0.007 | |
| scores | 1.214 | 0.055 | 1.270 | |
| searchSites | 0.002 | 0.001 | 0.001 | |
| setChromatinStates | 1.483 | 0.012 | 1.495 | |
| singleRun | 0.001 | 0.000 | 0.001 | |
| splitData | 1.216 | 0.083 | 1.300 | |
| stepSize | 0.007 | 0.000 | 0.007 | |
| stepSize_- | 0.007 | 0.000 | 0.007 | |
| strandRule | 0.007 | 0.000 | 0.008 | |
| strandRule_- | 0.008 | 0.000 | 0.008 | |
| whichstrand | 0.008 | 0.000 | 0.008 | |
| whichstrand_- | 0.007 | 0.001 | 0.008 | |