| Back to Multiple platform build/check report for BioC 3.18: simplified long |
|
This page was generated on 2024-04-17 11:36:36 -0400 (Wed, 17 Apr 2024).
| Hostname | OS | Arch (*) | R version | Installed pkgs |
|---|---|---|---|---|
| nebbiolo2 | Linux (Ubuntu 22.04.3 LTS) | x86_64 | 4.3.3 (2024-02-29) -- "Angel Food Cake" | 4676 |
| palomino4 | Windows Server 2022 Datacenter | x64 | 4.3.3 (2024-02-29 ucrt) -- "Angel Food Cake" | 4414 |
| merida1 | macOS 12.7.1 Monterey | x86_64 | 4.3.3 (2024-02-29) -- "Angel Food Cake" | 4437 |
| Click on any hostname to see more info about the system (e.g. compilers) (*) as reported by 'uname -p', except on Windows and Mac OS X | ||||
| Package 269/2266 | Hostname | OS / Arch | INSTALL | BUILD | CHECK | BUILD BIN | ||||||||
| Cardinal 3.4.3 (landing page) Kylie A. Bemis
| nebbiolo2 | Linux (Ubuntu 22.04.3 LTS) / x86_64 | OK | OK | OK | |||||||||
| palomino4 | Windows Server 2022 Datacenter / x64 | OK | OK | OK | OK | |||||||||
| merida1 | macOS 12.7.1 Monterey / x86_64 | OK | OK | OK | OK | |||||||||
| kjohnson1 | macOS 13.6.1 Ventura / arm64 | see weekly results here | ||||||||||||
|
To the developers/maintainers of the Cardinal package: - Allow up to 24 hours (and sometimes 48 hours) for your latest push to git@git.bioconductor.org:packages/Cardinal.git to reflect on this report. See Troubleshooting Build Report for more information. - Use the following Renviron settings to reproduce errors and warnings. - If 'R CMD check' started to fail recently on the Linux builder(s) over a missing dependency, add the missing dependency to 'Suggests:' in your DESCRIPTION file. See Renviron.bioc for more information. |
| Package: Cardinal |
| Version: 3.4.3 |
| Command: rm -rf Cardinal.buildbin-libdir && mkdir Cardinal.buildbin-libdir && F:\biocbuild\bbs-3.18-bioc\R\bin\R.exe CMD INSTALL --build --library=Cardinal.buildbin-libdir Cardinal_3.4.3.tar.gz |
| StartedAt: 2024-04-16 06:45:17 -0400 (Tue, 16 Apr 2024) |
| EndedAt: 2024-04-16 06:46:35 -0400 (Tue, 16 Apr 2024) |
| EllapsedTime: 78.0 seconds |
| RetCode: 0 |
| Status: OK |
| PackageFile: Cardinal_3.4.3.zip |
| PackageFileSize: 3.147 MiB |
##############################################################################
##############################################################################
###
### Running command:
###
### rm -rf Cardinal.buildbin-libdir && mkdir Cardinal.buildbin-libdir && F:\biocbuild\bbs-3.18-bioc\R\bin\R.exe CMD INSTALL --build --library=Cardinal.buildbin-libdir Cardinal_3.4.3.tar.gz
###
##############################################################################
##############################################################################
* installing *source* package 'Cardinal' ...
** using staged installation
** libs
using C++ compiler: 'G__~1.EXE (GCC) 12.3.0'
g++ -std=gnu++17 -I"F:/biocbuild/bbs-3.18-bioc/R/include" -DNDEBUG -I"C:/rtools43/x86_64-w64-mingw32.static.posix/include" -O2 -Wall -mfpmath=sse -msse2 -mstackrealign -c DIP.cpp -o DIP.o
g++ -std=gnu++17 -I"F:/biocbuild/bbs-3.18-bioc/R/include" -DNDEBUG -I"C:/rtools43/x86_64-w64-mingw32.static.posix/include" -O2 -Wall -mfpmath=sse -msse2 -mstackrealign -c imzML.cpp -o imzML.o
g++ -std=gnu++17 -I"F:/biocbuild/bbs-3.18-bioc/R/include" -DNDEBUG -I"C:/rtools43/x86_64-w64-mingw32.static.posix/include" -O2 -Wall -mfpmath=sse -msse2 -mstackrealign -c init.cpp -o init.o
g++ -std=gnu++17 -I"F:/biocbuild/bbs-3.18-bioc/R/include" -DNDEBUG -I"C:/rtools43/x86_64-w64-mingw32.static.posix/include" -O2 -Wall -mfpmath=sse -msse2 -mstackrealign -c pugixml.cpp -o pugixml.o
pugixml.cpp:2264:23: warning: 'void pugi::impl::{anonymous}::as_utf8_end(char*, size_t, const wchar_t*, size_t)' defined but not used [-Wunused-function]
2264 | PUGI__FN void as_utf8_end(char* buffer, size_t size, const wchar_t* str, size_t length)
| ^~~~~~~~~~~
pugixml.cpp:2258:25: warning: 'size_t pugi::impl::{anonymous}::as_utf8_begin(const wchar_t*, size_t)' defined but not used [-Wunused-function]
2258 | PUGI__FN size_t as_utf8_begin(const wchar_t* str, size_t length)
| ^~~~~~~~~~~~~
pugixml.cpp:221:25: warning: 'size_t pugi::impl::{anonymous}::strlength_wide(const wchar_t*)' defined but not used [-Wunused-function]
221 | PUGI__FN size_t strlength_wide(const wchar_t* s)
| ^~~~~~~~~~~~~~
g++ -std=gnu++17 -I"F:/biocbuild/bbs-3.18-bioc/R/include" -DNDEBUG -I"C:/rtools43/x86_64-w64-mingw32.static.posix/include" -O2 -Wall -mfpmath=sse -msse2 -mstackrealign -c spatial.cpp -o spatial.o
g++ -std=gnu++17 -I"F:/biocbuild/bbs-3.18-bioc/R/include" -DNDEBUG -I"C:/rtools43/x86_64-w64-mingw32.static.posix/include" -O2 -Wall -mfpmath=sse -msse2 -mstackrealign -c utils.cpp -o utils.o
g++ -std=gnu++17 -shared -s -static-libgcc -o Cardinal.dll tmp.def DIP.o imzML.o init.o pugixml.o spatial.o utils.o -LC:/rtools43/x86_64-w64-mingw32.static.posix/lib/x64 -LC:/rtools43/x86_64-w64-mingw32.static.posix/lib -LF:/biocbuild/bbs-3.18-bioc/R/bin/x64 -lR
installing to F:/biocbuild/bbs-3.18-bioc/meat/Cardinal.buildbin-libdir/00LOCK-Cardinal/00new/Cardinal/libs/x64
** R
** inst
** byte-compile and prepare package for lazy loading
** help
*** installing help indices
** building package indices
** installing vignettes
** testing if installed package can be loaded from temporary location
** testing if installed package can be loaded from final location
** testing if installed package keeps a record of temporary installation path
* MD5 sums
packaged installation of 'Cardinal' as Cardinal_3.4.3.zip
* DONE (Cardinal)