Back to Multiple platform build/check report for BioC 3.18: simplified long |
|
This page was generated on 2023-11-02 11:40:31 -0400 (Thu, 02 Nov 2023).
Hostname | OS | Arch (*) | R version | Installed pkgs |
---|---|---|---|---|
nebbiolo2 | Linux (Ubuntu 22.04.2 LTS) | x86_64 | 4.3.1 (2023-06-16) -- "Beagle Scouts" | 4729 |
palomino4 | Windows Server 2022 Datacenter | x64 | 4.3.1 (2023-06-16 ucrt) -- "Beagle Scouts" | 4463 |
lconway | macOS 12.6.5 Monterey | x86_64 | 4.3.1 Patched (2023-06-17 r84564) -- "Beagle Scouts" | 4478 |
kunpeng2 | Linux (openEuler 22.03 LTS-SP1) | aarch64 | 4.3.1 (2023-06-16) -- "Beagle Scouts" | 4464 |
Click on any hostname to see more info about the system (e.g. compilers) (*) as reported by 'uname -p', except on Windows and Mac OS X |
Package 349/2266 | Hostname | OS / Arch | INSTALL | BUILD | CHECK | BUILD BIN | ||||||||
CIMICE 1.10.0 (landing page) Nicolò Rossi
| nebbiolo2 | Linux (Ubuntu 22.04.2 LTS) / x86_64 | OK | OK | OK | ![]() | ||||||||
palomino4 | Windows Server 2022 Datacenter / x64 | OK | OK | OK | OK | ![]() | ||||||||
lconway | macOS 12.6.5 Monterey / x86_64 | OK | OK | OK | OK | ![]() | ||||||||
kjohnson1 | macOS 13.6.1 Ventura / arm64 | see weekly results here | ||||||||||||
kunpeng2 | Linux (openEuler 22.03 LTS-SP1) / aarch64 | OK | OK | OK | ||||||||||
To the developers/maintainers of the CIMICE package: - Allow up to 24 hours (and sometimes 48 hours) for your latest push to git@git.bioconductor.org:packages/CIMICE.git to reflect on this report. See Troubleshooting Build Report for more information. - Use the following Renviron settings to reproduce errors and warnings. - If 'R CMD check' started to fail recently on the Linux builder(s) over a missing dependency, add the missing dependency to 'Suggests:' in your DESCRIPTION file. See Renviron.bioc for more information. - See Martin Grigorov's blog post for how to debug Linux ARM64 related issues on a x86_64 host. |
Package: CIMICE |
Version: 1.10.0 |
Command: /home/biocbuild/R/R-4.3.1/bin/R CMD check --install=check:CIMICE.install-out.txt --library=/home/biocbuild/R/R-4.3.1/site-library --no-vignettes --timings CIMICE_1.10.0.tar.gz |
StartedAt: 2023-11-02 09:17:27 -0000 (Thu, 02 Nov 2023) |
EndedAt: 2023-11-02 09:19:15 -0000 (Thu, 02 Nov 2023) |
EllapsedTime: 108.0 seconds |
RetCode: 0 |
Status: OK |
CheckDir: CIMICE.Rcheck |
Warnings: 0 |
############################################################################## ############################################################################## ### ### Running command: ### ### /home/biocbuild/R/R-4.3.1/bin/R CMD check --install=check:CIMICE.install-out.txt --library=/home/biocbuild/R/R-4.3.1/site-library --no-vignettes --timings CIMICE_1.10.0.tar.gz ### ############################################################################## ############################################################################## * using log directory ‘/home/biocbuild/bbs-3.18-bioc/meat/CIMICE.Rcheck’ * using R version 4.3.1 (2023-06-16) * using platform: aarch64-unknown-linux-gnu (64-bit) * R was compiled by gcc (GCC) 10.3.1 GNU Fortran (GCC) 10.3.1 * running under: openEuler 22.03 (LTS-SP1) * using session charset: UTF-8 * using option ‘--no-vignettes’ * checking for file ‘CIMICE/DESCRIPTION’ ... OK * checking extension type ... Package * this is package ‘CIMICE’ version ‘1.10.0’ * package encoding: UTF-8 * checking package namespace information ... OK * checking package dependencies ... OK * checking if this is a source package ... OK * checking if there is a namespace ... OK * checking for hidden files and directories ... NOTE Found the following hidden files and directories: .git.bfg-report These were most likely included in error. See section ‘Package structure’ in the ‘Writing R Extensions’ manual. * checking for portable file names ... OK * checking for sufficient/correct file permissions ... OK * checking whether package ‘CIMICE’ can be installed ... OK * checking installed package size ... OK * checking package directory ... OK * checking ‘build’ directory ... OK * checking DESCRIPTION meta-information ... OK * checking top-level files ... OK * checking for left-over files ... OK * checking index information ... OK * checking package subdirectories ... OK * checking R files for non-ASCII characters ... OK * checking R files for syntax errors ... OK * checking whether the package can be loaded ... OK * checking whether the package can be loaded with stated dependencies ... OK * checking whether the package can be unloaded cleanly ... OK * checking whether the namespace can be loaded with stated dependencies ... OK * checking whether the namespace can be unloaded cleanly ... OK * checking loading without being on the library search path ... OK * checking dependencies in R code ... OK * checking S3 generic/method consistency ... OK * checking replacement functions ... OK * checking foreign function calls ... OK * checking R code for possible problems ... OK * checking Rd files ... OK * checking Rd metadata ... OK * checking Rd cross-references ... OK * checking for missing documentation entries ... OK * checking for code/documentation mismatches ... OK * checking Rd \usage sections ... OK * checking Rd contents ... OK * checking for unstated dependencies in examples ... OK * checking files in ‘vignettes’ ... OK * checking examples ... OK * checking for unstated dependencies in ‘tests’ ... OK * checking tests ... Running ‘testthat.R’ OK * checking for unstated dependencies in vignettes ... OK * checking package vignettes in ‘inst/doc’ ... OK * checking running R code from vignettes ... SKIPPED * checking re-building of vignette outputs ... SKIPPED * checking PDF version of manual ... OK * DONE Status: 1 NOTE See ‘/home/biocbuild/bbs-3.18-bioc/meat/CIMICE.Rcheck/00check.log’ for details.
CIMICE.Rcheck/00install.out
############################################################################## ############################################################################## ### ### Running command: ### ### /home/biocbuild/R/R-4.3.1/bin/R CMD INSTALL CIMICE ### ############################################################################## ############################################################################## * installing to library ‘/home/biocbuild/R/R-4.3.1/site-library’ * installing *source* package ‘CIMICE’ ... ** using staged installation ** R ** inst ** byte-compile and prepare package for lazy loading ** help *** installing help indices ** building package indices ** installing vignettes ** testing if installed package can be loaded from temporary location ** testing if installed package can be loaded from final location ** testing if installed package keeps a record of temporary installation path * DONE (CIMICE)
CIMICE.Rcheck/tests/testthat.Rout
R version 4.3.1 (2023-06-16) -- "Beagle Scouts" Copyright (C) 2023 The R Foundation for Statistical Computing Platform: aarch64-unknown-linux-gnu (64-bit) R is free software and comes with ABSOLUTELY NO WARRANTY. You are welcome to redistribute it under certain conditions. Type 'license()' or 'licence()' for distribution details. R is a collaborative project with many contributors. Type 'contributors()' for more information and 'citation()' on how to cite R or R packages in publications. Type 'demo()' for some demos, 'help()' for on-line help, or 'help.start()' for an HTML browser interface to help. Type 'q()' to quit R. > library(testthat) > library(CIMICE) > > test_check("CIMICE") [ FAIL 0 | WARN 0 | SKIP 0 | PASS 1 ] > > proc.time() user system elapsed 3.408 0.196 3.838
CIMICE.Rcheck/CIMICE-Ex.timings
name | user | system | elapsed | |
annotate_mutational_matrix | 0.032 | 0.001 | 0.035 | |
binary_radix_sort | 0.024 | 0.003 | 0.029 | |
build_subset_graph | 0.101 | 0.004 | 0.111 | |
build_topology_subset | 0.049 | 0.000 | 0.048 | |
chunk_reader | 0.010 | 0.000 | 0.011 | |
compact_dataset | 0.019 | 0.003 | 0.023 | |
computeDWNW | 0.086 | 0.000 | 0.086 | |
computeUPW | 0.066 | 0.004 | 0.070 | |
compute_weights_default | 0.092 | 0.000 | 0.092 | |
corrplot_from_mutational_matrix | 0.359 | 0.000 | 0.366 | |
corrplot_genes | 0.359 | 0.008 | 0.368 | |
corrplot_samples | 0.458 | 0.004 | 0.463 | |
dataset_preprocessing | 0.035 | 0.004 | 0.039 | |
dataset_preprocessing_population | 0.027 | 0.000 | 0.028 | |
draw_ggraph | 0.320 | 0.024 | 0.355 | |
draw_networkD3 | 0.189 | 0.012 | 0.224 | |
draw_visNetwork | 0.088 | 0.004 | 0.109 | |
example_dataset | 0.012 | 0.000 | 0.013 | |
example_dataset_withFreqs | 0.010 | 0.000 | 0.011 | |
finalize_generator | 0.236 | 0.004 | 0.242 | |
fix_clonal_genotype | 0.034 | 0.004 | 0.038 | |
format_labels | 0.001 | 0.000 | 0.000 | |
gene_mutations_hist | 0.199 | 0.000 | 0.201 | |
get_no_of_children | 0.068 | 0.000 | 0.070 | |
graph_non_transitive_subset_topology | 0.054 | 0.000 | 0.053 | |
make_dataset | 0.002 | 0.000 | 0.001 | |
make_generator_stub | 0.122 | 0.000 | 0.122 | |
make_labels | 0.058 | 0.000 | 0.058 | |
normalizeDWNW | 0.079 | 0.003 | 0.082 | |
normalizeUPW | 0.076 | 0.000 | 0.076 | |
perturb_dataset | 0.450 | 0.036 | 0.488 | |
plot_generator | 0.480 | 0.008 | 0.489 | |
prepare_generator_edge_set_command | 0.135 | 0.000 | 0.136 | |
prepare_labels | 0.034 | 0.000 | 0.040 | |
quick_run | 0.056 | 0.000 | 0.057 | |
read | 0.874 | 0.195 | 1.073 | |
read_CAPRI | 0.861 | 0.192 | 1.055 | |
read_CAPRI_string | 0.004 | 0.003 | 0.007 | |
read_CAPRIpop | 0.005 | 0.000 | 0.005 | |
read_CAPRIpop_string | 0.004 | 0.000 | 0.005 | |
read_MAF | 0.269 | 0.028 | 0.296 | |
read_matrix | 0.003 | 0.000 | 0.003 | |
remove_transitive_edges | 0 | 0 | 0 | |
sample_mutations_hist | 0.215 | 0.000 | 0.216 | |
select_genes_on_mutations | 0.027 | 0.000 | 0.027 | |
select_samples_on_mutations | 0.048 | 0.004 | 0.052 | |
set_generator_edges | 0.187 | 0.000 | 0.187 | |
simulate_generator | 0.153 | 0.000 | 0.153 | |
to_dot | 0.063 | 0.000 | 0.063 | |
update_df | 0.018 | 0.000 | 0.018 | |