| Back to Multiple platform build/check report for BioC 3.18: simplified long |
|
This page was generated on 2023-11-02 11:40:30 -0400 (Thu, 02 Nov 2023).
| Hostname | OS | Arch (*) | R version | Installed pkgs |
|---|---|---|---|---|
| nebbiolo2 | Linux (Ubuntu 22.04.2 LTS) | x86_64 | 4.3.1 (2023-06-16) -- "Beagle Scouts" | 4729 |
| palomino4 | Windows Server 2022 Datacenter | x64 | 4.3.1 (2023-06-16 ucrt) -- "Beagle Scouts" | 4463 |
| lconway | macOS 12.6.5 Monterey | x86_64 | 4.3.1 Patched (2023-06-17 r84564) -- "Beagle Scouts" | 4478 |
| kunpeng2 | Linux (openEuler 22.03 LTS-SP1) | aarch64 | 4.3.1 (2023-06-16) -- "Beagle Scouts" | 4464 |
| Click on any hostname to see more info about the system (e.g. compilers) (*) as reported by 'uname -p', except on Windows and Mac OS X | ||||
| Package 316/2266 | Hostname | OS / Arch | INSTALL | BUILD | CHECK | BUILD BIN | ||||||||
| CGEN 3.38.0 (landing page) Justin Lee
| nebbiolo2 | Linux (Ubuntu 22.04.2 LTS) / x86_64 | OK | OK | OK | |||||||||
| palomino4 | Windows Server 2022 Datacenter / x64 | OK | OK | OK | OK | |||||||||
| lconway | macOS 12.6.5 Monterey / x86_64 | OK | OK | OK | OK | |||||||||
| kjohnson1 | macOS 13.6.1 Ventura / arm64 | see weekly results here | ||||||||||||
| kunpeng2 | Linux (openEuler 22.03 LTS-SP1) / aarch64 | OK | OK | OK | ||||||||||
|
To the developers/maintainers of the CGEN package: - Allow up to 24 hours (and sometimes 48 hours) for your latest push to git@git.bioconductor.org:packages/CGEN.git to reflect on this report. See Troubleshooting Build Report for more information. - Use the following Renviron settings to reproduce errors and warnings. - If 'R CMD check' started to fail recently on the Linux builder(s) over a missing dependency, add the missing dependency to 'Suggests:' in your DESCRIPTION file. See Renviron.bioc for more information. - See Martin Grigorov's blog post for how to debug Linux ARM64 related issues on a x86_64 host. |
| Package: CGEN |
| Version: 3.38.0 |
| Command: /home/biocbuild/R/R-4.3.1/bin/R CMD INSTALL CGEN |
| StartedAt: 2023-11-01 20:47:07 -0000 (Wed, 01 Nov 2023) |
| EndedAt: 2023-11-01 20:47:40 -0000 (Wed, 01 Nov 2023) |
| EllapsedTime: 32.3 seconds |
| RetCode: 0 |
| Status: OK |
##############################################################################
##############################################################################
###
### Running command:
###
### /home/biocbuild/R/R-4.3.1/bin/R CMD INSTALL CGEN
###
##############################################################################
##############################################################################
* installing to library ‘/home/biocbuild/R/R-4.3.1/site-library’
* installing *source* package ‘CGEN’ ...
** using staged installation
** libs
using C compiler: ‘gcc (GCC) 10.3.1’
using Fortran compiler: ‘GNU Fortran (GCC) 10.3.1’
gcc -I"/home/biocbuild/R/R-4.3.1/include" -DNDEBUG -I/usr/local/include -fPIC -g -O2 -Wall -c Additive.c -o Additive.o
Additive.c: In function ‘compute_g’:
Additive.c:233:19: warning: ‘et22’ may be used uninitialized in this function [-Wmaybe-uninitialized]
233 | x = et12 + et22 - 1;
| ~~~~~^~~~~~
Additive.c:235:25: warning: ‘t22’ may be used uninitialized in this function [-Wmaybe-uninitialized]
235 | *g22 = logx - t12 - t22;
| ~~~~~~~~~~~^~~~~
gcc -I"/home/biocbuild/R/R-4.3.1/include" -DNDEBUG -I/usr/local/include -fPIC -g -O2 -Wall -c CML.c -o CML.o
gcc -I"/home/biocbuild/R/R-4.3.1/include" -DNDEBUG -I/usr/local/include -fPIC -g -O2 -Wall -c ccl.c -o ccl.o
gfortran -fPIC -g -O2 -Wall -c csclust.f -o csclust.o
f951: Warning: Nonconforming tab character in column 1 of line 46 [-Wtabs]
f951: Warning: Nonconforming tab character in column 1 of line 83 [-Wtabs]
f951: Warning: Nonconforming tab character in column 1 of line 203 [-Wtabs]
f951: Warning: Nonconforming tab character in column 1 of line 205 [-Wtabs]
f951: Warning: Nonconforming tab character in column 1 of line 207 [-Wtabs]
f951: Warning: Nonconforming tab character in column 1 of line 270 [-Wtabs]
f951: Warning: Nonconforming tab character in column 1 of line 271 [-Wtabs]
f951: Warning: Nonconforming tab character in column 1 of line 275 [-Wtabs]
f951: Warning: Nonconforming tab character in column 1 of line 276 [-Wtabs]
f951: Warning: Nonconforming tab character in column 1 of line 277 [-Wtabs]
f951: Warning: Nonconforming tab character in column 1 of line 278 [-Wtabs]
f951: Warning: Nonconforming tab character in column 1 of line 282 [-Wtabs]
f951: Warning: Nonconforming tab character in column 1 of line 283 [-Wtabs]
f951: Warning: Nonconforming tab character in column 1 of line 286 [-Wtabs]
f951: Warning: Nonconforming tab character in column 1 of line 287 [-Wtabs]
f951: Warning: Nonconforming tab character in column 1 of line 288 [-Wtabs]
f951: Warning: Nonconforming tab character in column 1 of line 289 [-Wtabs]
f951: Warning: Nonconforming tab character in column 1 of line 290 [-Wtabs]
f951: Warning: Nonconforming tab character in column 1 of line 291 [-Wtabs]
f951: Warning: Nonconforming tab character in column 1 of line 292 [-Wtabs]
f951: Warning: Nonconforming tab character in column 1 of line 293 [-Wtabs]
f951: Warning: Nonconforming tab character in column 1 of line 294 [-Wtabs]
f951: Warning: Nonconforming tab character in column 1 of line 295 [-Wtabs]
f951: Warning: Nonconforming tab character in column 1 of line 296 [-Wtabs]
f951: Warning: Nonconforming tab character in column 1 of line 306 [-Wtabs]
f951: Warning: Nonconforming tab character in column 1 of line 307 [-Wtabs]
f951: Warning: Nonconforming tab character in column 1 of line 309 [-Wtabs]
f951: Warning: Nonconforming tab character in column 1 of line 310 [-Wtabs]
f951: Warning: Nonconforming tab character in column 1 of line 311 [-Wtabs]
f951: Warning: Nonconforming tab character in column 1 of line 312 [-Wtabs]
f951: Warning: Nonconforming tab character in column 1 of line 313 [-Wtabs]
f951: Warning: Nonconforming tab character in column 1 of line 314 [-Wtabs]
f951: Warning: Nonconforming tab character in column 1 of line 315 [-Wtabs]
f951: Warning: Nonconforming tab character in column 1 of line 316 [-Wtabs]
f951: Warning: Nonconforming tab character in column 1 of line 317 [-Wtabs]
f951: Warning: Nonconforming tab character in column 1 of line 319 [-Wtabs]
f951: Warning: Nonconforming tab character in column 1 of line 320 [-Wtabs]
f951: Warning: Nonconforming tab character in column 1 of line 321 [-Wtabs]
f951: Warning: Nonconforming tab character in column 1 of line 329 [-Wtabs]
csclust.f:72:72:
72 | 10 FLAG(I)=.TRUE.
| 1
Warning: Fortran 2018 deleted feature: DO termination statement which is not END DO or CONTINUE with label 10 at (1)
csclust.f:222:3:
222 | 650 RETURN
| 1
Warning: Label 650 at (1) defined but not used [-Wunused-label]
gcc -I"/home/biocbuild/R/R-4.3.1/include" -DNDEBUG -I/usr/local/include -fPIC -g -O2 -Wall -c fsclust.c -o fsclust.o
gcc -I"/home/biocbuild/R/R-4.3.1/include" -DNDEBUG -I/usr/local/include -fPIC -g -O2 -Wall -c hcl.c -o hcl.o
gcc -I"/home/biocbuild/R/R-4.3.1/include" -DNDEBUG -I/usr/local/include -fPIC -g -O2 -Wall -c pmatch.c -o pmatch.o
gcc -I"/home/biocbuild/R/R-4.3.1/include" -DNDEBUG -I/usr/local/include -fPIC -g -O2 -Wall -c score.c -o score.o
gcc -shared -L/home/biocbuild/R/R-4.3.1/lib -L/usr/local/lib -o CGEN.so Additive.o CML.o ccl.o csclust.o fsclust.o hcl.o pmatch.o score.o -lgfortran -lm -L/home/biocbuild/R/R-4.3.1/lib -lR
installing to /home/biocbuild/R/R-4.3.1/site-library/00LOCK-CGEN/00new/CGEN/libs
** R
** data
** inst
** byte-compile and prepare package for lazy loading
** help
*** installing help indices
** building package indices
** installing vignettes
** testing if installed package can be loaded from temporary location
** checking absolute paths in shared objects and dynamic libraries
** testing if installed package can be loaded from final location
** testing if installed package keeps a record of temporary installation path
* DONE (CGEN)