| Back to Multiple platform build/check report for BioC 3.18: simplified long |
|
This page was generated on 2024-03-04 11:37:11 -0500 (Mon, 04 Mar 2024).
| Hostname | OS | Arch (*) | R version | Installed pkgs |
|---|---|---|---|---|
| nebbiolo2 | Linux (Ubuntu 22.04.3 LTS) | x86_64 | 4.3.2 Patched (2023-11-13 r85521) -- "Eye Holes" | 4692 |
| palomino4 | Windows Server 2022 Datacenter | x64 | 4.3.2 (2023-10-31 ucrt) -- "Eye Holes" | 4445 |
| lconway | macOS 12.7.1 Monterey | x86_64 | 4.3.2 Patched (2023-11-01 r85457) -- "Eye Holes" | 4466 |
| Click on any hostname to see more info about the system (e.g. compilers) (*) as reported by 'uname -p', except on Windows and Mac OS X | ||||
| Package 273/2266 | Hostname | OS / Arch | INSTALL | BUILD | CHECK | BUILD BIN | ||||||||
| CATALYST 1.26.0 (landing page) Helena L. Crowell
| nebbiolo2 | Linux (Ubuntu 22.04.3 LTS) / x86_64 | OK | OK | ERROR | |||||||||
| palomino4 | Windows Server 2022 Datacenter / x64 | OK | OK | ERROR | OK | |||||||||
| lconway | macOS 12.7.1 Monterey / x86_64 | OK | OK | ERROR | OK | |||||||||
| kjohnson1 | macOS 13.6.1 Ventura / arm64 | see weekly results here | ||||||||||||
|
To the developers/maintainers of the CATALYST package: - Allow up to 24 hours (and sometimes 48 hours) for your latest push to git@git.bioconductor.org:packages/CATALYST.git to reflect on this report. See Troubleshooting Build Report for more information. - Use the following Renviron settings to reproduce errors and warnings. - If 'R CMD check' started to fail recently on the Linux builder(s) over a missing dependency, add the missing dependency to 'Suggests:' in your DESCRIPTION file. See Renviron.bioc for more information. |
| Package: CATALYST |
| Version: 1.26.0 |
| Command: /Library/Frameworks/R.framework/Resources/bin/R CMD check --install=check:CATALYST.install-out.txt --library=/Library/Frameworks/R.framework/Resources/library --no-vignettes --timings CATALYST_1.26.0.tar.gz |
| StartedAt: 2024-03-03 19:25:55 -0500 (Sun, 03 Mar 2024) |
| EndedAt: 2024-03-03 19:38:12 -0500 (Sun, 03 Mar 2024) |
| EllapsedTime: 737.9 seconds |
| RetCode: 1 |
| Status: ERROR |
| CheckDir: CATALYST.Rcheck |
| Warnings: NA |
##############################################################################
##############################################################################
###
### Running command:
###
### /Library/Frameworks/R.framework/Resources/bin/R CMD check --install=check:CATALYST.install-out.txt --library=/Library/Frameworks/R.framework/Resources/library --no-vignettes --timings CATALYST_1.26.0.tar.gz
###
##############################################################################
##############################################################################
* using log directory ‘/Users/biocbuild/bbs-3.18-bioc/meat/CATALYST.Rcheck’
* using R version 4.3.2 Patched (2023-11-01 r85457)
* using platform: x86_64-apple-darwin20 (64-bit)
* R was compiled by
Apple clang version 14.0.3 (clang-1403.0.22.14.1)
GNU Fortran (GCC) 12.2.0
* running under: macOS Monterey 12.7.1
* using session charset: UTF-8
* using option ‘--no-vignettes’
* checking for file ‘CATALYST/DESCRIPTION’ ... OK
* checking extension type ... Package
* this is package ‘CATALYST’ version ‘1.26.0’
* package encoding: UTF-8
* checking package namespace information ... OK
* checking package dependencies ... OK
* checking if this is a source package ... OK
* checking if there is a namespace ... OK
* checking for hidden files and directories ... OK
* checking for portable file names ... OK
* checking for sufficient/correct file permissions ... OK
* checking whether package ‘CATALYST’ can be installed ... OK
* checking installed package size ... OK
* checking package directory ... OK
* checking ‘build’ directory ... OK
* checking DESCRIPTION meta-information ... OK
* checking top-level files ... OK
* checking for left-over files ... OK
* checking index information ... OK
* checking package subdirectories ... OK
* checking R files for non-ASCII characters ... OK
* checking R files for syntax errors ... OK
* checking whether the package can be loaded ... OK
* checking whether the package can be loaded with stated dependencies ... OK
* checking whether the package can be unloaded cleanly ... OK
* checking whether the namespace can be loaded with stated dependencies ... OK
* checking whether the namespace can be unloaded cleanly ... OK
* checking dependencies in R code ... NOTE
There are ::: calls to the package's namespace in its code. A package
almost never needs to use ::: for its own objects:
‘.cluster_cols’
* checking S3 generic/method consistency ... OK
* checking replacement functions ... OK
* checking foreign function calls ... OK
* checking R code for possible problems ... OK
* checking Rd files ... OK
* checking Rd metadata ... OK
* checking Rd cross-references ... OK
* checking for missing documentation entries ... OK
* checking for code/documentation mismatches ... OK
* checking Rd \usage sections ... OK
* checking Rd contents ... OK
* checking for unstated dependencies in examples ... OK
* checking contents of ‘data’ directory ... OK
* checking data for non-ASCII characters ... OK
* checking LazyData ... OK
* checking data for ASCII and uncompressed saves ... OK
* checking files in ‘vignettes’ ... OK
* checking examples ... OK
Examples with CPU (user + system) or elapsed time > 5s
user system elapsed
plotMultiHeatmap 15.281 1.290 16.925
plotPbExprs 14.288 1.154 15.651
plotDiffHeatmap 13.892 1.290 15.369
plotDR 12.850 1.324 14.355
sce2fcs 11.230 1.518 12.942
plotExprHeatmap 11.125 1.042 12.325
SCE-accessors 7.649 1.023 8.770
plotFreqHeatmap 7.037 1.397 8.561
plotClusterExprs 7.139 0.983 8.235
plotAbundances 6.880 1.132 8.153
clrDR 6.919 1.006 8.032
filterSCE 6.629 1.272 7.995
plotCodes 6.909 0.907 7.904
pbMDS 6.661 0.928 7.712
mergeClusters 6.475 0.983 7.586
compCytof 6.951 0.365 7.393
plotYields 6.339 0.364 6.770
extractClusters 5.497 1.026 6.598
plotMahal 6.304 0.128 6.503
cluster 5.048 0.890 6.035
plotSpillmat 5.091 0.186 5.346
runDR 5.097 0.118 5.264
plotScatter 4.908 0.211 5.245
adaptSpillmat 4.856 0.211 5.113
* checking for unstated dependencies in ‘tests’ ... OK
* checking tests ...
Running ‘testthat.R’
ERROR
Running the tests in ‘tests/testthat.R’ failed.
Last 13 lines of output:
The following objects are masked from 'package:matrixStats':
anyMissing, rowMedians
>
> test_check("CATALYST")
[ FAIL 1 | WARN 3 | SKIP 0 | PASS 740 ]
══ Failed tests ════════════════════════════════════════════════════════════════
── Failure ('test_plotScatter.R:39:5'): plotScatter() - color_by ───────────────
p$guides$colour inherits from `'NULL'` not `'character'`.
[ FAIL 1 | WARN 3 | SKIP 0 | PASS 740 ]
Error: Test failures
Execution halted
* checking for unstated dependencies in vignettes ... OK
* checking package vignettes in ‘inst/doc’ ... OK
* checking running R code from vignettes ... SKIPPED
* checking re-building of vignette outputs ... SKIPPED
* checking PDF version of manual ... OK
* DONE
Status: 1 ERROR, 1 NOTE
See
‘/Users/biocbuild/bbs-3.18-bioc/meat/CATALYST.Rcheck/00check.log’
for details.
CATALYST.Rcheck/00install.out
############################################################################## ############################################################################## ### ### Running command: ### ### /Library/Frameworks/R.framework/Resources/bin/R CMD INSTALL CATALYST ### ############################################################################## ############################################################################## * installing to library ‘/Library/Frameworks/R.framework/Versions/4.3-x86_64/Resources/library’ * installing *source* package ‘CATALYST’ ... ** using staged installation ** R ** data *** moving datasets to lazyload DB ** inst ** byte-compile and prepare package for lazy loading ** help *** installing help indices ** building package indices ** installing vignettes ** testing if installed package can be loaded from temporary location ** testing if installed package can be loaded from final location ** testing if installed package keeps a record of temporary installation path * DONE (CATALYST)
CATALYST.Rcheck/tests/testthat.Rout.fail
R version 4.3.2 Patched (2023-11-01 r85457) -- "Eye Holes"
Copyright (C) 2023 The R Foundation for Statistical Computing
Platform: x86_64-apple-darwin20 (64-bit)
R is free software and comes with ABSOLUTELY NO WARRANTY.
You are welcome to redistribute it under certain conditions.
Type 'license()' or 'licence()' for distribution details.
R is a collaborative project with many contributors.
Type 'contributors()' for more information and
'citation()' on how to cite R or R packages in publications.
Type 'demo()' for some demos, 'help()' for on-line help, or
'help.start()' for an HTML browser interface to help.
Type 'q()' to quit R.
> library(testthat)
> library(CATALYST)
Loading required package: SingleCellExperiment
Loading required package: SummarizedExperiment
Loading required package: MatrixGenerics
Loading required package: matrixStats
Attaching package: 'MatrixGenerics'
The following objects are masked from 'package:matrixStats':
colAlls, colAnyNAs, colAnys, colAvgsPerRowSet, colCollapse,
colCounts, colCummaxs, colCummins, colCumprods, colCumsums,
colDiffs, colIQRDiffs, colIQRs, colLogSumExps, colMadDiffs,
colMads, colMaxs, colMeans2, colMedians, colMins, colOrderStats,
colProds, colQuantiles, colRanges, colRanks, colSdDiffs, colSds,
colSums2, colTabulates, colVarDiffs, colVars, colWeightedMads,
colWeightedMeans, colWeightedMedians, colWeightedSds,
colWeightedVars, rowAlls, rowAnyNAs, rowAnys, rowAvgsPerColSet,
rowCollapse, rowCounts, rowCummaxs, rowCummins, rowCumprods,
rowCumsums, rowDiffs, rowIQRDiffs, rowIQRs, rowLogSumExps,
rowMadDiffs, rowMads, rowMaxs, rowMeans2, rowMedians, rowMins,
rowOrderStats, rowProds, rowQuantiles, rowRanges, rowRanks,
rowSdDiffs, rowSds, rowSums2, rowTabulates, rowVarDiffs, rowVars,
rowWeightedMads, rowWeightedMeans, rowWeightedMedians,
rowWeightedSds, rowWeightedVars
Loading required package: GenomicRanges
Loading required package: stats4
Loading required package: BiocGenerics
Attaching package: 'BiocGenerics'
The following objects are masked from 'package:stats':
IQR, mad, sd, var, xtabs
The following objects are masked from 'package:base':
Filter, Find, Map, Position, Reduce, anyDuplicated, aperm, append,
as.data.frame, basename, cbind, colnames, dirname, do.call,
duplicated, eval, evalq, get, grep, grepl, intersect, is.unsorted,
lapply, mapply, match, mget, order, paste, pmax, pmax.int, pmin,
pmin.int, rank, rbind, rownames, sapply, setdiff, sort, table,
tapply, union, unique, unsplit, which.max, which.min
Loading required package: S4Vectors
Attaching package: 'S4Vectors'
The following object is masked from 'package:utils':
findMatches
The following objects are masked from 'package:base':
I, expand.grid, unname
Loading required package: IRanges
Loading required package: GenomeInfoDb
Loading required package: Biobase
Welcome to Bioconductor
Vignettes contain introductory material; view with
'browseVignettes()'. To cite Bioconductor, see
'citation("Biobase")', and for packages 'citation("pkgname")'.
Attaching package: 'Biobase'
The following object is masked from 'package:MatrixGenerics':
rowMedians
The following objects are masked from 'package:matrixStats':
anyMissing, rowMedians
>
> test_check("CATALYST")
[ FAIL 1 | WARN 3 | SKIP 0 | PASS 740 ]
══ Failed tests ════════════════════════════════════════════════════════════════
── Failure ('test_plotScatter.R:39:5'): plotScatter() - color_by ───────────────
p$guides$colour inherits from `'NULL'` not `'character'`.
[ FAIL 1 | WARN 3 | SKIP 0 | PASS 740 ]
Error: Test failures
Execution halted
CATALYST.Rcheck/CATALYST-Ex.timings
| name | user | system | elapsed | |
| SCE-accessors | 7.649 | 1.023 | 8.770 | |
| adaptSpillmat | 4.856 | 0.211 | 5.113 | |
| applyCutoffs | 3.094 | 0.108 | 3.233 | |
| assignPrelim | 1.729 | 0.022 | 1.764 | |
| clrDR | 6.919 | 1.006 | 8.032 | |
| cluster | 5.048 | 0.890 | 6.035 | |
| compCytof | 6.951 | 0.365 | 7.393 | |
| computeSpillmat | 3.985 | 0.181 | 4.221 | |
| data | 0.007 | 0.011 | 0.017 | |
| estCutoffs | 4.415 | 0.163 | 4.632 | |
| extractClusters | 5.497 | 1.026 | 6.598 | |
| filterSCE | 6.629 | 1.272 | 7.995 | |
| guessPanel | 0.026 | 0.004 | 0.030 | |
| mergeClusters | 6.475 | 0.983 | 7.586 | |
| normCytof | 3.031 | 0.084 | 3.156 | |
| pbMDS | 6.661 | 0.928 | 7.712 | |
| plotAbundances | 6.880 | 1.132 | 8.153 | |
| plotClusterExprs | 7.139 | 0.983 | 8.235 | |
| plotCodes | 6.909 | 0.907 | 7.904 | |
| plotCounts | 1.164 | 0.020 | 1.193 | |
| plotDR | 12.850 | 1.324 | 14.355 | |
| plotDiffHeatmap | 13.892 | 1.290 | 15.369 | |
| plotEvents | 2.050 | 0.033 | 2.141 | |
| plotExprHeatmap | 11.125 | 1.042 | 12.325 | |
| plotExprs | 3.826 | 0.099 | 3.959 | |
| plotFreqHeatmap | 7.037 | 1.397 | 8.561 | |
| plotMahal | 6.304 | 0.128 | 6.503 | |
| plotMultiHeatmap | 15.281 | 1.290 | 16.925 | |
| plotNRS | 1.526 | 0.023 | 1.565 | |
| plotPbExprs | 14.288 | 1.154 | 15.651 | |
| plotScatter | 4.908 | 0.211 | 5.245 | |
| plotSpillmat | 5.091 | 0.186 | 5.346 | |
| plotYields | 6.339 | 0.364 | 6.770 | |
| prepData | 2.211 | 0.093 | 2.331 | |
| runDR | 5.097 | 0.118 | 5.264 | |
| sce2fcs | 11.230 | 1.518 | 12.942 | |