Back to Multiple platform build/check report for BioC 3.18: simplified long |
|
This page was generated on 2024-04-17 11:35:49 -0400 (Wed, 17 Apr 2024).
Hostname | OS | Arch (*) | R version | Installed pkgs |
---|---|---|---|---|
nebbiolo2 | Linux (Ubuntu 22.04.3 LTS) | x86_64 | 4.3.3 (2024-02-29) -- "Angel Food Cake" | 4676 |
palomino4 | Windows Server 2022 Datacenter | x64 | 4.3.3 (2024-02-29 ucrt) -- "Angel Food Cake" | 4414 |
merida1 | macOS 12.7.1 Monterey | x86_64 | 4.3.3 (2024-02-29) -- "Angel Food Cake" | 4437 |
Click on any hostname to see more info about the system (e.g. compilers) (*) as reported by 'uname -p', except on Windows and Mac OS X |
Package 259/2266 | Hostname | OS / Arch | INSTALL | BUILD | CHECK | BUILD BIN | ||||||||
CAGEfightR 1.22.0 (landing page) Malte Thodberg
| nebbiolo2 | Linux (Ubuntu 22.04.3 LTS) / x86_64 | OK | OK | OK | |||||||||
palomino4 | Windows Server 2022 Datacenter / x64 | OK | OK | OK | OK | |||||||||
merida1 | macOS 12.7.1 Monterey / x86_64 | OK | OK | OK | OK | |||||||||
kjohnson1 | macOS 13.6.1 Ventura / arm64 | see weekly results here | ||||||||||||
To the developers/maintainers of the CAGEfightR package: - Allow up to 24 hours (and sometimes 48 hours) for your latest push to git@git.bioconductor.org:packages/CAGEfightR.git to reflect on this report. See Troubleshooting Build Report for more information. - Use the following Renviron settings to reproduce errors and warnings. - If 'R CMD check' started to fail recently on the Linux builder(s) over a missing dependency, add the missing dependency to 'Suggests:' in your DESCRIPTION file. See Renviron.bioc for more information. |
Package: CAGEfightR |
Version: 1.22.0 |
Command: /home/biocbuild/bbs-3.18-bioc/R/bin/R CMD check --install=check:CAGEfightR.install-out.txt --library=/home/biocbuild/bbs-3.18-bioc/R/site-library --timings CAGEfightR_1.22.0.tar.gz |
StartedAt: 2024-04-15 20:50:07 -0400 (Mon, 15 Apr 2024) |
EndedAt: 2024-04-15 21:01:27 -0400 (Mon, 15 Apr 2024) |
EllapsedTime: 680.4 seconds |
RetCode: 0 |
Status: OK |
CheckDir: CAGEfightR.Rcheck |
Warnings: 0 |
############################################################################## ############################################################################## ### ### Running command: ### ### /home/biocbuild/bbs-3.18-bioc/R/bin/R CMD check --install=check:CAGEfightR.install-out.txt --library=/home/biocbuild/bbs-3.18-bioc/R/site-library --timings CAGEfightR_1.22.0.tar.gz ### ############################################################################## ############################################################################## * using log directory ‘/home/biocbuild/bbs-3.18-bioc/meat/CAGEfightR.Rcheck’ * using R version 4.3.3 (2024-02-29) * using platform: x86_64-pc-linux-gnu (64-bit) * R was compiled by gcc (Ubuntu 11.4.0-1ubuntu1~22.04) 11.4.0 GNU Fortran (Ubuntu 11.4.0-1ubuntu1~22.04) 11.4.0 * running under: Ubuntu 22.04.4 LTS * using session charset: UTF-8 * checking for file ‘CAGEfightR/DESCRIPTION’ ... OK * checking extension type ... Package * this is package ‘CAGEfightR’ version ‘1.22.0’ * package encoding: UTF-8 * checking package namespace information ... OK * checking package dependencies ... OK * checking if this is a source package ... OK * checking if there is a namespace ... OK * checking for hidden files and directories ... OK * checking for portable file names ... OK * checking for sufficient/correct file permissions ... OK * checking whether package ‘CAGEfightR’ can be installed ... OK * checking installed package size ... OK * checking package directory ... OK * checking ‘build’ directory ... OK * checking DESCRIPTION meta-information ... OK * checking top-level files ... OK * checking for left-over files ... OK * checking index information ... OK * checking package subdirectories ... OK * checking R files for non-ASCII characters ... OK * checking R files for syntax errors ... OK * checking whether the package can be loaded ... OK * checking whether the package can be loaded with stated dependencies ... OK * checking whether the package can be unloaded cleanly ... OK * checking whether the namespace can be loaded with stated dependencies ... OK * checking whether the namespace can be unloaded cleanly ... OK * checking loading without being on the library search path ... OK * checking startup messages can be suppressed ... OK * checking dependencies in R code ... OK * checking S3 generic/method consistency ... OK * checking replacement functions ... OK * checking foreign function calls ... OK * checking R code for possible problems ... OK * checking Rd files ... OK * checking Rd metadata ... OK * checking Rd cross-references ... OK * checking for missing documentation entries ... OK * checking for code/documentation mismatches ... OK * checking Rd \usage sections ... OK * checking Rd contents ... OK * checking for unstated dependencies in examples ... OK * checking contents of ‘data’ directory ... OK * checking data for non-ASCII characters ... OK * checking LazyData ... OK * checking data for ASCII and uncompressed saves ... OK * checking files in ‘vignettes’ ... OK * checking examples ... OK Examples with CPU (user + system) or elapsed time > 5s user system elapsed findLinks 5.977 0.958 6.329 * checking for unstated dependencies in vignettes ... OK * checking package vignettes in ‘inst/doc’ ... OK * checking running R code from vignettes ... ‘Introduction_to_CAGEfightR.Rmd’ using ‘UTF-8’... OK OK * checking re-building of vignette outputs ... OK * checking PDF version of manual ... OK * DONE Status: OK
CAGEfightR.Rcheck/00install.out
############################################################################## ############################################################################## ### ### Running command: ### ### /home/biocbuild/bbs-3.18-bioc/R/bin/R CMD INSTALL CAGEfightR ### ############################################################################## ############################################################################## * installing to library ‘/home/biocbuild/bbs-3.18-bioc/R/site-library’ * installing *source* package ‘CAGEfightR’ ... ** using staged installation ** R ** data *** moving datasets to lazyload DB ** inst ** byte-compile and prepare package for lazy loading ** help *** installing help indices ** building package indices ** installing vignettes ** testing if installed package can be loaded from temporary location ** testing if installed package can be loaded from final location ** testing if installed package keeps a record of temporary installation path * DONE (CAGEfightR)
CAGEfightR.Rcheck/CAGEfightR-Ex.timings
name | user | system | elapsed | |
assignGeneID | 3.395 | 0.100 | 3.495 | |
assignMissingID | 0.983 | 0.011 | 0.994 | |
assignTxID | 0.838 | 0.007 | 0.846 | |
assignTxType | 0.000 | 0.000 | 0.001 | |
balanceBC | 0.001 | 0.000 | 0.000 | |
balanceD | 0.001 | 0.000 | 0.000 | |
bwCommonGenome | 0.035 | 0.005 | 0.041 | |
bwGenomeCompatibility | 0.018 | 0.000 | 0.018 | |
bwValid | 0.008 | 0.000 | 0.008 | |
calcBidirectionality | 0.477 | 0.012 | 0.488 | |
calcComposition | 1.376 | 0.060 | 1.436 | |
calcPooled | 0.105 | 0.000 | 0.105 | |
calcShape | 3.487 | 0.232 | 3.720 | |
calcSupport | 0.096 | 0.004 | 0.100 | |
calcTPM | 0.118 | 0.000 | 0.118 | |
calcTotalTags | 0.054 | 0.008 | 0.062 | |
checkCTSSs | 0.239 | 0.004 | 0.243 | |
checkPeaked | 0.057 | 0.008 | 0.065 | |
checkPooled | 0.054 | 0.008 | 0.063 | |
clusterBidirectionally | 0 | 0 | 0 | |
clusterUnidirectionally | 1.248 | 0.012 | 1.260 | |
combineClusters | 0.704 | 0.004 | 0.707 | |
convertBAM2BigWig | 0 | 0 | 0 | |
convertBED2BigWig | 0.001 | 0.000 | 0.000 | |
convertGRanges2GPos | 0.071 | 0.000 | 0.071 | |
exampleDesign | 0.004 | 0.000 | 0.004 | |
findLinks | 5.977 | 0.958 | 6.329 | |
findStretches | 0.372 | 0.047 | 0.419 | |
quantifyCTSSs | 0.001 | 0.000 | 0.000 | |
quantifyCTSSs2 | 0.000 | 0.000 | 0.001 | |
quantifyClusters | 0.392 | 0.072 | 0.464 | |
quantifyGenes | 1.269 | 0.152 | 1.421 | |
quickEnhancers | 0.000 | 0.000 | 0.001 | |
quickGenes | 0 | 0 | 0 | |
quickTSSs | 0 | 0 | 0 | |
shapeEntropy | 0.000 | 0.000 | 0.001 | |
shapeIQR | 0 | 0 | 0 | |
shapeMean | 0 | 0 | 0 | |
shapeMultimodality | 0 | 0 | 0 | |
subsetByBidirectionality | 0.405 | 0.040 | 0.446 | |
subsetByComposition | 1.189 | 0.084 | 1.273 | |
subsetBySupport | 0.062 | 0.012 | 0.074 | |
swapRanges | 0.169 | 0.008 | 0.177 | |
swapScores | 0.093 | 0.012 | 0.105 | |
trackBalance | 0 | 0 | 0 | |
trackCTSS | 3.202 | 0.460 | 3.661 | |
trackClusters | 2.237 | 0.200 | 2.437 | |
trackLinks | 0.845 | 0.388 | 0.984 | |
trimToPeak | 0.711 | 0.072 | 0.783 | |
trimToPercentiles | 1.830 | 0.076 | 1.906 | |
tuneTagClustering | 0 | 0 | 0 | |
utilsAggregateRows | 0.275 | 0.152 | 0.428 | |
utilsDeStrand | 0.111 | 0.004 | 0.115 | |
utilsScoreOverlaps | 0.059 | 0.000 | 0.059 | |
utilsSimplifyTxDb | 0 | 0 | 0 | |