| Back to Multiple platform build/check report for BioC 3.18: simplified long |
|
This page was generated on 2024-04-17 11:34:53 -0400 (Wed, 17 Apr 2024).
| Hostname | OS | Arch (*) | R version | Installed pkgs |
|---|---|---|---|---|
| nebbiolo2 | Linux (Ubuntu 22.04.3 LTS) | x86_64 | 4.3.3 (2024-02-29) -- "Angel Food Cake" | 4676 |
| palomino4 | Windows Server 2022 Datacenter | x64 | 4.3.3 (2024-02-29 ucrt) -- "Angel Food Cake" | 4414 |
| merida1 | macOS 12.7.1 Monterey | x86_64 | 4.3.3 (2024-02-29) -- "Angel Food Cake" | 4437 |
| Click on any hostname to see more info about the system (e.g. compilers) (*) as reported by 'uname -p', except on Windows and Mac OS X | ||||
|
To the developers/maintainers of the BiocStyle package: - Allow up to 24 hours (and sometimes 48 hours) for your latest push to git@git.bioconductor.org:packages/BiocStyle.git to reflect on this report. See Troubleshooting Build Report for more information. - Use the following Renviron settings to reproduce errors and warnings. - If 'R CMD check' started to fail recently on the Linux builder(s) over a missing dependency, add the missing dependency to 'Suggests:' in your DESCRIPTION file. See Renviron.bioc for more information. |
| Package 190/2266 | Hostname | OS / Arch | INSTALL | BUILD | CHECK | BUILD BIN | ||||||||
| BiocStyle 2.30.0 (landing page) Bioconductor Package
| nebbiolo2 | Linux (Ubuntu 22.04.3 LTS) / x86_64 | OK | OK | OK | |||||||||
| palomino4 | Windows Server 2022 Datacenter / x64 | OK | OK | OK | OK | |||||||||
| merida1 | macOS 12.7.1 Monterey / x86_64 | OK | OK | OK | OK | |||||||||
| kjohnson1 | macOS 13.6.1 Ventura / arm64 | see weekly results here | ||||||||||||
| QUICK STATS | OS / Arch | INSTALL | BUILD | CHECK | BUILD BIN | |||||||||||||||||
| nebbiolo2 | Linux (Ubuntu 22.04.3 LTS) / x86_64 |
|
|
| ||||||||||||||||||
| palomino4 | Windows Server 2022 Datacenter / x64 |
|
|
|
| |||||||||||||||||
| merida1 | macOS 12.7.1 Monterey / x86_64 |
|
|
|
| |||||||||||||||||
| Package 1/33 | Hostname | OS / Arch | INSTALL | BUILD | CHECK | BUILD BIN | ||||||||||||||||
| abseqR 1.20.0 (landing page) JiaHong Fong
| nebbiolo2 | Linux (Ubuntu 22.04.3 LTS) / x86_64 | OK | OK | OK | |||||||||||||||||
| palomino4 | Windows Server 2022 Datacenter / x64 | OK | OK | OK | OK | |||||||||||||||||
| merida1 | macOS 12.7.1 Monterey / x86_64 | OK | OK | OK | OK | |||||||||||||||||
| kjohnson1 | macOS 13.6.1 Ventura / arm64 | see weekly results here | ||||||||||||||||||||
| Package 2/33 | Hostname | OS / Arch | INSTALL | BUILD | CHECK | BUILD BIN | ||||||||||||||||
| ASpli 2.12.0 (landing page) Ariel Chernomoretz
| nebbiolo2 | Linux (Ubuntu 22.04.3 LTS) / x86_64 | OK | OK | WARNINGS | |||||||||||||||||
| palomino4 | Windows Server 2022 Datacenter / x64 | OK | OK | WARNINGS | OK | |||||||||||||||||
| merida1 | macOS 12.7.1 Monterey / x86_64 | OK | OK | WARNINGS | OK | |||||||||||||||||
| kjohnson1 | macOS 13.6.1 Ventura / arm64 | see weekly results here | ||||||||||||||||||||
| Package 3/33 | Hostname | OS / Arch | INSTALL | BUILD | CHECK | BUILD BIN | ||||||||||||||||
| bandle 1.6.0 (landing page) Oliver M. Crook
| nebbiolo2 | Linux (Ubuntu 22.04.3 LTS) / x86_64 | OK | OK | ERROR | |||||||||||||||||
| palomino4 | Windows Server 2022 Datacenter / x64 | OK | OK | OK | OK | |||||||||||||||||
| merida1 | macOS 12.7.1 Monterey / x86_64 | OK | OK | WARNINGS | OK | |||||||||||||||||
| kjohnson1 | macOS 13.6.1 Ventura / arm64 | see weekly results here | ||||||||||||||||||||
| Package 4/33 | Hostname | OS / Arch | INSTALL | BUILD | CHECK | BUILD BIN | ||||||||||||||||
| BiocWorkflowTools 1.28.0 (landing page) Mike Smith
| nebbiolo2 | Linux (Ubuntu 22.04.3 LTS) / x86_64 | OK | OK | ERROR | |||||||||||||||||
| palomino4 | Windows Server 2022 Datacenter / x64 | OK | OK | OK | OK | |||||||||||||||||
| merida1 | macOS 12.7.1 Monterey / x86_64 | OK | OK | OK | OK | |||||||||||||||||
| kjohnson1 | macOS 13.6.1 Ventura / arm64 | see weekly results here | ||||||||||||||||||||
| Package 5/33 | Hostname | OS / Arch | INSTALL | BUILD | CHECK | BUILD BIN | ||||||||||||||||
| BPRMeth 1.28.0 (landing page) Chantriolnt-Andreas Kapourani
| nebbiolo2 | Linux (Ubuntu 22.04.3 LTS) / x86_64 | OK | OK | ERROR | |||||||||||||||||
| palomino4 | Windows Server 2022 Datacenter / x64 | OK | OK | OK | OK | |||||||||||||||||
| merida1 | macOS 12.7.1 Monterey / x86_64 | OK | OK | OK | OK | |||||||||||||||||
| kjohnson1 | macOS 13.6.1 Ventura / arm64 | see weekly results here | ||||||||||||||||||||
| Package 6/33 | Hostname | OS / Arch | INSTALL | BUILD | CHECK | BUILD BIN | ||||||||||||||||
| BubbleTree 2.32.0 (landing page) Todd Creasy
| nebbiolo2 | Linux (Ubuntu 22.04.3 LTS) / x86_64 | OK | OK | OK | |||||||||||||||||
| palomino4 | Windows Server 2022 Datacenter / x64 | OK | OK | OK | OK | |||||||||||||||||
| merida1 | macOS 12.7.1 Monterey / x86_64 | OK | OK | OK | OK | |||||||||||||||||
| kjohnson1 | macOS 13.6.1 Ventura / arm64 | see weekly results here | ||||||||||||||||||||
| Package 7/33 | Hostname | OS / Arch | INSTALL | BUILD | CHECK | BUILD BIN | ||||||||||||||||
| chimeraviz 1.28.0 (landing page) Stian Lågstad
| nebbiolo2 | Linux (Ubuntu 22.04.3 LTS) / x86_64 | OK | OK | OK | |||||||||||||||||
| palomino4 | Windows Server 2022 Datacenter / x64 | OK | OK | OK | OK | |||||||||||||||||
| merida1 | macOS 12.7.1 Monterey / x86_64 | OK | OK | OK | OK | |||||||||||||||||
| kjohnson1 | macOS 13.6.1 Ventura / arm64 | see weekly results here | ||||||||||||||||||||
| Package 8/33 | Hostname | OS / Arch | INSTALL | BUILD | CHECK | BUILD BIN | ||||||||||||||||
| COMPASS 1.40.0 (landing page) Greg Finak
| nebbiolo2 | Linux (Ubuntu 22.04.3 LTS) / x86_64 | OK | OK | OK | |||||||||||||||||
| palomino4 | Windows Server 2022 Datacenter / x64 | OK | OK | OK | OK | |||||||||||||||||
| merida1 | macOS 12.7.1 Monterey / x86_64 | OK | OK | OK | OK | |||||||||||||||||
| kjohnson1 | macOS 13.6.1 Ventura / arm64 | see weekly results here | ||||||||||||||||||||
| Package 9/33 | Hostname | OS / Arch | INSTALL | BUILD | CHECK | BUILD BIN | ||||||||||||||||
Francisco Jose Campos Laborie
| nebbiolo2 | Linux (Ubuntu 22.04.3 LTS) / x86_64 | OK | ERROR | skipped | |||||||||||||||||
| palomino4 | Windows Server 2022 Datacenter / x64 | OK | ERROR | skipped | skipped | |||||||||||||||||
| merida1 | macOS 12.7.1 Monterey / x86_64 | OK | ERROR | skipped | skipped | |||||||||||||||||
| kjohnson1 | macOS 13.6.1 Ventura / arm64 | see weekly results here | ||||||||||||||||||||
| Package 10/33 | Hostname | OS / Arch | INSTALL | BUILD | CHECK | BUILD BIN | ||||||||||||||||
| DiscoRhythm 1.18.0 (landing page) Matthew Carlucci
| nebbiolo2 | Linux (Ubuntu 22.04.3 LTS) / x86_64 | OK | OK | OK | |||||||||||||||||
| palomino4 | Windows Server 2022 Datacenter / x64 | OK | OK | OK | OK | |||||||||||||||||
| merida1 | macOS 12.7.1 Monterey / x86_64 | OK | OK | OK | OK | |||||||||||||||||
| kjohnson1 | macOS 13.6.1 Ventura / arm64 | see weekly results here | ||||||||||||||||||||
| Package 11/33 | Hostname | OS / Arch | INSTALL | BUILD | CHECK | BUILD BIN | ||||||||||||||||
| ExpressionAtlas 1.30.0 (landing page) Pedro Madrigal
| nebbiolo2 | Linux (Ubuntu 22.04.3 LTS) / x86_64 | OK | OK | OK | |||||||||||||||||
| palomino4 | Windows Server 2022 Datacenter / x64 | OK | OK | OK | OK | |||||||||||||||||
| merida1 | macOS 12.7.1 Monterey / x86_64 | OK | OK | OK | OK | |||||||||||||||||
| kjohnson1 | macOS 13.6.1 Ventura / arm64 | see weekly results here | ||||||||||||||||||||
| Package 12/33 | Hostname | OS / Arch | INSTALL | BUILD | CHECK | BUILD BIN | ||||||||||||||||
| geneXtendeR 1.28.0 (landing page) Bohdan Khomtchouk
| nebbiolo2 | Linux (Ubuntu 22.04.3 LTS) / x86_64 | OK | OK | WARNINGS | |||||||||||||||||
| palomino4 | Windows Server 2022 Datacenter / x64 | OK | OK | WARNINGS | OK | |||||||||||||||||
| merida1 | macOS 12.7.1 Monterey / x86_64 | OK | OK | WARNINGS | OK | |||||||||||||||||
| kjohnson1 | macOS 13.6.1 Ventura / arm64 | see weekly results here | ||||||||||||||||||||
| Package 13/33 | Hostname | OS / Arch | INSTALL | BUILD | CHECK | BUILD BIN | ||||||||||||||||
| hypeR 2.0.0 (landing page) Anthony Federico
| nebbiolo2 | Linux (Ubuntu 22.04.3 LTS) / x86_64 | OK | OK | ERROR | |||||||||||||||||
| palomino4 | Windows Server 2022 Datacenter / x64 | OK | OK | WARNINGS | OK | |||||||||||||||||
| merida1 | macOS 12.7.1 Monterey / x86_64 | OK | OK | WARNINGS | OK | |||||||||||||||||
| kjohnson1 | macOS 13.6.1 Ventura / arm64 | see weekly results here | ||||||||||||||||||||
| Package 14/33 | Hostname | OS / Arch | INSTALL | BUILD | CHECK | BUILD BIN | ||||||||||||||||
| iNETgrate 1.0.0 (landing page) Habil Zare
| nebbiolo2 | Linux (Ubuntu 22.04.3 LTS) / x86_64 | OK | OK | OK | |||||||||||||||||
| palomino4 | Windows Server 2022 Datacenter / x64 | OK | OK | OK | OK | |||||||||||||||||
| merida1 | macOS 12.7.1 Monterey / x86_64 | OK | OK | OK | OK | |||||||||||||||||
| kjohnson1 | macOS 13.6.1 Ventura / arm64 | see weekly results here | ||||||||||||||||||||
| Package 15/33 | Hostname | OS / Arch | INSTALL | BUILD | CHECK | BUILD BIN | ||||||||||||||||
| Melissa 1.18.0 (landing page) C. A. Kapourani
| nebbiolo2 | Linux (Ubuntu 22.04.3 LTS) / x86_64 | OK | OK | ERROR | |||||||||||||||||
| palomino4 | Windows Server 2022 Datacenter / x64 | OK | OK | OK | OK | |||||||||||||||||
| merida1 | macOS 12.7.1 Monterey / x86_64 | OK | OK | OK | OK | |||||||||||||||||
| kjohnson1 | macOS 13.6.1 Ventura / arm64 | see weekly results here | ||||||||||||||||||||
| Package 16/33 | Hostname | OS / Arch | INSTALL | BUILD | CHECK | BUILD BIN | ||||||||||||||||
| meshr 2.8.0 (landing page) Koki Tsuyuzaki
| nebbiolo2 | Linux (Ubuntu 22.04.3 LTS) / x86_64 | OK | OK | OK | |||||||||||||||||
| palomino4 | Windows Server 2022 Datacenter / x64 | OK | OK | OK | OK | |||||||||||||||||
| merida1 | macOS 12.7.1 Monterey / x86_64 | OK | OK | OK | OK | |||||||||||||||||
| kjohnson1 | macOS 13.6.1 Ventura / arm64 | see weekly results here | ||||||||||||||||||||
| Package 17/33 | Hostname | OS / Arch | INSTALL | BUILD | CHECK | BUILD BIN | ||||||||||||||||
| MSnID 1.36.0 (landing page) Vlad Petyuk
| nebbiolo2 | Linux (Ubuntu 22.04.3 LTS) / x86_64 | OK | OK | OK | |||||||||||||||||
| palomino4 | Windows Server 2022 Datacenter / x64 | OK | OK | OK | OK | |||||||||||||||||
| merida1 | macOS 12.7.1 Monterey / x86_64 | OK | OK | OK | OK | |||||||||||||||||
| kjohnson1 | macOS 13.6.1 Ventura / arm64 | see weekly results here | ||||||||||||||||||||
| Package 18/33 | Hostname | OS / Arch | INSTALL | BUILD | CHECK | BUILD BIN | ||||||||||||||||
| netboost 2.10.0 (landing page) Pascal Schlosser
| nebbiolo2 | Linux (Ubuntu 22.04.3 LTS) / x86_64 | OK | OK | OK | |||||||||||||||||
| palomino4 | Windows Server 2022 Datacenter / x64 | ... NOT SUPPORTED ... | ||||||||||||||||||||
| merida1 | macOS 12.7.1 Monterey / x86_64 | OK | OK | WARNINGS | OK | |||||||||||||||||
| kjohnson1 | macOS 13.6.1 Ventura / arm64 | see weekly results here | ||||||||||||||||||||
| Package 19/33 | Hostname | OS / Arch | INSTALL | BUILD | CHECK | BUILD BIN | ||||||||||||||||
| netresponse 1.62.0 (landing page) Leo Lahti
| nebbiolo2 | Linux (Ubuntu 22.04.3 LTS) / x86_64 | OK | OK | ERROR | |||||||||||||||||
| palomino4 | Windows Server 2022 Datacenter / x64 | OK | OK | OK | OK | |||||||||||||||||
| merida1 | macOS 12.7.1 Monterey / x86_64 | OK | OK | OK | OK | |||||||||||||||||
| kjohnson1 | macOS 13.6.1 Ventura / arm64 | see weekly results here | ||||||||||||||||||||
| Package 20/33 | Hostname | OS / Arch | INSTALL | BUILD | CHECK | BUILD BIN | ||||||||||||||||
| PathoStat 1.28.0 (landing page) Solaiappan Manimaran
| nebbiolo2 | Linux (Ubuntu 22.04.3 LTS) / x86_64 | OK | OK | OK | |||||||||||||||||
| palomino4 | Windows Server 2022 Datacenter / x64 | OK | OK | OK | OK | |||||||||||||||||
| merida1 | macOS 12.7.1 Monterey / x86_64 | OK | OK | OK | OK | |||||||||||||||||
| kjohnson1 | macOS 13.6.1 Ventura / arm64 | see weekly results here | ||||||||||||||||||||
| Package 21/33 | Hostname | OS / Arch | INSTALL | BUILD | CHECK | BUILD BIN | ||||||||||||||||
| PhyloProfile 1.16.5 (landing page) Vinh Tran
| nebbiolo2 | Linux (Ubuntu 22.04.3 LTS) / x86_64 | OK | OK | OK | |||||||||||||||||
| palomino4 | Windows Server 2022 Datacenter / x64 | OK | OK | OK | OK | |||||||||||||||||
| merida1 | macOS 12.7.1 Monterey / x86_64 | OK | OK | OK | OK | |||||||||||||||||
| kjohnson1 | macOS 13.6.1 Ventura / arm64 | see weekly results here | ||||||||||||||||||||
| Package 22/33 | Hostname | OS / Arch | INSTALL | BUILD | CHECK | BUILD BIN | ||||||||||||||||
| Pigengene 1.28.0 (landing page) Habil Zare
| nebbiolo2 | Linux (Ubuntu 22.04.3 LTS) / x86_64 | OK | OK | OK | |||||||||||||||||
| palomino4 | Windows Server 2022 Datacenter / x64 | OK | OK | OK | OK | |||||||||||||||||
| merida1 | macOS 12.7.1 Monterey / x86_64 | OK | OK | OK | OK | |||||||||||||||||
| kjohnson1 | macOS 13.6.1 Ventura / arm64 | see weekly results here | ||||||||||||||||||||
| Package 23/33 | Hostname | OS / Arch | INSTALL | BUILD | CHECK | BUILD BIN | ||||||||||||||||
| rebook 1.12.0 (landing page) Aaron Lun
| nebbiolo2 | Linux (Ubuntu 22.04.3 LTS) / x86_64 | OK | OK | WARNINGS | |||||||||||||||||
| palomino4 | Windows Server 2022 Datacenter / x64 | OK | OK | WARNINGS | OK | |||||||||||||||||
| merida1 | macOS 12.7.1 Monterey / x86_64 | OK | OK | WARNINGS | OK | |||||||||||||||||
| kjohnson1 | macOS 13.6.1 Ventura / arm64 | see weekly results here | ||||||||||||||||||||
| Package 24/33 | Hostname | OS / Arch | INSTALL | BUILD | CHECK | BUILD BIN | ||||||||||||||||
| RegEnrich 1.12.1 (landing page) Weiyang Tao
| nebbiolo2 | Linux (Ubuntu 22.04.3 LTS) / x86_64 | OK | OK | OK | |||||||||||||||||
| palomino4 | Windows Server 2022 Datacenter / x64 | OK | OK | OK | OK | |||||||||||||||||
| merida1 | macOS 12.7.1 Monterey / x86_64 | OK | OK | OK | OK | |||||||||||||||||
| kjohnson1 | macOS 13.6.1 Ventura / arm64 | see weekly results here | ||||||||||||||||||||
| Package 25/33 | Hostname | OS / Arch | INSTALL | BUILD | CHECK | BUILD BIN | ||||||||||||||||
| regionReport 1.36.0 (landing page) Leonardo Collado-Torres
| nebbiolo2 | Linux (Ubuntu 22.04.3 LTS) / x86_64 | OK | OK | OK | |||||||||||||||||
| palomino4 | Windows Server 2022 Datacenter / x64 | OK | OK | OK | OK | |||||||||||||||||
| merida1 | macOS 12.7.1 Monterey / x86_64 | OK | OK | OK | OK | |||||||||||||||||
| kjohnson1 | macOS 13.6.1 Ventura / arm64 | see weekly results here | ||||||||||||||||||||
| Package 26/33 | Hostname | OS / Arch | INSTALL | BUILD | CHECK | BUILD BIN | ||||||||||||||||
| Rmmquant 1.20.0 (landing page) Zytnicki Matthias
| nebbiolo2 | Linux (Ubuntu 22.04.3 LTS) / x86_64 | OK | OK | OK | |||||||||||||||||
| palomino4 | Windows Server 2022 Datacenter / x64 | OK | OK | OK | OK | |||||||||||||||||
| merida1 | macOS 12.7.1 Monterey / x86_64 | OK | OK | OK | OK | |||||||||||||||||
| kjohnson1 | macOS 13.6.1 Ventura / arm64 | see weekly results here | ||||||||||||||||||||
| Package 27/33 | Hostname | OS / Arch | INSTALL | BUILD | CHECK | BUILD BIN | ||||||||||||||||
| RPA 1.58.0 (landing page) Leo Lahti
| nebbiolo2 | Linux (Ubuntu 22.04.3 LTS) / x86_64 | OK | OK | OK | |||||||||||||||||
| palomino4 | Windows Server 2022 Datacenter / x64 | OK | OK | OK | OK | |||||||||||||||||
| merida1 | macOS 12.7.1 Monterey / x86_64 | OK | OK | OK | OK | |||||||||||||||||
| kjohnson1 | macOS 13.6.1 Ventura / arm64 | see weekly results here | ||||||||||||||||||||
| Package 28/33 | Hostname | OS / Arch | INSTALL | BUILD | CHECK | BUILD BIN | ||||||||||||||||
| Rqc 1.36.0 (landing page) Welliton Souza
| nebbiolo2 | Linux (Ubuntu 22.04.3 LTS) / x86_64 | OK | OK | OK | |||||||||||||||||
| palomino4 | Windows Server 2022 Datacenter / x64 | OK | OK | OK | OK | |||||||||||||||||
| merida1 | macOS 12.7.1 Monterey / x86_64 | OK | OK | OK | OK | |||||||||||||||||
| kjohnson1 | macOS 13.6.1 Ventura / arm64 | see weekly results here | ||||||||||||||||||||
| Package 29/33 | Hostname | OS / Arch | INSTALL | BUILD | CHECK | BUILD BIN | ||||||||||||||||
| sangeranalyseR 1.12.0 (landing page) Kuan-Hao Chao
| nebbiolo2 | Linux (Ubuntu 22.04.3 LTS) / x86_64 | OK | OK | WARNINGS | |||||||||||||||||
| palomino4 | Windows Server 2022 Datacenter / x64 | OK | OK | WARNINGS | OK | |||||||||||||||||
| merida1 | macOS 12.7.1 Monterey / x86_64 | OK | OK | WARNINGS | OK | |||||||||||||||||
| kjohnson1 | macOS 13.6.1 Ventura / arm64 | see weekly results here | ||||||||||||||||||||
| Package 30/33 | Hostname | OS / Arch | INSTALL | BUILD | CHECK | BUILD BIN | ||||||||||||||||
| scMET 1.4.0 (landing page) Andreas C. Kapourani
| nebbiolo2 | Linux (Ubuntu 22.04.3 LTS) / x86_64 | OK | OK | ERROR | |||||||||||||||||
| palomino4 | Windows Server 2022 Datacenter / x64 | OK | OK | OK | OK | |||||||||||||||||
| merida1 | macOS 12.7.1 Monterey / x86_64 | OK | OK | OK | OK | |||||||||||||||||
| kjohnson1 | macOS 13.6.1 Ventura / arm64 | see weekly results here | ||||||||||||||||||||
| Package 31/33 | Hostname | OS / Arch | INSTALL | BUILD | CHECK | BUILD BIN | ||||||||||||||||
| scTensor 2.12.0 (landing page) Koki Tsuyuzaki
| nebbiolo2 | Linux (Ubuntu 22.04.3 LTS) / x86_64 | OK | OK | WARNINGS | |||||||||||||||||
| palomino4 | Windows Server 2022 Datacenter / x64 | OK | OK | WARNINGS | OK | |||||||||||||||||
| merida1 | macOS 12.7.1 Monterey / x86_64 | OK | OK | WARNINGS | OK | |||||||||||||||||
| kjohnson1 | macOS 13.6.1 Ventura / arm64 | see weekly results here | ||||||||||||||||||||
| Package 32/33 | Hostname | OS / Arch | INSTALL | BUILD | CHECK | BUILD BIN | ||||||||||||||||
| scTGIF 1.16.0 (landing page) Koki Tsuyuzaki
| nebbiolo2 | Linux (Ubuntu 22.04.3 LTS) / x86_64 | OK | OK | OK | |||||||||||||||||
| palomino4 | Windows Server 2022 Datacenter / x64 | OK | OK | OK | OK | |||||||||||||||||
| merida1 | macOS 12.7.1 Monterey / x86_64 | OK | OK | OK | OK | |||||||||||||||||
| kjohnson1 | macOS 13.6.1 Ventura / arm64 | see weekly results here | ||||||||||||||||||||
| Package 33/33 | Hostname | OS / Arch | INSTALL | BUILD | CHECK | BUILD BIN | ||||||||||||||||
| srnadiff 1.22.2 (landing page) Zytnicki Matthias
| nebbiolo2 | Linux (Ubuntu 22.04.3 LTS) / x86_64 | OK | OK | WARNINGS | |||||||||||||||||
| palomino4 | Windows Server 2022 Datacenter / x64 | OK | OK | WARNINGS | OK | |||||||||||||||||
| merida1 | macOS 12.7.1 Monterey / x86_64 | OK | OK | WARNINGS | OK | |||||||||||||||||
| kjohnson1 | macOS 13.6.1 Ventura / arm64 | see weekly results here | ||||||||||||||||||||