| Back to Multiple platform build/check report for BioC 3.18: simplified long | 
 | 
This page was generated on 2023-11-02 11:40:27 -0400 (Thu, 02 Nov 2023).
| Hostname | OS | Arch (*) | R version | Installed pkgs | 
|---|---|---|---|---|
| nebbiolo2 | Linux (Ubuntu 22.04.2 LTS) | x86_64 | 4.3.1 (2023-06-16) -- "Beagle Scouts" | 4729 | 
| palomino4 | Windows Server 2022 Datacenter | x64 | 4.3.1 (2023-06-16 ucrt) -- "Beagle Scouts" | 4463 | 
| lconway | macOS 12.6.5 Monterey | x86_64 | 4.3.1 Patched (2023-06-17 r84564) -- "Beagle Scouts" | 4478 | 
| kunpeng2 | Linux (openEuler 22.03 LTS-SP1) | aarch64 | 4.3.1 (2023-06-16) -- "Beagle Scouts" | 4464 | 
| Click on any hostname to see more info about the system (e.g. compilers) (*) as reported by 'uname -p', except on Windows and Mac OS X | ||||
| Package 186/2266 | Hostname | OS / Arch | INSTALL | BUILD | CHECK | BUILD BIN | ||||||||
| BiocPkgTools 1.20.0  (landing page) Sean Davis 
 | nebbiolo2 | Linux (Ubuntu 22.04.2 LTS) / x86_64 | OK | OK | OK |  | ||||||||
| palomino4 | Windows Server 2022 Datacenter / x64 | OK | OK | OK | OK |  | ||||||||
| lconway | macOS 12.6.5 Monterey / x86_64 | OK | OK | OK | OK |  | ||||||||
| kjohnson1 | macOS 13.6.1 Ventura / arm64 | see weekly results here | ||||||||||||
| kunpeng2 | Linux (openEuler 22.03 LTS-SP1) / aarch64 | OK | OK | OK | ||||||||||
| To the developers/maintainers of the BiocPkgTools package: - Allow up to 24 hours (and sometimes 48 hours) for your latest push to git@git.bioconductor.org:packages/BiocPkgTools.git to reflect on this report. See Troubleshooting Build Report for more information. - Use the following Renviron settings to reproduce errors and warnings. - If 'R CMD check' started to fail recently on the Linux builder(s) over a missing dependency, add the missing dependency to 'Suggests:' in your DESCRIPTION file. See Renviron.bioc for more information. - See Martin Grigorov's blog post for how to debug Linux ARM64 related issues on a x86_64 host. | 
| Package: BiocPkgTools | 
| Version: 1.20.0 | 
| Command: /home/biocbuild/R/R-4.3.1/bin/R CMD check --install=check:BiocPkgTools.install-out.txt --library=/home/biocbuild/R/R-4.3.1/site-library --no-vignettes --timings BiocPkgTools_1.20.0.tar.gz | 
| StartedAt: 2023-11-02 08:42:12 -0000 (Thu, 02 Nov 2023) | 
| EndedAt: 2023-11-02 08:49:31 -0000 (Thu, 02 Nov 2023) | 
| EllapsedTime: 439.1 seconds | 
| RetCode: 0 | 
| Status: OK | 
| CheckDir: BiocPkgTools.Rcheck | 
| Warnings: 0 | 
##############################################################################
##############################################################################
###
### Running command:
###
###   /home/biocbuild/R/R-4.3.1/bin/R CMD check --install=check:BiocPkgTools.install-out.txt --library=/home/biocbuild/R/R-4.3.1/site-library --no-vignettes --timings BiocPkgTools_1.20.0.tar.gz
###
##############################################################################
##############################################################################
* using log directory ‘/home/biocbuild/bbs-3.18-bioc/meat/BiocPkgTools.Rcheck’
* using R version 4.3.1 (2023-06-16)
* using platform: aarch64-unknown-linux-gnu (64-bit)
* R was compiled by
    gcc (GCC) 10.3.1
    GNU Fortran (GCC) 10.3.1
* running under: openEuler 22.03 (LTS-SP1)
* using session charset: UTF-8
* using option ‘--no-vignettes’
* checking for file ‘BiocPkgTools/DESCRIPTION’ ... OK
* checking extension type ... Package
* this is package ‘BiocPkgTools’ version ‘1.20.0’
* package encoding: UTF-8
* checking package namespace information ... OK
* checking package dependencies ... OK
* checking if this is a source package ... OK
* checking if there is a namespace ... OK
* checking for hidden files and directories ... OK
* checking for portable file names ... OK
* checking for sufficient/correct file permissions ... OK
* checking whether package ‘BiocPkgTools’ can be installed ... OK
* checking installed package size ... OK
* checking package directory ... OK
* checking ‘build’ directory ... OK
* checking DESCRIPTION meta-information ... OK
* checking top-level files ... OK
* checking for left-over files ... OK
* checking index information ... OK
* checking package subdirectories ... OK
* checking R files for non-ASCII characters ... OK
* checking R files for syntax errors ... OK
* checking whether the package can be loaded ... OK
* checking whether the package can be loaded with stated dependencies ... OK
* checking whether the package can be unloaded cleanly ... OK
* checking whether the namespace can be loaded with stated dependencies ... OK
* checking whether the namespace can be unloaded cleanly ... OK
* checking loading without being on the library search path ... OK
* checking dependencies in R code ... NOTE
Unexported objects imported by ':::' calls:
  ‘BiocManager:::.repositories’ ‘BiocManager:::.repositories_base’
  ‘BiocManager:::.repositories_bioc’
  ‘BiocManager:::.repository_container_version’
  ‘BiocManager:::.version_bioc’
  See the note in ?`:::` about the use of this operator.
* checking S3 generic/method consistency ... OK
* checking replacement functions ... OK
* checking foreign function calls ... OK
* checking R code for possible problems ... OK
* checking Rd files ... OK
* checking Rd metadata ... OK
* checking Rd cross-references ... OK
* checking for missing documentation entries ... OK
* checking for code/documentation mismatches ... OK
* checking Rd \usage sections ... OK
* checking Rd contents ... OK
* checking for unstated dependencies in examples ... OK
* checking files in ‘vignettes’ ... OK
* checking examples ... OK
Examples with CPU (user + system) or elapsed time > 5s
                              user system elapsed
get_bioc_data               14.515  2.418  25.219
firstInBioc                 14.498  0.160  19.893
biocBuildReport              5.444  9.136  99.141
biocDownloadStats           12.499  1.605  20.597
pkgCombDependencyGain        8.291  0.201  19.108
class-dependencies           7.628  0.757   9.687
pkgDepMetrics                7.314  0.135  16.957
buildPkgDependencyDataFrame  2.774  0.046   6.222
biocRevDepEmail              2.482  0.032  13.160
pkgDownloadRank              1.907  0.085  12.979
subgraphByDegree             1.368  0.029   5.941
* checking for unstated dependencies in ‘tests’ ... OK
* checking tests ...
  Running ‘testthat.R’
 OK
* checking for unstated dependencies in vignettes ... OK
* checking package vignettes in ‘inst/doc’ ... OK
* checking running R code from vignettes ... SKIPPED
* checking re-building of vignette outputs ... SKIPPED
* checking PDF version of manual ... OK
* DONE
Status: 1 NOTE
See
  ‘/home/biocbuild/bbs-3.18-bioc/meat/BiocPkgTools.Rcheck/00check.log’
for details.
BiocPkgTools.Rcheck/00install.out
############################################################################## ############################################################################## ### ### Running command: ### ### /home/biocbuild/R/R-4.3.1/bin/R CMD INSTALL BiocPkgTools ### ############################################################################## ############################################################################## * installing to library ‘/home/biocbuild/R/R-4.3.1/site-library’ * installing *source* package ‘BiocPkgTools’ ... ** using staged installation ** R ** inst ** byte-compile and prepare package for lazy loading ** help *** installing help indices ** building package indices ** installing vignettes ** testing if installed package can be loaded from temporary location ** testing if installed package can be loaded from final location ** testing if installed package keeps a record of temporary installation path * DONE (BiocPkgTools)
BiocPkgTools.Rcheck/tests/testthat.Rout
R version 4.3.1 (2023-06-16) -- "Beagle Scouts"
Copyright (C) 2023 The R Foundation for Statistical Computing
Platform: aarch64-unknown-linux-gnu (64-bit)
R is free software and comes with ABSOLUTELY NO WARRANTY.
You are welcome to redistribute it under certain conditions.
Type 'license()' or 'licence()' for distribution details.
R is a collaborative project with many contributors.
Type 'contributors()' for more information and
'citation()' on how to cite R or R packages in publications.
Type 'demo()' for some demos, 'help()' for on-line help, or
'help.start()' for an HTML browser interface to help.
Type 'q()' to quit R.
> library(testthat)
> library(BiocPkgTools)
Loading required package: htmlwidgets
> 
> test_check("BiocPkgTools")
trying URL 'https://bioconductor.org/packages/3.18/bioc/vignettes/a4/inst/doc/a4vignette.pdf'
Content type 'application/pdf' length 1305645 bytes (1.2 MB)
==================================================
downloaded 1.2 MB
[ FAIL 0 | WARN 0 | SKIP 0 | PASS 27 ]
> 
> proc.time()
   user  system elapsed 
 32.615   4.398  59.705 
BiocPkgTools.Rcheck/BiocPkgTools-Ex.timings
| name | user | system | elapsed | |
| activitySince | 0.000 | 0.000 | 0.001 | |
| anacondaDownloadStats | 1.632 | 0.184 | 3.301 | |
| biocBuildReport | 5.444 | 9.136 | 99.141 | |
| biocDownloadStats | 12.499 | 1.605 | 20.597 | |
| biocMaintained | 2.432 | 0.088 | 4.579 | |
| biocPkgList | 1.324 | 0.033 | 4.009 | |
| biocPkgRanges | 0 | 0 | 0 | |
| biocRevDepEmail | 2.482 | 0.032 | 13.160 | |
| buildPkgDependencyDataFrame | 2.774 | 0.046 | 6.222 | |
| buildPkgDependencyIgraph | 1.459 | 0.037 | 4.166 | |
| class-dependencies | 7.628 | 0.757 | 9.687 | |
| firstInBioc | 14.498 | 0.160 | 19.893 | |
| generateBiocPkgDOI | 0.000 | 0.000 | 0.001 | |
| getBiocVignette | 1.254 | 0.011 | 2.952 | |
| get_bioc_data | 14.515 | 2.418 | 25.219 | |
| get_cre_orcids | 0.009 | 0.000 | 0.012 | |
| githubDetails | 1.664 | 0.091 | 3.624 | |
| githubURLParts | 1.226 | 0.145 | 4.600 | |
| inducedSubgraphByPkgs | 1.366 | 0.026 | 3.167 | |
| latestPkgStats | 0 | 0 | 0 | |
| orcid_table | 0 | 0 | 0 | |
| pkgBiocDeps | 1.996 | 0.131 | 2.138 | |
| pkgBiocRevDeps | 2.147 | 0.027 | 2.178 | |
| pkgCombDependencyGain | 8.291 | 0.201 | 19.108 | |
| pkgDepImports | 0.222 | 0.000 | 0.222 | |
| pkgDepMetrics | 7.314 | 0.135 | 16.957 | |
| pkgDownloadRank | 1.907 | 0.085 | 12.979 | |
| pkgDownloadStats | 0.048 | 0.000 | 0.353 | |
| problemPage | 0.000 | 0.000 | 0.001 | |
| repositoryStats | 0.063 | 0.000 | 0.064 | |
| subgraphByDegree | 1.368 | 0.029 | 5.941 | |